BEGIN:VCALENDAR
VERSION:2.0
PRODID:-//WHATtoday.ca - ECPv6.15.20//NONSGML v1.0//EN
CALSCALE:GREGORIAN
METHOD:PUBLISH
X-WR-CALNAME:WHATtoday.ca
X-ORIGINAL-URL:https://whattoday.ca
X-WR-CALDESC:Events for WHATtoday.ca
REFRESH-INTERVAL;VALUE=DURATION:PT1H
X-Robots-Tag:noindex
X-PUBLISHED-TTL:PT1H
BEGIN:VTIMEZONE
TZID:America/Toronto
BEGIN:DAYLIGHT
TZOFFSETFROM:-0500
TZOFFSETTO:-0400
TZNAME:EDT
DTSTART:20250309T070000
END:DAYLIGHT
BEGIN:STANDARD
TZOFFSETFROM:-0400
TZOFFSETTO:-0500
TZNAME:EST
DTSTART:20251102T060000
END:STANDARD
BEGIN:DAYLIGHT
TZOFFSETFROM:-0500
TZOFFSETTO:-0400
TZNAME:EDT
DTSTART:20260308T070000
END:DAYLIGHT
BEGIN:STANDARD
TZOFFSETFROM:-0400
TZOFFSETTO:-0500
TZNAME:EST
DTSTART:20261101T060000
END:STANDARD
BEGIN:DAYLIGHT
TZOFFSETFROM:-0500
TZOFFSETTO:-0400
TZNAME:EDT
DTSTART:20270314T070000
END:DAYLIGHT
BEGIN:STANDARD
TZOFFSETFROM:-0400
TZOFFSETTO:-0500
TZNAME:EST
DTSTART:20271107T060000
END:STANDARD
END:VTIMEZONE
BEGIN:VEVENT
DTSTART;TZID=America/Toronto:20260301T133000
DTEND;TZID=America/Toronto:20260301T133000
DTSTAMP:20260424T061723
CREATED:20250813T154508Z
LAST-MODIFIED:20250813T154514Z
UID:10024713-1772371800-1772371800@whattoday.ca
SUMMARY:Midnight Madness
DESCRIPTION:
URL:https://whattoday.ca/event/midnight-madness-9/
LOCATION:Peterborough Theatre Guild\, 364 Rogers St\, Peterborough\, ON\, K9H 1W7\, Canada
CATEGORIES:Art & Theatre
ORGANIZER;CN="Peterborough Theatre Guild":MAILTO:info@peterboroughtheatreguild.com
END:VEVENT
BEGIN:VEVENT
DTSTART;TZID=America/Toronto:20260305T193000
DTEND;TZID=America/Toronto:20260305T193000
DTSTAMP:20260424T061723
CREATED:20250813T154314Z
LAST-MODIFIED:20250813T154314Z
UID:10024707-1772739000-1772739000@whattoday.ca
SUMMARY:Midnight Madness
DESCRIPTION:
URL:https://whattoday.ca/event/midnight-madness-3/
LOCATION:Peterborough Theatre Guild\, 364 Rogers St\, Peterborough\, ON\, K9H 1W7\, Canada
CATEGORIES:Art & Theatre
ORGANIZER;CN="Peterborough Theatre Guild":MAILTO:info@peterboroughtheatreguild.com
END:VEVENT
BEGIN:VEVENT
DTSTART;TZID=America/Toronto:20260306T180000
DTEND;TZID=America/Toronto:20260306T230000
DTSTAMP:20260424T061723
CREATED:20260219T133424Z
LAST-MODIFIED:20260219T133424Z
UID:10029742-1772820000-1772838000@whattoday.ca
SUMMARY:First Friday PTBO
DESCRIPTION:
URL:https://whattoday.ca/event/first-friday-ptbo-12/
LOCATION:Downtown Peterborough\, 313 Water St\, Peterborough\, ON
CATEGORIES:Art & Theatre,Entertainment,Free,More
ORGANIZER;CN="First Friday PTBO":MAILTO:firstfridayptbo@gmail.com
END:VEVENT
BEGIN:VEVENT
DTSTART;TZID=America/Toronto:20260306T193000
DTEND;TZID=America/Toronto:20260306T193000
DTSTAMP:20260424T061723
CREATED:20250813T154328Z
LAST-MODIFIED:20250813T154328Z
UID:10024708-1772825400-1772825400@whattoday.ca
SUMMARY:Midnight Madness
DESCRIPTION:
URL:https://whattoday.ca/event/midnight-madness-4/
LOCATION:Peterborough Theatre Guild\, 364 Rogers St\, Peterborough\, ON\, K9H 1W7\, Canada
CATEGORIES:Art & Theatre
ORGANIZER;CN="Peterborough Theatre Guild":MAILTO:info@peterboroughtheatreguild.com
END:VEVENT
BEGIN:VEVENT
DTSTART;TZID=America/Toronto:20260307T130000
DTEND;TZID=America/Toronto:20260307T160000
DTSTAMP:20260424T061723
CREATED:20260218T195628Z
LAST-MODIFIED:20260218T195628Z
UID:10029741-1772888400-1772899200@whattoday.ca
SUMMARY:Art You’re Allowed to Touch: Lynda Todd Brings a Barrier-Free Exhibit
DESCRIPTION:This captivating show continues Todd’s powerful Migration Series\, featuring richly textured portrayals of polar bears\, penguins\, and whales\, created using mixed media techniques. Each piece captures the movement\, resilience\, and beauty of migratory wildlife across land\, air and sea.\nTodd’s work has gained major recognition. Her piece Salmon\, Salmon\, Salmon has been selected for display in the Ontario Parliament (Toronto\, 2026) through the Art a la Carte collection. She is also the recipient of the Outstanding Emerging Artist Award from the Electric City Culture Council and has exhibited internationally\, including in Korea and Japan.\nUnlike a traditional art exhibit\, this is a hands-on sensory experience where visitors are encouraged to engage through touch\, creating a deeper connection to the artwork and the natural world it represents.\nTodd explains\, “Most galleries teach people not to touch. I’m doing the opposite. This exhibit is built so everyone can experience art fully\, not just look at it.”\nAccessibility is a cornerstone of this exhibition. Visitors can scan QR codes beside each piece to hear audio descriptions\, and large-print and Braille identification cards will be available to support a more inclusive gallery experience.\n“Art is something you feel. This exhibit invites everyone into the experience\, through touch\, texture\, and connection.”\n– Lynda Todd\nTodd is visually impaired and colour blind\, but has found her niche through bold colours and strong textures. She is passionate about proving that accessible exhibits can be created\, and hopes galleries everywhere begin making inclusion the standard.
URL:https://whattoday.ca/event/art-youre-allowed-to-touch-lynda-todd-brings-a-barrier-free-exhibit/
LOCATION:ECCO Gallery\, 46 Queen St.\, Lakefield\, ON\, K0L 2H0\, Canada
CATEGORIES:Art & Theatre,Business,Entertainment,Family,Free,More
ORGANIZER;CN="Lynda Todd":MAILTO:lyndatoddartist@gmail.com
END:VEVENT
BEGIN:VEVENT
DTSTART;TZID=America/Toronto:20260307T140000
DTEND;TZID=America/Toronto:20260307T140000
DTSTAMP:20260424T061723
CREATED:20260306T172453Z
LAST-MODIFIED:20260306T172505Z
UID:10030015-1772892000-1772892000@whattoday.ca
SUMMARY:In Conversation: Cole Swanson and Scott Rogers
DESCRIPTION:
URL:https://whattoday.ca/event/in-conversation-cole-swanson-and-scott-rogers/
LOCATION:Art Gallery of Peterborough\, 250 Crescent St\, Peterborough\, Ontario\, K9J 2G1\, Canada
CATEGORIES:Art & Theatre
ORGANIZER;CN="Art Gallery of Peterborough":MAILTO:gallery@agp.on.ca
END:VEVENT
BEGIN:VEVENT
DTSTART;TZID=America/Toronto:20260307T193000
DTEND;TZID=America/Toronto:20260307T193000
DTSTAMP:20260424T061723
CREATED:20250813T154345Z
LAST-MODIFIED:20250813T154345Z
UID:10024709-1772911800-1772911800@whattoday.ca
SUMMARY:Midnight Madness
DESCRIPTION:
URL:https://whattoday.ca/event/midnight-madness-5/
LOCATION:Peterborough Theatre Guild\, 364 Rogers St\, Peterborough\, ON\, K9H 1W7\, Canada
CATEGORIES:Art & Theatre
ORGANIZER;CN="Peterborough Theatre Guild":MAILTO:info@peterboroughtheatreguild.com
END:VEVENT
BEGIN:VEVENT
DTSTART;TZID=America/Toronto:20260308T113000
DTEND;TZID=America/Toronto:20260308T133000
DTSTAMP:20260424T061723
CREATED:20260306T172558Z
LAST-MODIFIED:20260306T172558Z
UID:10030016-1772969400-1772976600@whattoday.ca
SUMMARY:Art Together: Finger Paint Storyboards (Ages 2-5)
DESCRIPTION:
URL:https://whattoday.ca/event/art-together-finger-paint-storyboards-ages-2-5/
LOCATION:Art Gallery of Peterborough\, 250 Crescent St\, Peterborough\, Ontario\, K9J 2G1\, Canada
CATEGORIES:Art & Theatre,Kids
ORGANIZER;CN="Art Gallery of Peterborough":MAILTO:gallery@agp.on.ca
END:VEVENT
BEGIN:VEVENT
DTSTART;TZID=America/Toronto:20260308T133000
DTEND;TZID=America/Toronto:20260308T133000
DTSTAMP:20260424T061723
CREATED:20250813T154529Z
LAST-MODIFIED:20250813T154529Z
UID:10024714-1772976600-1772976600@whattoday.ca
SUMMARY:Midnight Madness
DESCRIPTION:
URL:https://whattoday.ca/event/midnight-madness-10/
LOCATION:Peterborough Theatre Guild\, 364 Rogers St\, Peterborough\, ON\, K9H 1W7\, Canada
CATEGORIES:Art & Theatre
ORGANIZER;CN="Peterborough Theatre Guild":MAILTO:info@peterboroughtheatreguild.com
END:VEVENT
BEGIN:VEVENT
DTSTART;TZID=America/Toronto:20260312T180000
DTEND;TZID=America/Toronto:20260312T200000
DTSTAMP:20260424T061723
CREATED:20260306T172801Z
LAST-MODIFIED:20260306T172801Z
UID:10030019-1773338400-1773345600@whattoday.ca
SUMMARY:Adult Art Camp: Eco-Printing
DESCRIPTION:
URL:https://whattoday.ca/event/adult-art-camp-eco-printing-2/
LOCATION:Art Gallery of Peterborough\, 250 Crescent St\, Peterborough\, Ontario\, K9J 2G1\, Canada
CATEGORIES:Art & Theatre,Workshops
ORGANIZER;CN="Art Gallery of Peterborough":MAILTO:gallery@agp.on.ca
END:VEVENT
BEGIN:VEVENT
DTSTART;TZID=America/Toronto:20260312T193000
DTEND;TZID=America/Toronto:20260312T193000
DTSTAMP:20260424T061723
CREATED:20250813T154403Z
LAST-MODIFIED:20250813T154403Z
UID:10024710-1773343800-1773343800@whattoday.ca
SUMMARY:Midnight Madness
DESCRIPTION:
URL:https://whattoday.ca/event/midnight-madness-6/
LOCATION:Peterborough Theatre Guild\, 364 Rogers St\, Peterborough\, ON\, K9H 1W7\, Canada
CATEGORIES:Art & Theatre
ORGANIZER;CN="Peterborough Theatre Guild":MAILTO:info@peterboroughtheatreguild.com
END:VEVENT
BEGIN:VEVENT
DTSTART;TZID=America/Toronto:20260313T193000
DTEND;TZID=America/Toronto:20260313T193000
DTSTAMP:20260424T061723
CREATED:20250813T154420Z
LAST-MODIFIED:20250813T154420Z
UID:10024711-1773430200-1773430200@whattoday.ca
SUMMARY:Midnight Madness
DESCRIPTION:
URL:https://whattoday.ca/event/midnight-madness-7/
LOCATION:Peterborough Theatre Guild\, 364 Rogers St\, Peterborough\, ON\, K9H 1W7\, Canada
CATEGORIES:Art & Theatre
ORGANIZER;CN="Peterborough Theatre Guild":MAILTO:info@peterboroughtheatreguild.com
END:VEVENT
BEGIN:VEVENT
DTSTART;TZID=America/Toronto:20260314T193000
DTEND;TZID=America/Toronto:20260314T193000
DTSTAMP:20260424T061723
CREATED:20250813T154437Z
LAST-MODIFIED:20250813T154437Z
UID:10024712-1773516600-1773516600@whattoday.ca
SUMMARY:Midnight Madness
DESCRIPTION:
URL:https://whattoday.ca/event/midnight-madness-8/
LOCATION:Peterborough Theatre Guild\, 364 Rogers St\, Peterborough\, ON\, K9H 1W7\, Canada
CATEGORIES:Art & Theatre
ORGANIZER;CN="Peterborough Theatre Guild":MAILTO:info@peterboroughtheatreguild.com
END:VEVENT
BEGIN:VEVENT
DTSTART;TZID=America/Toronto:20260327T184500
DTEND;TZID=America/Toronto:20260327T200000
DTSTAMP:20260424T061723
CREATED:20260311T182950Z
LAST-MODIFIED:20260311T182950Z
UID:10030168-1774637100-1774641600@whattoday.ca
SUMMARY:Beginners Belly Dancing Class
DESCRIPTION:Come out and enjoy the rhythm and beats as you learn traditional belly dancing. \nAnna-Lisa has been passionate about Bellydance for over 18 years and has been teaching on and off for 12. She offers relaxed\, motivating beginner Bellydance classes that are fun\, welcoming\, and feminine-focused. Professionally trained in authentic Egyptian Bellydance\, Anna-Lisa creates a supportive space where students can move with confidence\, joy\, and connection. She is the founder of Bellydance Bobcaygeon and is excited to share this beautiful art form with the community. \nAnne-Lisa will have a basket of hip scarfs to borrow too\, so buying isn’t mandatory unless you’d like to own a scarf and come back next month! . \nJoin us before or after your lessons in the Player’s Lounge for Dinner.
URL:https://whattoday.ca/event/beginners-belly-dancing-class/
LOCATION:Kawartha Downs\, 1382 County Rd 28\, Fraserville\, ON\, K0L 1V0\, Canada
CATEGORIES:Adventures,Art & Theatre,Entertainment,Family
ORGANIZER;CN="Kawartha Downs":MAILTO:‍events@kawarthadowns.com
END:VEVENT
BEGIN:VEVENT
DTSTART;TZID=America/Toronto:20260329T113000
DTEND;TZID=America/Toronto:20260329T130000
DTSTAMP:20260424T061723
CREATED:20260306T173734Z
LAST-MODIFIED:20260306T173734Z
UID:10030034-1774783800-1774789200@whattoday.ca
SUMMARY:Artist Talk & Tour with Tyler Durbano
DESCRIPTION:
URL:https://whattoday.ca/event/artist-talk-tour-with-tyler-durbano/
LOCATION:Art Gallery of Peterborough\, 250 Crescent St\, Peterborough\, Ontario\, K9J 2G1\, Canada
CATEGORIES:Art & Theatre
ORGANIZER;CN="Art Gallery of Peterborough":MAILTO:gallery@agp.on.ca
END:VEVENT
END:VCALENDAR