BEGIN:VCALENDAR
VERSION:2.0
PRODID:-//WHATtoday.ca - ECPv6.15.20//NONSGML v1.0//EN
CALSCALE:GREGORIAN
METHOD:PUBLISH
X-ORIGINAL-URL:https://whattoday.ca
X-WR-CALDESC:Events for WHATtoday.ca
REFRESH-INTERVAL;VALUE=DURATION:PT1H
X-Robots-Tag:noindex
X-PUBLISHED-TTL:PT1H
BEGIN:VTIMEZONE
TZID:America/Toronto
BEGIN:DAYLIGHT
TZOFFSETFROM:-0500
TZOFFSETTO:-0400
TZNAME:EDT
DTSTART:20250309T070000
END:DAYLIGHT
BEGIN:STANDARD
TZOFFSETFROM:-0400
TZOFFSETTO:-0500
TZNAME:EST
DTSTART:20251102T060000
END:STANDARD
BEGIN:DAYLIGHT
TZOFFSETFROM:-0500
TZOFFSETTO:-0400
TZNAME:EDT
DTSTART:20260308T070000
END:DAYLIGHT
BEGIN:STANDARD
TZOFFSETFROM:-0400
TZOFFSETTO:-0500
TZNAME:EST
DTSTART:20261101T060000
END:STANDARD
BEGIN:DAYLIGHT
TZOFFSETFROM:-0500
TZOFFSETTO:-0400
TZNAME:EDT
DTSTART:20270314T070000
END:DAYLIGHT
BEGIN:STANDARD
TZOFFSETFROM:-0400
TZOFFSETTO:-0500
TZNAME:EST
DTSTART:20271107T060000
END:STANDARD
END:VTIMEZONE
BEGIN:VEVENT
DTSTART;TZID=America/Toronto:20260501T180000
DTEND;TZID=America/Toronto:20260501T230000
DTSTAMP:20260420T140035
CREATED:20260219T133503Z
LAST-MODIFIED:20260219T133503Z
UID:10029744-1777658400-1777676400@whattoday.ca
SUMMARY:First Friday PTBO
DESCRIPTION:
URL:https://whattoday.ca/event/first-friday-ptbo-14/
LOCATION:Downtown Peterborough\, 313 Water St\, Peterborough\, ON
CATEGORIES:Art & Theatre,Entertainment,Free,More
ORGANIZER;CN="First Friday PTBO":MAILTO:firstfridayptbo@gmail.com
END:VEVENT
BEGIN:VEVENT
DTSTART;TZID=America/Toronto:20260501T193000
DTEND;TZID=America/Toronto:20260501T193000
DTSTAMP:20260420T140035
CREATED:20250813T155648Z
LAST-MODIFIED:20250813T155648Z
UID:10024721-1777663800-1777663800@whattoday.ca
SUMMARY:Young Frankenstein
DESCRIPTION:
URL:https://whattoday.ca/event/young-frankenstein-7/
LOCATION:Peterborough Theatre Guild\, 364 Rogers St\, Peterborough\, ON\, K9H 1W7\, Canada
CATEGORIES:Art & Theatre
ORGANIZER;CN="Peterborough Theatre Guild":MAILTO:info@peterboroughtheatreguild.com
END:VEVENT
BEGIN:VEVENT
DTSTART;TZID=America/Toronto:20260502T193000
DTEND;TZID=America/Toronto:20260502T193000
DTSTAMP:20260420T140035
CREATED:20250813T155706Z
LAST-MODIFIED:20250813T155706Z
UID:10024722-1777750200-1777750200@whattoday.ca
SUMMARY:Young Frankenstein
DESCRIPTION:
URL:https://whattoday.ca/event/young-frankenstein-8/
LOCATION:Peterborough Theatre Guild\, 364 Rogers St\, Peterborough\, ON\, K9H 1W7\, Canada
CATEGORIES:Art & Theatre
ORGANIZER;CN="Peterborough Theatre Guild":MAILTO:info@peterboroughtheatreguild.com
END:VEVENT
BEGIN:VEVENT
DTSTART;TZID=America/Toronto:20260503T100000
DTEND;TZID=America/Toronto:20260503T150000
DTSTAMP:20260420T140035
CREATED:20260325T140716Z
LAST-MODIFIED:20260325T140716Z
UID:10030219-1777802400-1777820400@whattoday.ca
SUMMARY:Make It Handmade Peterborough Crafters Event
DESCRIPTION:Come down and find the perfect gift for Mom……or yourself!!! \nWe have baked goods\, tumblers\, bath bombs\, body scrubs\, body creams\, candles\, greeting cards\, microwaveable bowl cozies\, diamond art\, 3D printing\, pet bandanas\, string art\, wood work\, art decor\, holiday decor AND SO MUCH MORE!
URL:https://whattoday.ca/event/make-it-handmade-peterborough-crafters-event-8/
LOCATION:Royal Canadian Legion Branch 52\, 1550 Lansdowne St.\, Peterborough\, ON\, K9J 2A2\, Canada
CATEGORIES:Art & Theatre,Family,Food & Beverage,Free,Kids,More,Seniors
END:VEVENT
BEGIN:VEVENT
DTSTART;TZID=America/Toronto:20260503T133000
DTEND;TZID=America/Toronto:20260503T133000
DTSTAMP:20260420T140035
CREATED:20250813T155804Z
LAST-MODIFIED:20250813T155804Z
UID:10024725-1777815000-1777815000@whattoday.ca
SUMMARY:Young Frankenstein
DESCRIPTION:
URL:https://whattoday.ca/event/young-frankenstein-11/
LOCATION:Peterborough Theatre Guild\, 364 Rogers St\, Peterborough\, ON\, K9H 1W7\, Canada
CATEGORIES:Art & Theatre
ORGANIZER;CN="Peterborough Theatre Guild":MAILTO:info@peterboroughtheatreguild.com
END:VEVENT
BEGIN:VEVENT
DTSTART;TZID=America/Toronto:20260503T140000
DTEND;TZID=America/Toronto:20260503T140000
DTSTAMP:20260420T140035
CREATED:20260323T125208Z
LAST-MODIFIED:20260323T125219Z
UID:10030203-1777816800-1777816800@whattoday.ca
SUMMARY:Kawartha String Orchestra Presents: Annual Free Spring Concert Fundraiser
DESCRIPTION:The Kawartha String Orchestra (KSO) is pleased to present their annual spring concert on Sunday May 3 starting at 2pm at Thomas A. Stewart Secondary School (1009 Armour Road\, Peterborough\, ON). \nThe theme of the concert is “Pulse and Precision”. Award-winning conductor and music director Tak Kwan and the KSO will play selections from Mozart and Bach\, as well as Celtic music. Guest soloists include Tak Kwan (violin) and Foley’s Celtic Pub Band. \nAdmission is free; monetary donations to Big Brothers Big Sisters of Peterborough are gratefully accepted. \nFor more information\, please visit us at www.kawarthastring.com or email us at kawarthastring@gmail.com.
URL:https://whattoday.ca/event/kawartha-string-orchestra-presents-annual-free-spring-concert-fundraiser-2/
LOCATION:Thomas A. Stewart Secondary School\, 1009 Armour Rd.\, Peterborough\, ON\, K9H 7H2\, Canada
CATEGORIES:Art & Theatre,Entertainment,Family,Free,Seniors
ORGANIZER;CN="Noelle Lee":MAILTO:kawarthastring@gmail.com
END:VEVENT
BEGIN:VEVENT
DTSTART;TZID=America/Toronto:20260508T093000
DTEND;TZID=America/Toronto:20260508T170000
DTSTAMP:20260420T140035
CREATED:20260408T182559Z
LAST-MODIFIED:20260408T182559Z
UID:10030823-1778232600-1778259600@whattoday.ca
SUMMARY:Kawartha Quiltmakers' Guild "Feelings in Fabric" Quilt Show and Sale
DESCRIPTION:The Kawartha Quiltmakers’ Guild presents “Feelings in Fabric” Quilt Show and Sale on May 8\, 9:30-5:00 pm and May 9\, 9:30-4:00 pm. \n– Vendors\n– Charity Quilt Raffle\n– Displays\n– KQG Member’s Boutique (items for sale)\n– Prize Baskets\n– Light Refreshments Available\n– Antique Quilts\n– Scissors and Tool Sharpening
URL:https://whattoday.ca/event/kawartha-quiltmakers-guild-feelings-in-fabric-quilt-show-and-sale/2026-05-08/
LOCATION:Peterborough Sport and Wellness Centre\, 775 Brealey Dr.\, Peterborough\, ON\, K9K 0B8\, Canada
CATEGORIES:Art & Theatre,Family,More,Seniors
END:VEVENT
BEGIN:VEVENT
DTSTART;TZID=America/Toronto:20260509T093000
DTEND;TZID=America/Toronto:20260509T160000
DTSTAMP:20260420T140035
CREATED:20260408T182559Z
LAST-MODIFIED:20260408T182559Z
UID:10030824-1778319000-1778342400@whattoday.ca
SUMMARY:Kawartha Quiltmakers' Guild "Feelings in Fabric" Quilt Show and Sale
DESCRIPTION:The Kawartha Quiltmakers’ Guild presents “Feelings in Fabric” Quilt Show and Sale on May 8\, 9:30-5:00 pm and May 9\, 9:30-4:00 pm. \n– Vendors\n– Charity Quilt Raffle\n– Displays\n– KQG Member’s Boutique (items for sale)\n– Prize Baskets\n– Light Refreshments Available\n– Antique Quilts\n– Scissors and Tool Sharpening
URL:https://whattoday.ca/event/kawartha-quiltmakers-guild-feelings-in-fabric-quilt-show-and-sale/2026-05-09/
LOCATION:Peterborough Sport and Wellness Centre\, 775 Brealey Dr.\, Peterborough\, ON\, K9K 0B8\, Canada
CATEGORIES:Art & Theatre,Family,More,Seniors
END:VEVENT
BEGIN:VEVENT
DTSTART;TZID=America/Toronto:20260510T113000
DTEND;TZID=America/Toronto:20260510T133000
DTSTAMP:20260420T140035
CREATED:20260306T172658Z
LAST-MODIFIED:20260306T172658Z
UID:10030018-1778412600-1778419800@whattoday.ca
SUMMARY:Art Together: Flowerpot Painting (Ages 2-5)
DESCRIPTION:
URL:https://whattoday.ca/event/art-together-flowerpot-painting-ages-2-5/
LOCATION:Art Gallery of Peterborough\, 250 Crescent St\, Peterborough\, Ontario\, K9J 2G1\, Canada
CATEGORIES:Art & Theatre,Kids
ORGANIZER;CN="Art Gallery of Peterborough":MAILTO:gallery@agp.on.ca
END:VEVENT
END:VCALENDAR