BEGIN:VCALENDAR
VERSION:2.0
PRODID:-//WHATtoday.ca - ECPv6.15.20//NONSGML v1.0//EN
CALSCALE:GREGORIAN
METHOD:PUBLISH
X-WR-CALNAME:WHATtoday.ca
X-ORIGINAL-URL:https://whattoday.ca
X-WR-CALDESC:Events for WHATtoday.ca
REFRESH-INTERVAL;VALUE=DURATION:PT1H
X-Robots-Tag:noindex
X-PUBLISHED-TTL:PT1H
BEGIN:VTIMEZONE
TZID:America/Toronto
BEGIN:DAYLIGHT
TZOFFSETFROM:-0500
TZOFFSETTO:-0400
TZNAME:EDT
DTSTART:20250309T070000
END:DAYLIGHT
BEGIN:STANDARD
TZOFFSETFROM:-0400
TZOFFSETTO:-0500
TZNAME:EST
DTSTART:20251102T060000
END:STANDARD
BEGIN:DAYLIGHT
TZOFFSETFROM:-0500
TZOFFSETTO:-0400
TZNAME:EDT
DTSTART:20260308T070000
END:DAYLIGHT
BEGIN:STANDARD
TZOFFSETFROM:-0400
TZOFFSETTO:-0500
TZNAME:EST
DTSTART:20261101T060000
END:STANDARD
BEGIN:DAYLIGHT
TZOFFSETFROM:-0500
TZOFFSETTO:-0400
TZNAME:EDT
DTSTART:20270314T070000
END:DAYLIGHT
BEGIN:STANDARD
TZOFFSETFROM:-0400
TZOFFSETTO:-0500
TZNAME:EST
DTSTART:20271107T060000
END:STANDARD
END:VTIMEZONE
BEGIN:VEVENT
DTSTART;TZID=America/Toronto:20260424T140000
DTEND;TZID=America/Toronto:20260424T150000
DTSTAMP:20260424T060201
CREATED:20260306T145558Z
LAST-MODIFIED:20260306T145558Z
UID:10029982-1777039200-1777042800@whattoday.ca
SUMMARY:Exhibition Hall Tour
DESCRIPTION:
URL:https://whattoday.ca/event/exhibition-hall-tour-3/2026-04-24/
LOCATION:The Canadian Canoe Museum\, 2077 Ashburnham Drive\, Peterborough\, ON\, K9L 1P8\, Canada
CATEGORIES:More
END:VEVENT
BEGIN:VEVENT
DTSTART;TZID=America/Toronto:20260424T183000
DTEND;TZID=America/Toronto:20260424T193000
DTSTAMP:20260424T060201
CREATED:20260310T190037Z
LAST-MODIFIED:20260310T190037Z
UID:10030160-1777055400-1777059000@whattoday.ca
SUMMARY:Book Speed Dating: Mysteries
DESCRIPTION:
URL:https://whattoday.ca/event/book-speed-dating-mysteries/
LOCATION:Peterborough Public Library\, 345 Aylmer St N\, Peterborough\, Ontario\, K9H 3V7\, Canada
CATEGORIES:More
ORGANIZER;CN="Peterborough Public Library":MAILTO:Libraryprograms@peterborough.ca
END:VEVENT
BEGIN:VEVENT
DTSTART;TZID=America/Toronto:20260424T190000
DTEND;TZID=America/Toronto:20260424T190000
DTSTAMP:20260424T060201
CREATED:20260421T125047Z
LAST-MODIFIED:20260421T125057Z
UID:10030886-1777057200-1777057200@whattoday.ca
SUMMARY:Bhakti Heartsong Community Kirtan
DESCRIPTION:Beloveds… the circle opens once more.  \nAs we arrive at the final Friday of the month\, the call returns – to gather\, to sing\, to rest together in the quiet medicine of mantra and shared breath. \nBut this time\, the space is opening a little differently.  \nIn celebration of my birthday\, this month’s Bhakti HeartSong Kirtan is being offered as something more intimate… a weaving of cacao\, chant\, and sound held in a softer\, more intentional way. \nWe’ll begin with gentle cacao to open the heart  \nmove into Kirtan – voice\, mantra\, and connection  \nand then settle into a closing sound journey to integrate and receive.  \nNo performance. No perfection. \nJust a space to:\n arrive as you are\n sing if you feel called\n rest if that’s what’s needed\n or simply be held in the field we create together \nThis night is something I’m offering from the heart – and receiving alongside you.  \nIf you’ve been feeling the pull toward community… \nIf your nervous system has been asking for gentleness… \nIf your heart longs to sing\, or simply to be held in sound… \nThis is a beautiful night to step in. \n The Blue Lotus Home Studio\n512 Bonaccord Street\, Peterborough\n Friday\, April 24\n 7:00 PM \n By donation – suggested $20 – $30\n(please give as you are able) \nAll voices welcome. Truly.  \n Full details + event registration at:\nwww.lisahamilton.love \nI look forward to gathering with you.\nHari Om
URL:https://whattoday.ca/event/bhakti-heartsong-community-kirtan/
LOCATION:The Blue Lotus Home Studio\, 512 Bonaccord St.\, Peterborough\, ON\, K9H 7L6\, Canada
CATEGORIES:Art & Theatre,Entertainment,Family,Free,More,Seniors,Workshops
ORGANIZER;CN="Lisa Hamilton":MAILTO:hello@lisahamilton.love
END:VEVENT
BEGIN:VEVENT
DTSTART;TZID=America/Toronto:20260425T070000
DTEND;TZID=America/Toronto:20260425T130000
DTSTAMP:20260424T060201
CREATED:20240711T234705Z
LAST-MODIFIED:20250624T183904Z
UID:10021071-1777100400-1777122000@whattoday.ca
SUMMARY:Peterborough Farmers' Market
DESCRIPTION:Peterborough Farmers’ Market is located on Roger Neilson Way\, just south of the intersection of Lansdowne Street and George Street. During the spring\, summer and fall you can find us in the Memorial Centre parking lot. When the weather turns cold outside\, we move inside the Morrow Building.
URL:https://whattoday.ca/event/peterborough-farmers-market/2026-04-25/
LOCATION:Roger Neilson Way
CATEGORIES:More
END:VEVENT
BEGIN:VEVENT
DTSTART;TZID=America/Toronto:20260425T080000
DTEND;TZID=America/Toronto:20260425T130000
DTSTAMP:20260424T060201
CREATED:20250924T153524Z
LAST-MODIFIED:20250924T153524Z
UID:10026775-1777104000-1777122000@whattoday.ca
SUMMARY:Peterborough Regional Farmers' Market
DESCRIPTION:
URL:https://whattoday.ca/event/peterborough-regional-farmers-market-6/2026-04-25/
LOCATION:Peterborough Square\, 340 George St. N.\, Peterborough\, ON\, K9H 7E8\, Canada
CATEGORIES:Family,Food & Beverage,More,Seniors
ORGANIZER;CN="Peterborough Regional Farmers' Market":MAILTO:info@ptboregionalfarmersmarket.com
END:VEVENT
BEGIN:VEVENT
DTSTART;TZID=America/Toronto:20260425T103000
DTEND;TZID=America/Toronto:20260425T113000
DTSTAMP:20260424T060201
CREATED:20260212T195650Z
LAST-MODIFIED:20260212T195650Z
UID:10029731-1777113000-1777116600@whattoday.ca
SUMMARY:Afrocentric Story Time
DESCRIPTION:
URL:https://whattoday.ca/event/afrocentric-story-time-2/2026-04-25/
LOCATION:Peterborough Public Library\, 345 Aylmer St N\, Peterborough\, Ontario\, K9H 3V7\, Canada
CATEGORIES:More
ORGANIZER;CN="Peterborough Public Library":MAILTO:Libraryprograms@peterborough.ca
END:VEVENT
BEGIN:VEVENT
DTSTART;TZID=America/Toronto:20260425T130000
DTEND;TZID=America/Toronto:20260425T160000
DTSTAMP:20260424T060201
CREATED:20260410T162110Z
LAST-MODIFIED:20260410T162110Z
UID:10030829-1777122000-1777132800@whattoday.ca
SUMMARY:Repair Cafe
DESCRIPTION:
URL:https://whattoday.ca/event/repair-cafe-7/
LOCATION:Dreams of Beans\, 141 Charlotte Street\, Peterborough\, ON\, K9J 2T6\, Canada
CATEGORIES:More
ORGANIZER;CN="Repair Cafe Peterborough":MAILTO:repaircafeptbo@gmail.com
END:VEVENT
BEGIN:VEVENT
DTSTART;TZID=America/Toronto:20260425T130000
DTEND;TZID=America/Toronto:20260425T170000
DTSTAMP:20260424T060201
CREATED:20260310T190141Z
LAST-MODIFIED:20260310T190141Z
UID:10030161-1777122000-1777136400@whattoday.ca
SUMMARY:Métis Healing Blankets
DESCRIPTION:
URL:https://whattoday.ca/event/metis-healing-blankets/
LOCATION:Peterborough Public Library\, 345 Aylmer St N\, Peterborough\, Ontario\, K9H 3V7\, Canada
CATEGORIES:More
ORGANIZER;CN="Peterborough Public Library":MAILTO:Libraryprograms@peterborough.ca
END:VEVENT
BEGIN:VEVENT
DTSTART;TZID=America/Toronto:20260425T140000
DTEND;TZID=America/Toronto:20260425T144500
DTSTAMP:20260424T060201
CREATED:20260306T145718Z
LAST-MODIFIED:20260306T145718Z
UID:10029992-1777125600-1777128300@whattoday.ca
SUMMARY:Collection Hall Highlights Tour
DESCRIPTION:
URL:https://whattoday.ca/event/collection-hall-highlights-tour-5/2026-04-25/
LOCATION:The Canadian Canoe Museum\, 2077 Ashburnham Drive\, Peterborough\, ON\, K9L 1P8\, Canada
CATEGORIES:More
END:VEVENT
BEGIN:VEVENT
DTSTART;TZID=America/Toronto:20260426T090000
DTEND;TZID=America/Toronto:20260426T090000
DTSTAMP:20260424T060201
CREATED:20260330T155022Z
LAST-MODIFIED:20260330T155032Z
UID:10030301-1777194000-1777194000@whattoday.ca
SUMMARY:2026 Peterborough Butterfly Run
DESCRIPTION:
URL:https://whattoday.ca/event/2026-peterborough-butterfly-run/
LOCATION:Millennium Park\, 130 King St.\, Peterborough\, ON\, K9J 0A5\, Canada
CATEGORIES:Family,Kids,More,Outdoor,Seniors
END:VEVENT
BEGIN:VEVENT
DTSTART;TZID=America/Toronto:20260426T090000
DTEND;TZID=America/Toronto:20260426T120000
DTSTAMP:20260424T060201
CREATED:20260420T164032Z
LAST-MODIFIED:20260420T164033Z
UID:10030858-1777194000-1777204800@whattoday.ca
SUMMARY:Community Clean Up
DESCRIPTION:
URL:https://whattoday.ca/event/community-clean-up/
LOCATION:ON
CATEGORIES:More
ORGANIZER;CN="Clean Up Peterborough":MAILTO:cleanuppeterborough@gmail.com
END:VEVENT
BEGIN:VEVENT
DTSTART;TZID=America/Toronto:20260426T110000
DTEND;TZID=America/Toronto:20260426T150000
DTSTAMP:20260424T060201
CREATED:20260420T182122Z
LAST-MODIFIED:20260420T182122Z
UID:10030885-1777201200-1777215600@whattoday.ca
SUMMARY:Volunteer Appreciation BBQ
DESCRIPTION:
URL:https://whattoday.ca/event/volunteer-appreciation-bbq/
LOCATION:Lakefield Animal Welfare Society\, 2887 County Rd 29\, Peterborough\, ON\, K9J 6X5\, Canada
CATEGORIES:Entertainment,Food & Beverage,More
ORGANIZER;CN="Lakefield Animal Welfare Society":MAILTO:info@lakefieldanimalwelfare.org
END:VEVENT
BEGIN:VEVENT
DTSTART;TZID=America/Toronto:20260426T180000
DTEND;TZID=America/Toronto:20260426T210000
DTSTAMP:20260424T060201
CREATED:20260203T202251Z
LAST-MODIFIED:20260203T202251Z
UID:10029217-1777226400-1777237200@whattoday.ca
SUMMARY:BYOB Wine & Paint Night
DESCRIPTION:*Please note this is a 19+ event.
URL:https://whattoday.ca/event/byob-wine-paint-night-5/2026-04-26/
LOCATION:Busy Brushes\, 822 Rye St.\, Peterborough\, ON\, K9J 6W9\, Canada
CATEGORIES:More
END:VEVENT
BEGIN:VEVENT
DTSTART;TZID=America/Toronto:20260427T100000
DTEND;TZID=America/Toronto:20260427T160000
DTSTAMP:20260424T060201
CREATED:20260410T162642Z
LAST-MODIFIED:20260410T162642Z
UID:10030834-1777284000-1777305600@whattoday.ca
SUMMARY:Community Social Fires
DESCRIPTION:
URL:https://whattoday.ca/event/community-social-fires/2026-04-27/
LOCATION:Nogojiwanong Friendship Centre\, 580 Cameron St.\, Peterborough\, ON\, K9J 3Z5\, Canada
CATEGORIES:More
END:VEVENT
BEGIN:VEVENT
DTSTART;TZID=America/Toronto:20260427T130000
DTEND;TZID=America/Toronto:20260427T150000
DTSTAMP:20260424T060201
CREATED:20260212T195953Z
LAST-MODIFIED:20260212T200008Z
UID:10029739-1777294800-1777302000@whattoday.ca
SUMMARY:Homeschool Hangout
DESCRIPTION:March: Mark S. Burnham Park \nApril: Story Corner\, Main Library
URL:https://whattoday.ca/event/homeschool-hangout-3/2026-04-27/
LOCATION:ON
CATEGORIES:More
ORGANIZER;CN="Peterborough Public Library":MAILTO:Libraryprograms@peterborough.ca
END:VEVENT
BEGIN:VEVENT
DTSTART;TZID=America/Toronto:20260427T133000
DTEND;TZID=America/Toronto:20260427T150000
DTSTAMP:20260424T060201
CREATED:20260212T162451Z
LAST-MODIFIED:20260212T162451Z
UID:10029637-1777296600-1777302000@whattoday.ca
SUMMARY:Community Writing Workshop
DESCRIPTION:
URL:https://whattoday.ca/event/community-writing-workshop-2/2026-04-27/
LOCATION:Peterborough Public Library\, 345 Aylmer St N\, Peterborough\, Ontario\, K9H 3V7\, Canada
CATEGORIES:More
ORGANIZER;CN="Peterborough Public Library":MAILTO:Libraryprograms@peterborough.ca
END:VEVENT
BEGIN:VEVENT
DTSTART;TZID=America/Toronto:20260427T210000
DTEND;TZID=America/Toronto:20260427T210000
DTSTAMP:20260424T060201
CREATED:20241125T204944Z
LAST-MODIFIED:20241125T204952Z
UID:10006109-1777323600-1777323600@whattoday.ca
SUMMARY:Cam Green's Trivia Night at McThirsty's Pint
DESCRIPTION:
URL:https://whattoday.ca/event/cam-greens-trivia-night-at-mcthirstys-pint/2026-04-27/
LOCATION:McThirsty’s Pint\, 166 Charlotte St.\, Peterborough\, ON\, K9J 2T8\, Canada
CATEGORIES:Entertainment,Food & Beverage,More
ORGANIZER;CN="McThirsty's Pint":MAILTO:mcthirstys166@gmail.com
END:VEVENT
BEGIN:VEVENT
DTSTART;TZID=America/Toronto:20260428T130000
DTEND;TZID=America/Toronto:20260428T150000
DTSTAMP:20260424T060201
CREATED:20260212T193913Z
LAST-MODIFIED:20260212T193913Z
UID:10029684-1777381200-1777388400@whattoday.ca
SUMMARY:Social Seniors
DESCRIPTION:
URL:https://whattoday.ca/event/social-seniors-2/2026-04-28/
LOCATION:Peterborough Public Library\, 345 Aylmer St N\, Peterborough\, Ontario\, K9H 3V7\, Canada
CATEGORIES:More,Seniors
ORGANIZER;CN="Peterborough Public Library":MAILTO:Libraryprograms@peterborough.ca
END:VEVENT
BEGIN:VEVENT
DTSTART;TZID=America/Toronto:20260428T140000
DTEND;TZID=America/Toronto:20260428T150000
DTSTAMP:20260424T060201
CREATED:20260310T190355Z
LAST-MODIFIED:20260310T190355Z
UID:10030162-1777384800-1777388400@whattoday.ca
SUMMARY:Adult Book Club: Afternoon Session
DESCRIPTION:
URL:https://whattoday.ca/event/adult-book-club-afternoon-session-3/2026-04-28/
LOCATION:Peterborough Public Library\, 345 Aylmer St N\, Peterborough\, Ontario\, K9H 3V7\, Canada
CATEGORIES:More
ORGANIZER;CN="Peterborough Public Library":MAILTO:Libraryprograms@peterborough.ca
END:VEVENT
BEGIN:VEVENT
DTSTART;TZID=America/Toronto:20260428T183000
DTEND;TZID=America/Toronto:20260428T193000
DTSTAMP:20260424T060201
CREATED:20260310T190606Z
LAST-MODIFIED:20260310T190606Z
UID:10030164-1777401000-1777404600@whattoday.ca
SUMMARY:Adult Book Club: Evening Session
DESCRIPTION:
URL:https://whattoday.ca/event/adult-book-club-evening-session-3/2026-04-28/
LOCATION:
CATEGORIES:More
ORGANIZER;CN="Peterborough Public Library":MAILTO:Libraryprograms@peterborough.ca
END:VEVENT
BEGIN:VEVENT
DTSTART;TZID=America/Toronto:20260428T190000
DTEND;TZID=America/Toronto:20260428T210000
DTSTAMP:20260424T060201
CREATED:20250616T174304Z
LAST-MODIFIED:20250616T174304Z
UID:10020219-1777402800-1777410000@whattoday.ca
SUMMARY:Trivia and Wing Night
DESCRIPTION:
URL:https://whattoday.ca/event/trivia-and-wing-night/2026-04-28/
LOCATION:The Back 40 Smoke House\, 287 George St. N.\, Peterborough\, ON\, K9J 3H3\, Canada
CATEGORIES:Food & Beverage,More
END:VEVENT
BEGIN:VEVENT
DTSTART;TZID=America/Toronto:20260428T200000
DTEND;TZID=America/Toronto:20260428T200000
DTSTAMP:20260424T060201
CREATED:20250909T185603Z
LAST-MODIFIED:20251202T175308Z
UID:10026098-1777406400-1777406400@whattoday.ca
SUMMARY:Trivia Night at The Social Pub
DESCRIPTION:
URL:https://whattoday.ca/event/trivia-night-at-the-social-pub/2026-04-28/
LOCATION:The Social Pub\, 295 George St. N.\, Peterborough\, ON\, K9J 3H3\, Canada
CATEGORIES:More
ORGANIZER;CN="The Social Pub":MAILTO:info@thesocialpub.ca
END:VEVENT
BEGIN:VEVENT
DTSTART;TZID=America/Toronto:20260429T080000
DTEND;TZID=America/Toronto:20260429T130000
DTSTAMP:20260424T060201
CREATED:20250924T153524Z
LAST-MODIFIED:20250924T153524Z
UID:10026776-1777449600-1777467600@whattoday.ca
SUMMARY:Peterborough Regional Farmers' Market
DESCRIPTION:
URL:https://whattoday.ca/event/peterborough-regional-farmers-market-6/2026-04-29/
LOCATION:Peterborough Square\, 340 George St. N.\, Peterborough\, ON\, K9H 7E8\, Canada
CATEGORIES:Family,Food & Beverage,More,Seniors
ORGANIZER;CN="Peterborough Regional Farmers' Market":MAILTO:info@ptboregionalfarmersmarket.com
END:VEVENT
BEGIN:VEVENT
DTSTART;TZID=America/Toronto:20260429T110000
DTEND;TZID=America/Toronto:20260429T140000
DTSTAMP:20260424T060201
CREATED:20260413T181251Z
LAST-MODIFIED:20260413T181251Z
UID:10030838-1777460400-1777471200@whattoday.ca
SUMMARY:Health Fair for Newcomers – “Healthy Minds\, Healthy Bodies”
DESCRIPTION:
URL:https://whattoday.ca/event/health-fair-for-newcomers-healthy-minds-healthy-bodies/
LOCATION:New Canadians Centre\, 221 Romaine St\, Peterborough\, ON
CATEGORIES:More
ORGANIZER;CN="New Canadians Centre Peterborough":MAILTO:info@nccpeterborough.ca
END:VEVENT
BEGIN:VEVENT
DTSTART;TZID=America/Toronto:20260429T120000
DTEND;TZID=America/Toronto:20260429T130000
DTSTAMP:20260424T060201
CREATED:20260112T194654Z
LAST-MODIFIED:20260112T194654Z
UID:10028675-1777464000-1777467600@whattoday.ca
SUMMARY:Entrepreneurship 101: Money Map - Cash Flow Forecasting
DESCRIPTION:
URL:https://whattoday.ca/event/entrepreneurship-101-money-map-cash-flow-forecasting-2/
LOCATION:Venture North\, 270 George St. N.\, Peterborough\, ON\, K9J 3H1\, Canada
CATEGORIES:More,Workshops
ORGANIZER;CN="Community Futures Peterborough":MAILTO:info@cfpeterborough.ca
END:VEVENT
BEGIN:VEVENT
DTSTART;TZID=America/Toronto:20260429T130000
DTEND;TZID=America/Toronto:20260429T150000
DTSTAMP:20260424T060201
CREATED:20260212T162636Z
LAST-MODIFIED:20260212T162636Z
UID:10029650-1777467600-1777474800@whattoday.ca
SUMMARY:Knit & Crochet Club
DESCRIPTION:
URL:https://whattoday.ca/event/knit-crochet-club-5/2026-04-29/
LOCATION:Peterborough Public Library\, 345 Aylmer St N\, Peterborough\, Ontario\, K9H 3V7\, Canada
CATEGORIES:More
ORGANIZER;CN="Peterborough Public Library":MAILTO:Libraryprograms@peterborough.ca
END:VEVENT
BEGIN:VEVENT
DTSTART;TZID=America/Toronto:20260429T160000
DTEND;TZID=America/Toronto:20260429T170000
DTSTAMP:20260424T060201
CREATED:20260212T195235Z
LAST-MODIFIED:20260212T195235Z
UID:10029723-1777478400-1777482000@whattoday.ca
SUMMARY:Wildlife Wednesdays
DESCRIPTION:
URL:https://whattoday.ca/event/wildlife-wednesdays-4/2026-04-29/
LOCATION:Peterborough Public Library\, 345 Aylmer St N\, Peterborough\, Ontario\, K9H 3V7\, Canada
CATEGORIES:Kids,More
ORGANIZER;CN="Peterborough Public Library":MAILTO:Libraryprograms@peterborough.ca
END:VEVENT
BEGIN:VEVENT
DTSTART;TZID=America/Toronto:20260429T163000
DTEND;TZID=America/Toronto:20260429T180000
DTSTAMP:20260424T060201
CREATED:20260420T170131Z
LAST-MODIFIED:20260420T170131Z
UID:10030862-1777480200-1777485600@whattoday.ca
SUMMARY:Family Meet & Greet Social
DESCRIPTION:
URL:https://whattoday.ca/event/family-meet-greet-social-5/2026-04-29/
LOCATION:Five Counties Children’s Centre\, 872 Dutton\, Peterborough\, ON
CATEGORIES:More
ORGANIZER;CN="Five Counties Children's Centre":MAILTO:info@fivecounties.on.ca
END:VEVENT
BEGIN:VEVENT
DTSTART;TZID=America/Toronto:20260429T183000
DTEND;TZID=America/Toronto:20260429T193000
DTSTAMP:20260424T060201
CREATED:20260310T181523Z
LAST-MODIFIED:20260310T181523Z
UID:10030066-1777487400-1777491000@whattoday.ca
SUMMARY:Anishnaabemowin Short Course
DESCRIPTION:
URL:https://whattoday.ca/event/anishnaabemowin-short-course/2026-04-29/
LOCATION:Peterborough Public Library\, 345 Aylmer St N\, Peterborough\, Ontario\, K9H 3V7\, Canada
CATEGORIES:More
ORGANIZER;CN="Peterborough Public Library":MAILTO:Libraryprograms@peterborough.ca
END:VEVENT
BEGIN:VEVENT
DTSTART;TZID=America/Toronto:20260429T183000
DTEND;TZID=America/Toronto:20260429T194500
DTSTAMP:20260424T060201
CREATED:20260212T162910Z
LAST-MODIFIED:20260212T162910Z
UID:10029660-1777487400-1777491900@whattoday.ca
SUMMARY:Writing Circle
DESCRIPTION:
URL:https://whattoday.ca/event/writing-circle-5/2026-04-29/
LOCATION:Peterborough Public Library\, 345 Aylmer St N\, Peterborough\, Ontario\, K9H 3V7\, Canada
CATEGORIES:More
ORGANIZER;CN="Peterborough Public Library":MAILTO:Libraryprograms@peterborough.ca
END:VEVENT
END:VCALENDAR