BEGIN:VCALENDAR
VERSION:2.0
PRODID:-//WHATtoday.ca - ECPv6.15.20//NONSGML v1.0//EN
CALSCALE:GREGORIAN
METHOD:PUBLISH
X-WR-CALNAME:WHATtoday.ca
X-ORIGINAL-URL:https://whattoday.ca
X-WR-CALDESC:Events for WHATtoday.ca
REFRESH-INTERVAL;VALUE=DURATION:PT1H
X-Robots-Tag:noindex
X-PUBLISHED-TTL:PT1H
BEGIN:VTIMEZONE
TZID:America/Toronto
BEGIN:DAYLIGHT
TZOFFSETFROM:-0500
TZOFFSETTO:-0400
TZNAME:EDT
DTSTART:20250309T070000
END:DAYLIGHT
BEGIN:STANDARD
TZOFFSETFROM:-0400
TZOFFSETTO:-0500
TZNAME:EST
DTSTART:20251102T060000
END:STANDARD
BEGIN:DAYLIGHT
TZOFFSETFROM:-0500
TZOFFSETTO:-0400
TZNAME:EDT
DTSTART:20260308T070000
END:DAYLIGHT
BEGIN:STANDARD
TZOFFSETFROM:-0400
TZOFFSETTO:-0500
TZNAME:EST
DTSTART:20261101T060000
END:STANDARD
BEGIN:DAYLIGHT
TZOFFSETFROM:-0500
TZOFFSETTO:-0400
TZNAME:EDT
DTSTART:20270314T070000
END:DAYLIGHT
BEGIN:STANDARD
TZOFFSETFROM:-0400
TZOFFSETTO:-0500
TZNAME:EST
DTSTART:20271107T060000
END:STANDARD
END:VTIMEZONE
BEGIN:VEVENT
DTSTART;TZID=America/Toronto:20260101T140500
DTEND;TZID=America/Toronto:20260101T140500
DTSTAMP:20260420T120703
CREATED:20250902T185210Z
LAST-MODIFIED:20250902T185216Z
UID:10025564-1767276300-1767276300@whattoday.ca
SUMMARY:Peterborough Petes vs. Kingston Frontenacs
DESCRIPTION:
URL:https://whattoday.ca/event/peterborough-petes-vs-kingston-frontenacs-4/
LOCATION:Peterborough Memorial Centre\, 151 Lansdowne Street West\, Peterborough\, Ontario\, K9J 1Y4\, Canada
CATEGORIES:Sports
END:VEVENT
BEGIN:VEVENT
DTSTART;TZID=America/Toronto:20260104T160000
DTEND;TZID=America/Toronto:20260104T180000
DTSTAMP:20260420T120703
CREATED:20250424T162107Z
LAST-MODIFIED:20250424T162107Z
UID:10016866-1767542400-1767549600@whattoday.ca
SUMMARY:Women's Recreational Hockey League (18+)
DESCRIPTION:
URL:https://whattoday.ca/event/womens-recreational-hockey-league-18/2026-01-04/
LOCATION:Miskin Law Community Complex
CATEGORIES:Sports
ORGANIZER;CN="City of Peterborough":MAILTO:rec@peterborough.ca
END:VEVENT
BEGIN:VEVENT
DTSTART;TZID=America/Toronto:20260108T190500
DTEND;TZID=America/Toronto:20260108T190500
DTSTAMP:20260420T120703
CREATED:20250902T185247Z
LAST-MODIFIED:20250902T185253Z
UID:10025565-1767899100-1767899100@whattoday.ca
SUMMARY:Peterborough Petes vs. Oshawa Generals
DESCRIPTION:
URL:https://whattoday.ca/event/peterborough-petes-vs-oshawa-generals-3/
LOCATION:Peterborough Memorial Centre\, 151 Lansdowne Street West\, Peterborough\, Ontario\, K9J 1Y4\, Canada
CATEGORIES:Sports
END:VEVENT
BEGIN:VEVENT
DTSTART;TZID=America/Toronto:20260110T190500
DTEND;TZID=America/Toronto:20260110T190500
DTSTAMP:20260420T120703
CREATED:20250902T185323Z
LAST-MODIFIED:20250902T185323Z
UID:10025566-1768071900-1768071900@whattoday.ca
SUMMARY:Peterborough Petes vs. Guelph Storm
DESCRIPTION:
URL:https://whattoday.ca/event/peterborough-petes-vs-guelph-storm/
LOCATION:Peterborough Memorial Centre\, 151 Lansdowne Street West\, Peterborough\, Ontario\, K9J 1Y4\, Canada
CATEGORIES:Sports
END:VEVENT
BEGIN:VEVENT
DTSTART;TZID=America/Toronto:20260111T160000
DTEND;TZID=America/Toronto:20260111T180000
DTSTAMP:20260420T120703
CREATED:20250424T162107Z
LAST-MODIFIED:20250424T162107Z
UID:10016867-1768147200-1768154400@whattoday.ca
SUMMARY:Women's Recreational Hockey League (18+)
DESCRIPTION:
URL:https://whattoday.ca/event/womens-recreational-hockey-league-18/2026-01-11/
LOCATION:Miskin Law Community Complex
CATEGORIES:Sports
ORGANIZER;CN="City of Peterborough":MAILTO:rec@peterborough.ca
END:VEVENT
BEGIN:VEVENT
DTSTART;TZID=America/Toronto:20260117T190500
DTEND;TZID=America/Toronto:20260117T190500
DTSTAMP:20260420T120703
CREATED:20250902T185347Z
LAST-MODIFIED:20250902T185347Z
UID:10025567-1768676700-1768676700@whattoday.ca
SUMMARY:Peterborough Petes vs. Niagara IceDogs
DESCRIPTION:
URL:https://whattoday.ca/event/peterborough-petes-vs-niagara-icedogs-2/
LOCATION:Peterborough Memorial Centre\, 151 Lansdowne Street West\, Peterborough\, Ontario\, K9J 1Y4\, Canada
CATEGORIES:Sports
END:VEVENT
BEGIN:VEVENT
DTSTART;TZID=America/Toronto:20260118T160000
DTEND;TZID=America/Toronto:20260118T180000
DTSTAMP:20260420T120703
CREATED:20250424T162107Z
LAST-MODIFIED:20250424T162107Z
UID:10016868-1768752000-1768759200@whattoday.ca
SUMMARY:Women's Recreational Hockey League (18+)
DESCRIPTION:
URL:https://whattoday.ca/event/womens-recreational-hockey-league-18/2026-01-18/
LOCATION:Miskin Law Community Complex
CATEGORIES:Sports
ORGANIZER;CN="City of Peterborough":MAILTO:rec@peterborough.ca
END:VEVENT
BEGIN:VEVENT
DTSTART;TZID=America/Toronto:20260122T190500
DTEND;TZID=America/Toronto:20260122T190500
DTSTAMP:20260420T120703
CREATED:20250902T185417Z
LAST-MODIFIED:20250902T185417Z
UID:10025568-1769108700-1769108700@whattoday.ca
SUMMARY:Peterborough Petes vs. Saginaw Spirit
DESCRIPTION:
URL:https://whattoday.ca/event/peterborough-petes-vs-saginaw-spirit/
LOCATION:Peterborough Memorial Centre\, 151 Lansdowne Street West\, Peterborough\, Ontario\, K9J 1Y4\, Canada
CATEGORIES:Sports
END:VEVENT
BEGIN:VEVENT
DTSTART;TZID=America/Toronto:20260125T160000
DTEND;TZID=America/Toronto:20260125T180000
DTSTAMP:20260420T120703
CREATED:20250424T162107Z
LAST-MODIFIED:20250424T162107Z
UID:10016869-1769356800-1769364000@whattoday.ca
SUMMARY:Women's Recreational Hockey League (18+)
DESCRIPTION:
URL:https://whattoday.ca/event/womens-recreational-hockey-league-18/2026-01-25/
LOCATION:Miskin Law Community Complex
CATEGORIES:Sports
ORGANIZER;CN="City of Peterborough":MAILTO:rec@peterborough.ca
END:VEVENT
BEGIN:VEVENT
DTSTART;TZID=America/Toronto:20260129T110000
DTEND;TZID=America/Toronto:20260129T130000
DTSTAMP:20260420T120703
CREATED:20260129T150644Z
LAST-MODIFIED:20260129T150644Z
UID:10028810-1769684400-1769691600@whattoday.ca
SUMMARY:2 Learn to Play Pickleball bootcamp - Every Thursday 11 am - 1 pm
DESCRIPTION:Thursday lunchtime ‘Learn to Play’ Bootcamp \nOur 2-hour lunchtime pickleball bootcamp runs 11:00 AM – 1:00 PM every Thursday. \nPerfect for beginners — or anyone wanting a confidence boost. \n Take an extended lunch\nTeam up with friends or co-workers\nLearn the basics\, play real games\, have fun \nNo experience needed. Paddles provided. $35 pp.
URL:https://whattoday.ca/event/2-learn-to-play-pickleball-bootcamp-every-thursday-11-am-1-pm/2026-01-29/
LOCATION:Smash Courts\, 725B Monaghan Rd. Unit 14A\, Peterborough\, ON\, K9J 4C6\, Canada
CATEGORIES:Sports
END:VEVENT
BEGIN:VEVENT
DTSTART;TZID=America/Toronto:20260129T190500
DTEND;TZID=America/Toronto:20260129T190500
DTSTAMP:20260420T120703
CREATED:20250902T185439Z
LAST-MODIFIED:20250902T185439Z
UID:10025569-1769713500-1769713500@whattoday.ca
SUMMARY:Peterborough Petes vs. Sudbury Wolves
DESCRIPTION:
URL:https://whattoday.ca/event/peterborough-petes-vs-sudbury-wolves/
LOCATION:Peterborough Memorial Centre\, 151 Lansdowne Street West\, Peterborough\, Ontario\, K9J 1Y4\, Canada
CATEGORIES:Sports
END:VEVENT
BEGIN:VEVENT
DTSTART;TZID=America/Toronto:20260130T193000
DTEND;TZID=America/Toronto:20260130T210000
DTSTAMP:20260420T120703
CREATED:20260114T160644Z
LAST-MODIFIED:20260114T160644Z
UID:10028686-1769801400-1769806800@whattoday.ca
SUMMARY:PolarFest: Guns & Hoses Charity Hockey Game
DESCRIPTION:Admission is a non-perishable food item or cash donation\, supporting the Lakefield and Bridgenorth Food Banks.
URL:https://whattoday.ca/event/polarfest-guns-hoses-charity-hockey-game/
LOCATION:Ennismore Community Centre\, 553 Ennis Road\, Ennismore\, ON\, K0L 1T0\, Canada
CATEGORIES:More,Sports
END:VEVENT
BEGIN:VEVENT
DTSTART;TZID=America/Toronto:20260131T100000
DTEND;TZID=America/Toronto:20260131T110000
DTSTAMP:20260420T120703
CREATED:20260129T163415Z
LAST-MODIFIED:20260130T133430Z
UID:10028863-1769853600-1769857200@whattoday.ca
SUMMARY:Pickleball Learn to Play - 3 week session
DESCRIPTION:Learn to Play – 3 Week Session \nDesigned for those new to pickleball\, this beginner-friendly series introduces the game in a fun\, supportive environment. Each session includes hands-on instruction\, guided drills\, and plenty of time to play. \nYou’ll learn the rules\, scoring\, and essential skills such as serving\, returning\, dinking\, and basic game strategy. The focus is on building confidence\, improving coordination\, and enjoying the learning process — no pressure\, no experience required. \n Paddles are provided. Just bring comfortable athletic wear and change into clean indoor athletic shoes. \nIf this session doesn’t fit your schedule\, we offer Learn to Play sessions almost every day. Pickleball is easy to learn\, social\, and fun — all ages\, all skill levels\, no experience needed. \nAlready know how to play ? Grab your friends and co-workers and book a court\, 24 hours\, no membership required.
URL:https://whattoday.ca/event/pickleball-learn-to-play-3-week-session/2026-01-31/
LOCATION:Smash Courts\, 725B Monaghan Rd. Unit 14A\, Peterborough\, ON\, K9J 4C6\, Canada
CATEGORIES:Sports
END:VEVENT
BEGIN:VEVENT
DTSTART;TZID=America/Toronto:20260131T120000
DTEND;TZID=America/Toronto:20260131T150000
DTSTAMP:20260420T120703
CREATED:20260114T161631Z
LAST-MODIFIED:20260114T161631Z
UID:10028692-1769860800-1769871600@whattoday.ca
SUMMARY:PolarFest: Nordic Snowshoe Day
DESCRIPTION:
URL:https://whattoday.ca/event/polarfest-nordic-snowshoe-day/
LOCATION:Ontario Speed Skating Oval\, 3358 Lakefield Rd.\, Lakefield\, ON\, K0L 2H0\, Canada
CATEGORIES:Family,Kids,More,Sports
END:VEVENT
END:VCALENDAR