BEGIN:VCALENDAR
VERSION:2.0
PRODID:-//WHATtoday.ca - ECPv6.15.20//NONSGML v1.0//EN
CALSCALE:GREGORIAN
METHOD:PUBLISH
X-WR-CALNAME:WHATtoday.ca
X-ORIGINAL-URL:https://whattoday.ca
X-WR-CALDESC:Events for WHATtoday.ca
REFRESH-INTERVAL;VALUE=DURATION:PT1H
X-Robots-Tag:noindex
X-PUBLISHED-TTL:PT1H
BEGIN:VTIMEZONE
TZID:America/Toronto
BEGIN:DAYLIGHT
TZOFFSETFROM:-0500
TZOFFSETTO:-0400
TZNAME:EDT
DTSTART:20250309T070000
END:DAYLIGHT
BEGIN:STANDARD
TZOFFSETFROM:-0400
TZOFFSETTO:-0500
TZNAME:EST
DTSTART:20251102T060000
END:STANDARD
BEGIN:DAYLIGHT
TZOFFSETFROM:-0500
TZOFFSETTO:-0400
TZNAME:EDT
DTSTART:20260308T070000
END:DAYLIGHT
BEGIN:STANDARD
TZOFFSETFROM:-0400
TZOFFSETTO:-0500
TZNAME:EST
DTSTART:20261101T060000
END:STANDARD
BEGIN:DAYLIGHT
TZOFFSETFROM:-0500
TZOFFSETTO:-0400
TZNAME:EDT
DTSTART:20270314T070000
END:DAYLIGHT
BEGIN:STANDARD
TZOFFSETFROM:-0400
TZOFFSETTO:-0500
TZNAME:EST
DTSTART:20271107T060000
END:STANDARD
END:VTIMEZONE
BEGIN:VEVENT
DTSTART;TZID=America/Toronto:20260201T160000
DTEND;TZID=America/Toronto:20260201T180000
DTSTAMP:20260420T102938
CREATED:20250424T162107Z
LAST-MODIFIED:20250424T162107Z
UID:10016870-1769961600-1769968800@whattoday.ca
SUMMARY:Women's Recreational Hockey League (18+)
DESCRIPTION:
URL:https://whattoday.ca/event/womens-recreational-hockey-league-18/2026-02-01/
LOCATION:Miskin Law Community Complex
CATEGORIES:Sports
ORGANIZER;CN="City of Peterborough":MAILTO:rec@peterborough.ca
END:VEVENT
BEGIN:VEVENT
DTSTART;TZID=America/Toronto:20260205T110000
DTEND;TZID=America/Toronto:20260205T130000
DTSTAMP:20260420T102938
CREATED:20260129T150644Z
LAST-MODIFIED:20260129T150644Z
UID:10028811-1770289200-1770296400@whattoday.ca
SUMMARY:2 Learn to Play Pickleball bootcamp - Every Thursday 11 am - 1 pm
DESCRIPTION:Thursday lunchtime ‘Learn to Play’ Bootcamp \nOur 2-hour lunchtime pickleball bootcamp runs 11:00 AM – 1:00 PM every Thursday. \nPerfect for beginners — or anyone wanting a confidence boost. \n Take an extended lunch\nTeam up with friends or co-workers\nLearn the basics\, play real games\, have fun \nNo experience needed. Paddles provided. $35 pp.
URL:https://whattoday.ca/event/2-learn-to-play-pickleball-bootcamp-every-thursday-11-am-1-pm/2026-02-05/
LOCATION:Smash Courts\, 725B Monaghan Rd. Unit 14A\, Peterborough\, ON\, K9J 4C6\, Canada
CATEGORIES:Sports
END:VEVENT
BEGIN:VEVENT
DTSTART;TZID=America/Toronto:20260205T190500
DTEND;TZID=America/Toronto:20260205T190500
DTSTAMP:20260420T102938
CREATED:20250902T185550Z
LAST-MODIFIED:20250902T185550Z
UID:10025570-1770318300-1770318300@whattoday.ca
SUMMARY:Peterborough Petes vs. Owen Sound Attack
DESCRIPTION:
URL:https://whattoday.ca/event/peterborough-petes-vs-owen-sound-attack/
LOCATION:Peterborough Memorial Centre\, 151 Lansdowne Street West\, Peterborough\, Ontario\, K9J 1Y4\, Canada
CATEGORIES:Sports
END:VEVENT
BEGIN:VEVENT
DTSTART;TZID=America/Toronto:20260207T100000
DTEND;TZID=America/Toronto:20260207T110000
DTSTAMP:20260420T102938
CREATED:20260129T163415Z
LAST-MODIFIED:20260130T133430Z
UID:10028864-1770458400-1770462000@whattoday.ca
SUMMARY:Pickleball Learn to Play - 3 week session
DESCRIPTION:Learn to Play – 3 Week Session \nDesigned for those new to pickleball\, this beginner-friendly series introduces the game in a fun\, supportive environment. Each session includes hands-on instruction\, guided drills\, and plenty of time to play. \nYou’ll learn the rules\, scoring\, and essential skills such as serving\, returning\, dinking\, and basic game strategy. The focus is on building confidence\, improving coordination\, and enjoying the learning process — no pressure\, no experience required. \n Paddles are provided. Just bring comfortable athletic wear and change into clean indoor athletic shoes. \nIf this session doesn’t fit your schedule\, we offer Learn to Play sessions almost every day. Pickleball is easy to learn\, social\, and fun — all ages\, all skill levels\, no experience needed. \nAlready know how to play ? Grab your friends and co-workers and book a court\, 24 hours\, no membership required.
URL:https://whattoday.ca/event/pickleball-learn-to-play-3-week-session/2026-02-07/
LOCATION:Smash Courts\, 725B Monaghan Rd. Unit 14A\, Peterborough\, ON\, K9J 4C6\, Canada
CATEGORIES:Sports
END:VEVENT
BEGIN:VEVENT
DTSTART;TZID=America/Toronto:20260207T190500
DTEND;TZID=America/Toronto:20260207T190500
DTSTAMP:20260420T102938
CREATED:20250902T185615Z
LAST-MODIFIED:20250902T185615Z
UID:10025571-1770491100-1770491100@whattoday.ca
SUMMARY:Peterborough Petes vs. Sudbury Wolves
DESCRIPTION:
URL:https://whattoday.ca/event/peterborough-petes-vs-sudbury-wolves-2/
LOCATION:Peterborough Memorial Centre\, 151 Lansdowne Street West\, Peterborough\, Ontario\, K9J 1Y4\, Canada
CATEGORIES:Sports
END:VEVENT
BEGIN:VEVENT
DTSTART;TZID=America/Toronto:20260208T160000
DTEND;TZID=America/Toronto:20260208T180000
DTSTAMP:20260420T102938
CREATED:20250424T162107Z
LAST-MODIFIED:20250424T162107Z
UID:10016871-1770566400-1770573600@whattoday.ca
SUMMARY:Women's Recreational Hockey League (18+)
DESCRIPTION:
URL:https://whattoday.ca/event/womens-recreational-hockey-league-18/2026-02-08/
LOCATION:Miskin Law Community Complex
CATEGORIES:Sports
ORGANIZER;CN="City of Peterborough":MAILTO:rec@peterborough.ca
END:VEVENT
BEGIN:VEVENT
DTSTART;TZID=America/Toronto:20260212T110000
DTEND;TZID=America/Toronto:20260212T130000
DTSTAMP:20260420T102938
CREATED:20260129T150644Z
LAST-MODIFIED:20260129T150644Z
UID:10028812-1770894000-1770901200@whattoday.ca
SUMMARY:2 Learn to Play Pickleball bootcamp - Every Thursday 11 am - 1 pm
DESCRIPTION:Thursday lunchtime ‘Learn to Play’ Bootcamp \nOur 2-hour lunchtime pickleball bootcamp runs 11:00 AM – 1:00 PM every Thursday. \nPerfect for beginners — or anyone wanting a confidence boost. \n Take an extended lunch\nTeam up with friends or co-workers\nLearn the basics\, play real games\, have fun \nNo experience needed. Paddles provided. $35 pp.
URL:https://whattoday.ca/event/2-learn-to-play-pickleball-bootcamp-every-thursday-11-am-1-pm/2026-02-12/
LOCATION:Smash Courts\, 725B Monaghan Rd. Unit 14A\, Peterborough\, ON\, K9J 4C6\, Canada
CATEGORIES:Sports
END:VEVENT
BEGIN:VEVENT
DTSTART;TZID=America/Toronto:20260212T190500
DTEND;TZID=America/Toronto:20260212T190500
DTSTAMP:20260420T102938
CREATED:20250902T185644Z
LAST-MODIFIED:20250902T185644Z
UID:10025572-1770923100-1770923100@whattoday.ca
SUMMARY:Peterborough Petes vs. Ottawa 67's
DESCRIPTION:
URL:https://whattoday.ca/event/peterborough-petes-vs-ottawa-67s-3/
LOCATION:Peterborough Memorial Centre\, 151 Lansdowne Street West\, Peterborough\, Ontario\, K9J 1Y4\, Canada
CATEGORIES:Sports
END:VEVENT
BEGIN:VEVENT
DTSTART;TZID=America/Toronto:20260214T100000
DTEND;TZID=America/Toronto:20260214T110000
DTSTAMP:20260420T102938
CREATED:20260129T163415Z
LAST-MODIFIED:20260130T133430Z
UID:10028865-1771063200-1771066800@whattoday.ca
SUMMARY:Pickleball Learn to Play - 3 week session
DESCRIPTION:Learn to Play – 3 Week Session \nDesigned for those new to pickleball\, this beginner-friendly series introduces the game in a fun\, supportive environment. Each session includes hands-on instruction\, guided drills\, and plenty of time to play. \nYou’ll learn the rules\, scoring\, and essential skills such as serving\, returning\, dinking\, and basic game strategy. The focus is on building confidence\, improving coordination\, and enjoying the learning process — no pressure\, no experience required. \n Paddles are provided. Just bring comfortable athletic wear and change into clean indoor athletic shoes. \nIf this session doesn’t fit your schedule\, we offer Learn to Play sessions almost every day. Pickleball is easy to learn\, social\, and fun — all ages\, all skill levels\, no experience needed. \nAlready know how to play ? Grab your friends and co-workers and book a court\, 24 hours\, no membership required.
URL:https://whattoday.ca/event/pickleball-learn-to-play-3-week-session/2026-02-14/
LOCATION:Smash Courts\, 725B Monaghan Rd. Unit 14A\, Peterborough\, ON\, K9J 4C6\, Canada
CATEGORIES:Sports
END:VEVENT
BEGIN:VEVENT
DTSTART;TZID=America/Toronto:20260214T110000
DTEND;TZID=America/Toronto:20260214T170000
DTSTAMP:20260420T102938
CREATED:20260128T135309Z
LAST-MODIFIED:20260128T135309Z
UID:10028808-1771066800-1771088400@whattoday.ca
SUMMARY:PICKLEBALL - Doubles and Couples Valentine's Bash
DESCRIPTION:Join us for a Valentine’s Day Pickleball Tournament ! Our DOUBLES & COUPLES VALENTINE’S BASH is a great way to spend Valentine’s Day ! Teams of 2 – Sign up with a partner. \n PICKLEBALL IS OUR VALENTINE – Any doubles pairing\, no romantic partner required\, just love of the game !
URL:https://whattoday.ca/event/pickleball-doubles-and-couples-valentines-bash/
LOCATION:Smash Courts\, 725B Monaghan Rd. Unit 14A\, Peterborough\, ON\, K9J 4C6\, Canada
CATEGORIES:Sports
END:VEVENT
BEGIN:VEVENT
DTSTART;TZID=America/Toronto:20260215T160000
DTEND;TZID=America/Toronto:20260215T180000
DTSTAMP:20260420T102938
CREATED:20250424T162107Z
LAST-MODIFIED:20250424T162107Z
UID:10016872-1771171200-1771178400@whattoday.ca
SUMMARY:Women's Recreational Hockey League (18+)
DESCRIPTION:
URL:https://whattoday.ca/event/womens-recreational-hockey-league-18/2026-02-15/
LOCATION:Miskin Law Community Complex
CATEGORIES:Sports
ORGANIZER;CN="City of Peterborough":MAILTO:rec@peterborough.ca
END:VEVENT
BEGIN:VEVENT
DTSTART;TZID=America/Toronto:20260216T060000
DTEND;TZID=America/Toronto:20260216T140000
DTSTAMP:20260420T102938
CREATED:20260209T173808Z
LAST-MODIFIED:20260209T173808Z
UID:10029585-1771221600-1771250400@whattoday.ca
SUMMARY:Drop-in Sports
DESCRIPTION:Pickleball: 6am – 8am \nBasketball: 9:30am – 11:30am \nBadminton: 12pm – 2pm
URL:https://whattoday.ca/event/drop-in-sports/
LOCATION:Peterborough Sport and Wellness Centre\, 775 Brealey Dr.\, Peterborough\, ON\, K9K 0B8\, Canada
CATEGORIES:Free,Sports
ORGANIZER;CN="City of Peterborough":MAILTO:rec@peterborough.ca
END:VEVENT
BEGIN:VEVENT
DTSTART;TZID=America/Toronto:20260216T140500
DTEND;TZID=America/Toronto:20260216T140500
DTSTAMP:20260420T102938
CREATED:20250902T185750Z
LAST-MODIFIED:20250902T185750Z
UID:10025574-1771250700-1771250700@whattoday.ca
SUMMARY:Peterborough Petes vs. Kitchener Rangers
DESCRIPTION:
URL:https://whattoday.ca/event/peterborough-petes-vs-kitchener-rangers-2/
LOCATION:Peterborough Memorial Centre\, 151 Lansdowne Street West\, Peterborough\, Ontario\, K9J 1Y4\, Canada
CATEGORIES:Sports
END:VEVENT
BEGIN:VEVENT
DTSTART;TZID=America/Toronto:20260219T110000
DTEND;TZID=America/Toronto:20260219T130000
DTSTAMP:20260420T102938
CREATED:20260129T150644Z
LAST-MODIFIED:20260129T150644Z
UID:10028813-1771498800-1771506000@whattoday.ca
SUMMARY:2 Learn to Play Pickleball bootcamp - Every Thursday 11 am - 1 pm
DESCRIPTION:Thursday lunchtime ‘Learn to Play’ Bootcamp \nOur 2-hour lunchtime pickleball bootcamp runs 11:00 AM – 1:00 PM every Thursday. \nPerfect for beginners — or anyone wanting a confidence boost. \n Take an extended lunch\nTeam up with friends or co-workers\nLearn the basics\, play real games\, have fun \nNo experience needed. Paddles provided. $35 pp.
URL:https://whattoday.ca/event/2-learn-to-play-pickleball-bootcamp-every-thursday-11-am-1-pm/2026-02-19/
LOCATION:Smash Courts\, 725B Monaghan Rd. Unit 14A\, Peterborough\, ON\, K9J 4C6\, Canada
CATEGORIES:Sports
END:VEVENT
BEGIN:VEVENT
DTSTART;TZID=America/Toronto:20260219T190500
DTEND;TZID=America/Toronto:20260219T190500
DTSTAMP:20260420T102938
CREATED:20250902T185818Z
LAST-MODIFIED:20250902T185824Z
UID:10025575-1771527900-1771527900@whattoday.ca
SUMMARY:Peterborough Petes vs. North Bay Battalion
DESCRIPTION:
URL:https://whattoday.ca/event/peterborough-petes-vs-north-bay-battalion-2/
LOCATION:Peterborough Memorial Centre\, 151 Lansdowne Street West\, Peterborough\, Ontario\, K9J 1Y4\, Canada
CATEGORIES:Sports
END:VEVENT
BEGIN:VEVENT
DTSTART;TZID=America/Toronto:20260221T113000
DTEND;TZID=America/Toronto:20260221T150000
DTSTAMP:20260420T102938
CREATED:20260203T201040Z
LAST-MODIFIED:20260203T201040Z
UID:10029207-1771673400-1771686000@whattoday.ca
SUMMARY:Community Curling Day
DESCRIPTION:Register early as space is limited. Contact the Lakefield Curling Club for more information: info@lakefieldcurlingclub.ca.
URL:https://whattoday.ca/event/community-curling-day/
LOCATION:Lakefield Curling Club\, 12 Nicholls St.\, Lakefield\, ON\, K0L 2H0\, Canada
CATEGORIES:Family,Kids,More,Seniors,Sports
ORGANIZER;CN="lakefield Curling Club":MAILTO:info@lakefieldcurlingclub.ca
END:VEVENT
BEGIN:VEVENT
DTSTART;TZID=America/Toronto:20260222T140500
DTEND;TZID=America/Toronto:20260222T140500
DTSTAMP:20260420T102938
CREATED:20250902T185905Z
LAST-MODIFIED:20250902T185911Z
UID:10025576-1771769100-1771769100@whattoday.ca
SUMMARY:Peterborough Petes vs. Brantford Bulldogs
DESCRIPTION:
URL:https://whattoday.ca/event/peterborough-petes-vs-brantford-bulldogs-3/
LOCATION:Peterborough Memorial Centre\, 151 Lansdowne Street West\, Peterborough\, Ontario\, K9J 1Y4\, Canada
CATEGORIES:Sports
END:VEVENT
BEGIN:VEVENT
DTSTART;TZID=America/Toronto:20260222T160000
DTEND;TZID=America/Toronto:20260222T180000
DTSTAMP:20260420T102938
CREATED:20250424T162107Z
LAST-MODIFIED:20250424T162107Z
UID:10016873-1771776000-1771783200@whattoday.ca
SUMMARY:Women's Recreational Hockey League (18+)
DESCRIPTION:
URL:https://whattoday.ca/event/womens-recreational-hockey-league-18/2026-02-22/
LOCATION:Miskin Law Community Complex
CATEGORIES:Sports
ORGANIZER;CN="City of Peterborough":MAILTO:rec@peterborough.ca
END:VEVENT
BEGIN:VEVENT
DTSTART;TZID=America/Toronto:20260226T110000
DTEND;TZID=America/Toronto:20260226T130000
DTSTAMP:20260420T102938
CREATED:20260129T150644Z
LAST-MODIFIED:20260129T150644Z
UID:10028814-1772103600-1772110800@whattoday.ca
SUMMARY:2 Learn to Play Pickleball bootcamp - Every Thursday 11 am - 1 pm
DESCRIPTION:Thursday lunchtime ‘Learn to Play’ Bootcamp \nOur 2-hour lunchtime pickleball bootcamp runs 11:00 AM – 1:00 PM every Thursday. \nPerfect for beginners — or anyone wanting a confidence boost. \n Take an extended lunch\nTeam up with friends or co-workers\nLearn the basics\, play real games\, have fun \nNo experience needed. Paddles provided. $35 pp.
URL:https://whattoday.ca/event/2-learn-to-play-pickleball-bootcamp-every-thursday-11-am-1-pm/2026-02-26/
LOCATION:Smash Courts\, 725B Monaghan Rd. Unit 14A\, Peterborough\, ON\, K9J 4C6\, Canada
CATEGORIES:Sports
END:VEVENT
BEGIN:VEVENT
DTSTART;TZID=America/Toronto:20260228T100000
DTEND;TZID=America/Toronto:20260228T150000
DTSTAMP:20260420T102938
CREATED:20260209T140259Z
LAST-MODIFIED:20260209T140259Z
UID:10029573-1772272800-1772290800@whattoday.ca
SUMMARY:Kawartha Komets Table Hockey Tournament Fundraising Event
DESCRIPTION:Table Hockey Tournament Fundraising Event in support of the Kawartha Komets. Numerous raffle prizes to be won and lunch provided. Look forward to seeing you there.
URL:https://whattoday.ca/event/kawartha-komets-table-hockey-tournament-fundraising-event/
LOCATION:317 Hunter Street West\, Peterborough\, ON\, K9H 4P4\, Canada
CATEGORIES:Entertainment,Family,Sports
END:VEVENT
BEGIN:VEVENT
DTSTART;TZID=America/Toronto:20260228T180000
DTEND;TZID=America/Toronto:20260228T180000
DTSTAMP:20260420T102938
CREATED:20260119T151647Z
LAST-MODIFIED:20260119T151654Z
UID:10028721-1772301600-1772301600@whattoday.ca
SUMMARY:East vs. West Hockey Game
DESCRIPTION:
URL:https://whattoday.ca/event/east-vs-west-hockey-game/
LOCATION:Peterborough Memorial Centre\, 151 Lansdowne Street West\, Peterborough\, Ontario\, K9J 1Y4\, Canada
CATEGORIES:Sports
END:VEVENT
END:VCALENDAR