BEGIN:VCALENDAR
VERSION:2.0
PRODID:-//WHATtoday.ca - ECPv6.15.20//NONSGML v1.0//EN
CALSCALE:GREGORIAN
METHOD:PUBLISH
X-WR-CALNAME:WHATtoday.ca
X-ORIGINAL-URL:https://whattoday.ca
X-WR-CALDESC:Events for WHATtoday.ca
REFRESH-INTERVAL;VALUE=DURATION:PT1H
X-Robots-Tag:noindex
X-PUBLISHED-TTL:PT1H
BEGIN:VTIMEZONE
TZID:America/Toronto
BEGIN:DAYLIGHT
TZOFFSETFROM:-0500
TZOFFSETTO:-0400
TZNAME:EDT
DTSTART:20250309T070000
END:DAYLIGHT
BEGIN:STANDARD
TZOFFSETFROM:-0400
TZOFFSETTO:-0500
TZNAME:EST
DTSTART:20251102T060000
END:STANDARD
BEGIN:DAYLIGHT
TZOFFSETFROM:-0500
TZOFFSETTO:-0400
TZNAME:EDT
DTSTART:20260308T070000
END:DAYLIGHT
BEGIN:STANDARD
TZOFFSETFROM:-0400
TZOFFSETTO:-0500
TZNAME:EST
DTSTART:20261101T060000
END:STANDARD
BEGIN:DAYLIGHT
TZOFFSETFROM:-0500
TZOFFSETTO:-0400
TZNAME:EDT
DTSTART:20270314T070000
END:DAYLIGHT
BEGIN:STANDARD
TZOFFSETFROM:-0400
TZOFFSETTO:-0500
TZNAME:EST
DTSTART:20271107T060000
END:STANDARD
END:VTIMEZONE
BEGIN:VEVENT
DTSTART;TZID=America/Toronto:20260702T110000
DTEND;TZID=America/Toronto:20260702T130000
DTSTAMP:20260424T085204
CREATED:20260129T150644Z
LAST-MODIFIED:20260129T150644Z
UID:10028832-1782990000-1782997200@whattoday.ca
SUMMARY:2 Learn to Play Pickleball bootcamp - Every Thursday 11 am - 1 pm
DESCRIPTION:Thursday lunchtime ‘Learn to Play’ Bootcamp \nOur 2-hour lunchtime pickleball bootcamp runs 11:00 AM – 1:00 PM every Thursday. \nPerfect for beginners — or anyone wanting a confidence boost. \n Take an extended lunch\nTeam up with friends or co-workers\nLearn the basics\, play real games\, have fun \nNo experience needed. Paddles provided. $35 pp.
URL:https://whattoday.ca/event/2-learn-to-play-pickleball-bootcamp-every-thursday-11-am-1-pm/2026-07-02/
LOCATION:Smash Courts\, 725B Monaghan Rd. Unit 14A\, Peterborough\, ON\, K9J 4C6\, Canada
CATEGORIES:Sports
END:VEVENT
BEGIN:VEVENT
DTSTART;TZID=America/Toronto:20260702T200000
DTEND;TZID=America/Toronto:20260702T200000
DTSTAMP:20260424T085204
CREATED:20260327T152747Z
LAST-MODIFIED:20260327T152747Z
UID:10030247-1783022400-1783022400@whattoday.ca
SUMMARY:Century 21 Lakers vs. Cobourg Kodiaks
DESCRIPTION:
URL:https://whattoday.ca/event/century-21-lakers-vs-cobourg-kodiaks/
LOCATION:Peterborough Memorial Centre\, 151 Lansdowne Street West\, Peterborough\, Ontario\, K9J 1Y4\, Canada
CATEGORIES:Family,Kids,Seniors,Sports
END:VEVENT
BEGIN:VEVENT
DTSTART;TZID=America/Toronto:20260705T160000
DTEND;TZID=America/Toronto:20260705T180000
DTSTAMP:20260424T085204
CREATED:20250424T162107Z
LAST-MODIFIED:20250424T162107Z
UID:10016892-1783267200-1783274400@whattoday.ca
SUMMARY:Women's Recreational Hockey League (18+)
DESCRIPTION:
URL:https://whattoday.ca/event/womens-recreational-hockey-league-18/2026-07-05/
LOCATION:Miskin Law Community Complex
CATEGORIES:Sports
ORGANIZER;CN="City of Peterborough":MAILTO:rec@peterborough.ca
END:VEVENT
BEGIN:VEVENT
DTSTART;TZID=America/Toronto:20260709T110000
DTEND;TZID=America/Toronto:20260709T130000
DTSTAMP:20260424T085204
CREATED:20260129T150644Z
LAST-MODIFIED:20260129T150644Z
UID:10028833-1783594800-1783602000@whattoday.ca
SUMMARY:2 Learn to Play Pickleball bootcamp - Every Thursday 11 am - 1 pm
DESCRIPTION:Thursday lunchtime ‘Learn to Play’ Bootcamp \nOur 2-hour lunchtime pickleball bootcamp runs 11:00 AM – 1:00 PM every Thursday. \nPerfect for beginners — or anyone wanting a confidence boost. \n Take an extended lunch\nTeam up with friends or co-workers\nLearn the basics\, play real games\, have fun \nNo experience needed. Paddles provided. $35 pp.
URL:https://whattoday.ca/event/2-learn-to-play-pickleball-bootcamp-every-thursday-11-am-1-pm/2026-07-09/
LOCATION:Smash Courts\, 725B Monaghan Rd. Unit 14A\, Peterborough\, ON\, K9J 4C6\, Canada
CATEGORIES:Sports
END:VEVENT
BEGIN:VEVENT
DTSTART;TZID=America/Toronto:20260709T200000
DTEND;TZID=America/Toronto:20260709T200000
DTSTAMP:20260424T085204
CREATED:20260327T152811Z
LAST-MODIFIED:20260327T152811Z
UID:10030248-1783627200-1783627200@whattoday.ca
SUMMARY:Century 21 Lakers vs. Owen Sound North Stars
DESCRIPTION:
URL:https://whattoday.ca/event/century-21-lakers-vs-owen-sound-north-stars/
LOCATION:Peterborough Memorial Centre\, 151 Lansdowne Street West\, Peterborough\, Ontario\, K9J 1Y4\, Canada
CATEGORIES:Family,Kids,Seniors,Sports
END:VEVENT
BEGIN:VEVENT
DTSTART;TZID=America/Toronto:20260712T160000
DTEND;TZID=America/Toronto:20260712T180000
DTSTAMP:20260424T085204
CREATED:20250424T162107Z
LAST-MODIFIED:20250424T162107Z
UID:10016893-1783872000-1783879200@whattoday.ca
SUMMARY:Women's Recreational Hockey League (18+)
DESCRIPTION:
URL:https://whattoday.ca/event/womens-recreational-hockey-league-18/2026-07-12/
LOCATION:Miskin Law Community Complex
CATEGORIES:Sports
ORGANIZER;CN="City of Peterborough":MAILTO:rec@peterborough.ca
END:VEVENT
BEGIN:VEVENT
DTSTART;TZID=America/Toronto:20260716T110000
DTEND;TZID=America/Toronto:20260716T130000
DTSTAMP:20260424T085204
CREATED:20260129T150644Z
LAST-MODIFIED:20260129T150644Z
UID:10028834-1784199600-1784206800@whattoday.ca
SUMMARY:2 Learn to Play Pickleball bootcamp - Every Thursday 11 am - 1 pm
DESCRIPTION:Thursday lunchtime ‘Learn to Play’ Bootcamp \nOur 2-hour lunchtime pickleball bootcamp runs 11:00 AM – 1:00 PM every Thursday. \nPerfect for beginners — or anyone wanting a confidence boost. \n Take an extended lunch\nTeam up with friends or co-workers\nLearn the basics\, play real games\, have fun \nNo experience needed. Paddles provided. $35 pp.
URL:https://whattoday.ca/event/2-learn-to-play-pickleball-bootcamp-every-thursday-11-am-1-pm/2026-07-16/
LOCATION:Smash Courts\, 725B Monaghan Rd. Unit 14A\, Peterborough\, ON\, K9J 4C6\, Canada
CATEGORIES:Sports
END:VEVENT
BEGIN:VEVENT
DTSTART;TZID=America/Toronto:20260716T200000
DTEND;TZID=America/Toronto:20260716T200000
DTSTAMP:20260424T085204
CREATED:20260327T152837Z
LAST-MODIFIED:20260327T152837Z
UID:10030249-1784232000-1784232000@whattoday.ca
SUMMARY:Century 21 Lakers vs. Oakville Rock
DESCRIPTION:
URL:https://whattoday.ca/event/century-21-lakers-vs-oakville-rock/
LOCATION:Peterborough Memorial Centre\, 151 Lansdowne Street West\, Peterborough\, Ontario\, K9J 1Y4\, Canada
CATEGORIES:Family,Kids,Seniors,Sports
END:VEVENT
BEGIN:VEVENT
DTSTART;TZID=America/Toronto:20260719T160000
DTEND;TZID=America/Toronto:20260719T180000
DTSTAMP:20260424T085204
CREATED:20250424T162107Z
LAST-MODIFIED:20250424T162107Z
UID:10016894-1784476800-1784484000@whattoday.ca
SUMMARY:Women's Recreational Hockey League (18+)
DESCRIPTION:
URL:https://whattoday.ca/event/womens-recreational-hockey-league-18/2026-07-19/
LOCATION:Miskin Law Community Complex
CATEGORIES:Sports
ORGANIZER;CN="City of Peterborough":MAILTO:rec@peterborough.ca
END:VEVENT
BEGIN:VEVENT
DTSTART;TZID=America/Toronto:20260723T110000
DTEND;TZID=America/Toronto:20260723T130000
DTSTAMP:20260424T085204
CREATED:20260129T150644Z
LAST-MODIFIED:20260129T150644Z
UID:10028835-1784804400-1784811600@whattoday.ca
SUMMARY:2 Learn to Play Pickleball bootcamp - Every Thursday 11 am - 1 pm
DESCRIPTION:Thursday lunchtime ‘Learn to Play’ Bootcamp \nOur 2-hour lunchtime pickleball bootcamp runs 11:00 AM – 1:00 PM every Thursday. \nPerfect for beginners — or anyone wanting a confidence boost. \n Take an extended lunch\nTeam up with friends or co-workers\nLearn the basics\, play real games\, have fun \nNo experience needed. Paddles provided. $35 pp.
URL:https://whattoday.ca/event/2-learn-to-play-pickleball-bootcamp-every-thursday-11-am-1-pm/2026-07-23/
LOCATION:Smash Courts\, 725B Monaghan Rd. Unit 14A\, Peterborough\, ON\, K9J 4C6\, Canada
CATEGORIES:Sports
END:VEVENT
BEGIN:VEVENT
DTSTART;TZID=America/Toronto:20260723T200000
DTEND;TZID=America/Toronto:20260723T200000
DTSTAMP:20260424T085204
CREATED:20260327T152909Z
LAST-MODIFIED:20260327T152909Z
UID:10030250-1784836800-1784836800@whattoday.ca
SUMMARY:Century 21 Lakers vs. Cobourg Kodiaks
DESCRIPTION:
URL:https://whattoday.ca/event/century-21-lakers-vs-cobourg-kodiaks-2/
LOCATION:Peterborough Memorial Centre\, 151 Lansdowne Street West\, Peterborough\, Ontario\, K9J 1Y4\, Canada
CATEGORIES:Family,Kids,Seniors,Sports
END:VEVENT
BEGIN:VEVENT
DTSTART;TZID=America/Toronto:20260726T160000
DTEND;TZID=America/Toronto:20260726T180000
DTSTAMP:20260424T085204
CREATED:20250424T162107Z
LAST-MODIFIED:20250424T162107Z
UID:10016895-1785081600-1785088800@whattoday.ca
SUMMARY:Women's Recreational Hockey League (18+)
DESCRIPTION:
URL:https://whattoday.ca/event/womens-recreational-hockey-league-18/2026-07-26/
LOCATION:Miskin Law Community Complex
CATEGORIES:Sports
ORGANIZER;CN="City of Peterborough":MAILTO:rec@peterborough.ca
END:VEVENT
BEGIN:VEVENT
DTSTART;TZID=America/Toronto:20260730T110000
DTEND;TZID=America/Toronto:20260730T130000
DTSTAMP:20260424T085204
CREATED:20260129T150644Z
LAST-MODIFIED:20260129T150644Z
UID:10028836-1785409200-1785416400@whattoday.ca
SUMMARY:2 Learn to Play Pickleball bootcamp - Every Thursday 11 am - 1 pm
DESCRIPTION:Thursday lunchtime ‘Learn to Play’ Bootcamp \nOur 2-hour lunchtime pickleball bootcamp runs 11:00 AM – 1:00 PM every Thursday. \nPerfect for beginners — or anyone wanting a confidence boost. \n Take an extended lunch\nTeam up with friends or co-workers\nLearn the basics\, play real games\, have fun \nNo experience needed. Paddles provided. $35 pp.
URL:https://whattoday.ca/event/2-learn-to-play-pickleball-bootcamp-every-thursday-11-am-1-pm/2026-07-30/
LOCATION:Smash Courts\, 725B Monaghan Rd. Unit 14A\, Peterborough\, ON\, K9J 4C6\, Canada
CATEGORIES:Sports
END:VEVENT
BEGIN:VEVENT
DTSTART;TZID=America/Toronto:20260730T200000
DTEND;TZID=America/Toronto:20260730T200000
DTSTAMP:20260424T085204
CREATED:20260327T152927Z
LAST-MODIFIED:20260327T152927Z
UID:10030251-1785441600-1785441600@whattoday.ca
SUMMARY:Century 21 Lakers vs. Owen Sound North Stars
DESCRIPTION:
URL:https://whattoday.ca/event/century-21-lakers-vs-owen-sound-north-stars-2/
LOCATION:Peterborough Memorial Centre\, 151 Lansdowne Street West\, Peterborough\, Ontario\, K9J 1Y4\, Canada
CATEGORIES:Family,Kids,Seniors,Sports
END:VEVENT
END:VCALENDAR