BEGIN:VCALENDAR
VERSION:2.0
PRODID:-//WHATtoday.ca - ECPv6.15.20//NONSGML v1.0//EN
CALSCALE:GREGORIAN
METHOD:PUBLISH
X-ORIGINAL-URL:https://whattoday.ca
X-WR-CALDESC:Events for WHATtoday.ca
REFRESH-INTERVAL;VALUE=DURATION:PT1H
X-Robots-Tag:noindex
X-PUBLISHED-TTL:PT1H
BEGIN:VTIMEZONE
TZID:America/Toronto
BEGIN:DAYLIGHT
TZOFFSETFROM:-0500
TZOFFSETTO:-0400
TZNAME:EDT
DTSTART:20250309T070000
END:DAYLIGHT
BEGIN:STANDARD
TZOFFSETFROM:-0400
TZOFFSETTO:-0500
TZNAME:EST
DTSTART:20251102T060000
END:STANDARD
BEGIN:DAYLIGHT
TZOFFSETFROM:-0500
TZOFFSETTO:-0400
TZNAME:EDT
DTSTART:20260308T070000
END:DAYLIGHT
BEGIN:STANDARD
TZOFFSETFROM:-0400
TZOFFSETTO:-0500
TZNAME:EST
DTSTART:20261101T060000
END:STANDARD
BEGIN:DAYLIGHT
TZOFFSETFROM:-0500
TZOFFSETTO:-0400
TZNAME:EDT
DTSTART:20270314T070000
END:DAYLIGHT
BEGIN:STANDARD
TZOFFSETFROM:-0400
TZOFFSETTO:-0500
TZNAME:EST
DTSTART:20271107T060000
END:STANDARD
END:VTIMEZONE
BEGIN:VEVENT
DTSTART;TZID=America/Toronto:20260802T160000
DTEND;TZID=America/Toronto:20260802T180000
DTSTAMP:20260424T085259
CREATED:20250424T162107Z
LAST-MODIFIED:20250424T162107Z
UID:10016896-1785686400-1785693600@whattoday.ca
SUMMARY:Women's Recreational Hockey League (18+)
DESCRIPTION:
URL:https://whattoday.ca/event/womens-recreational-hockey-league-18/2026-08-02/
LOCATION:Miskin Law Community Complex
CATEGORIES:Sports
ORGANIZER;CN="City of Peterborough":MAILTO:rec@peterborough.ca
END:VEVENT
BEGIN:VEVENT
DTSTART;TZID=America/Toronto:20260806T110000
DTEND;TZID=America/Toronto:20260806T130000
DTSTAMP:20260424T085259
CREATED:20260129T150644Z
LAST-MODIFIED:20260129T150644Z
UID:10028837-1786014000-1786021200@whattoday.ca
SUMMARY:2 Learn to Play Pickleball bootcamp - Every Thursday 11 am - 1 pm
DESCRIPTION:Thursday lunchtime ‘Learn to Play’ Bootcamp \nOur 2-hour lunchtime pickleball bootcamp runs 11:00 AM – 1:00 PM every Thursday. \nPerfect for beginners — or anyone wanting a confidence boost. \n Take an extended lunch\nTeam up with friends or co-workers\nLearn the basics\, play real games\, have fun \nNo experience needed. Paddles provided. $35 pp.
URL:https://whattoday.ca/event/2-learn-to-play-pickleball-bootcamp-every-thursday-11-am-1-pm/2026-08-06/
LOCATION:Smash Courts\, 725B Monaghan Rd. Unit 14A\, Peterborough\, ON\, K9J 4C6\, Canada
CATEGORIES:Sports
END:VEVENT
BEGIN:VEVENT
DTSTART;TZID=America/Toronto:20260809T160000
DTEND;TZID=America/Toronto:20260809T180000
DTSTAMP:20260424T085259
CREATED:20250424T162107Z
LAST-MODIFIED:20250424T162107Z
UID:10016897-1786291200-1786298400@whattoday.ca
SUMMARY:Women's Recreational Hockey League (18+)
DESCRIPTION:
URL:https://whattoday.ca/event/womens-recreational-hockey-league-18/2026-08-09/
LOCATION:Miskin Law Community Complex
CATEGORIES:Sports
ORGANIZER;CN="City of Peterborough":MAILTO:rec@peterborough.ca
END:VEVENT
BEGIN:VEVENT
DTSTART;TZID=America/Toronto:20260813T110000
DTEND;TZID=America/Toronto:20260813T130000
DTSTAMP:20260424T085259
CREATED:20260129T150644Z
LAST-MODIFIED:20260129T150644Z
UID:10028838-1786618800-1786626000@whattoday.ca
SUMMARY:2 Learn to Play Pickleball bootcamp - Every Thursday 11 am - 1 pm
DESCRIPTION:Thursday lunchtime ‘Learn to Play’ Bootcamp \nOur 2-hour lunchtime pickleball bootcamp runs 11:00 AM – 1:00 PM every Thursday. \nPerfect for beginners — or anyone wanting a confidence boost. \n Take an extended lunch\nTeam up with friends or co-workers\nLearn the basics\, play real games\, have fun \nNo experience needed. Paddles provided. $35 pp.
URL:https://whattoday.ca/event/2-learn-to-play-pickleball-bootcamp-every-thursday-11-am-1-pm/2026-08-13/
LOCATION:Smash Courts\, 725B Monaghan Rd. Unit 14A\, Peterborough\, ON\, K9J 4C6\, Canada
CATEGORIES:Sports
END:VEVENT
BEGIN:VEVENT
DTSTART;TZID=America/Toronto:20260816T160000
DTEND;TZID=America/Toronto:20260816T180000
DTSTAMP:20260424T085259
CREATED:20250424T162107Z
LAST-MODIFIED:20250424T162107Z
UID:10016898-1786896000-1786903200@whattoday.ca
SUMMARY:Women's Recreational Hockey League (18+)
DESCRIPTION:
URL:https://whattoday.ca/event/womens-recreational-hockey-league-18/2026-08-16/
LOCATION:Miskin Law Community Complex
CATEGORIES:Sports
ORGANIZER;CN="City of Peterborough":MAILTO:rec@peterborough.ca
END:VEVENT
BEGIN:VEVENT
DTSTART;TZID=America/Toronto:20260820T110000
DTEND;TZID=America/Toronto:20260820T130000
DTSTAMP:20260424T085259
CREATED:20260129T150644Z
LAST-MODIFIED:20260129T150644Z
UID:10028839-1787223600-1787230800@whattoday.ca
SUMMARY:2 Learn to Play Pickleball bootcamp - Every Thursday 11 am - 1 pm
DESCRIPTION:Thursday lunchtime ‘Learn to Play’ Bootcamp \nOur 2-hour lunchtime pickleball bootcamp runs 11:00 AM – 1:00 PM every Thursday. \nPerfect for beginners — or anyone wanting a confidence boost. \n Take an extended lunch\nTeam up with friends or co-workers\nLearn the basics\, play real games\, have fun \nNo experience needed. Paddles provided. $35 pp.
URL:https://whattoday.ca/event/2-learn-to-play-pickleball-bootcamp-every-thursday-11-am-1-pm/2026-08-20/
LOCATION:Smash Courts\, 725B Monaghan Rd. Unit 14A\, Peterborough\, ON\, K9J 4C6\, Canada
CATEGORIES:Sports
END:VEVENT
BEGIN:VEVENT
DTSTART;TZID=America/Toronto:20260823T160000
DTEND;TZID=America/Toronto:20260823T180000
DTSTAMP:20260424T085259
CREATED:20250424T162107Z
LAST-MODIFIED:20250424T162107Z
UID:10016899-1787500800-1787508000@whattoday.ca
SUMMARY:Women's Recreational Hockey League (18+)
DESCRIPTION:
URL:https://whattoday.ca/event/womens-recreational-hockey-league-18/2026-08-23/
LOCATION:Miskin Law Community Complex
CATEGORIES:Sports
ORGANIZER;CN="City of Peterborough":MAILTO:rec@peterborough.ca
END:VEVENT
BEGIN:VEVENT
DTSTART;TZID=America/Toronto:20260827T110000
DTEND;TZID=America/Toronto:20260827T130000
DTSTAMP:20260424T085259
CREATED:20260129T150644Z
LAST-MODIFIED:20260129T150644Z
UID:10028840-1787828400-1787835600@whattoday.ca
SUMMARY:2 Learn to Play Pickleball bootcamp - Every Thursday 11 am - 1 pm
DESCRIPTION:Thursday lunchtime ‘Learn to Play’ Bootcamp \nOur 2-hour lunchtime pickleball bootcamp runs 11:00 AM – 1:00 PM every Thursday. \nPerfect for beginners — or anyone wanting a confidence boost. \n Take an extended lunch\nTeam up with friends or co-workers\nLearn the basics\, play real games\, have fun \nNo experience needed. Paddles provided. $35 pp.
URL:https://whattoday.ca/event/2-learn-to-play-pickleball-bootcamp-every-thursday-11-am-1-pm/2026-08-27/
LOCATION:Smash Courts\, 725B Monaghan Rd. Unit 14A\, Peterborough\, ON\, K9J 4C6\, Canada
CATEGORIES:Sports
END:VEVENT
BEGIN:VEVENT
DTSTART;TZID=America/Toronto:20260830T160000
DTEND;TZID=America/Toronto:20260830T180000
DTSTAMP:20260424T085259
CREATED:20250424T162107Z
LAST-MODIFIED:20250424T162107Z
UID:10016900-1788105600-1788112800@whattoday.ca
SUMMARY:Women's Recreational Hockey League (18+)
DESCRIPTION:
URL:https://whattoday.ca/event/womens-recreational-hockey-league-18/2026-08-30/
LOCATION:Miskin Law Community Complex
CATEGORIES:Sports
ORGANIZER;CN="City of Peterborough":MAILTO:rec@peterborough.ca
END:VEVENT
END:VCALENDAR