BEGIN:VCALENDAR
VERSION:2.0
PRODID:-//WHATtoday.ca - ECPv6.15.20//NONSGML v1.0//EN
CALSCALE:GREGORIAN
METHOD:PUBLISH
X-WR-CALNAME:WHATtoday.ca
X-ORIGINAL-URL:https://whattoday.ca
X-WR-CALDESC:Events for WHATtoday.ca
REFRESH-INTERVAL;VALUE=DURATION:PT1H
X-Robots-Tag:noindex
X-PUBLISHED-TTL:PT1H
BEGIN:VTIMEZONE
TZID:America/Toronto
BEGIN:DAYLIGHT
TZOFFSETFROM:-0500
TZOFFSETTO:-0400
TZNAME:EDT
DTSTART:20250309T070000
END:DAYLIGHT
BEGIN:STANDARD
TZOFFSETFROM:-0400
TZOFFSETTO:-0500
TZNAME:EST
DTSTART:20251102T060000
END:STANDARD
BEGIN:DAYLIGHT
TZOFFSETFROM:-0500
TZOFFSETTO:-0400
TZNAME:EDT
DTSTART:20260308T070000
END:DAYLIGHT
BEGIN:STANDARD
TZOFFSETFROM:-0400
TZOFFSETTO:-0500
TZNAME:EST
DTSTART:20261101T060000
END:STANDARD
BEGIN:DAYLIGHT
TZOFFSETFROM:-0500
TZOFFSETTO:-0400
TZNAME:EDT
DTSTART:20270314T070000
END:DAYLIGHT
BEGIN:STANDARD
TZOFFSETFROM:-0400
TZOFFSETTO:-0500
TZNAME:EST
DTSTART:20271107T060000
END:STANDARD
END:VTIMEZONE
BEGIN:VEVENT
DTSTART;TZID=America/Toronto:20261101T160000
DTEND;TZID=America/Toronto:20261101T180000
DTSTAMP:20260424T133147
CREATED:20250424T162107Z
LAST-MODIFIED:20250424T162107Z
UID:10016909-1793548800-1793556000@whattoday.ca
SUMMARY:Women's Recreational Hockey League (18+)
DESCRIPTION:
URL:https://whattoday.ca/event/womens-recreational-hockey-league-18/2026-11-01/
LOCATION:Miskin Law Community Complex
CATEGORIES:Sports
ORGANIZER;CN="City of Peterborough":MAILTO:rec@peterborough.ca
END:VEVENT
BEGIN:VEVENT
DTSTART;TZID=America/Toronto:20261105T110000
DTEND;TZID=America/Toronto:20261105T130000
DTSTAMP:20260424T133147
CREATED:20260129T150644Z
LAST-MODIFIED:20260129T150644Z
UID:10028850-1793876400-1793883600@whattoday.ca
SUMMARY:2 Learn to Play Pickleball bootcamp - Every Thursday 11 am - 1 pm
DESCRIPTION:Thursday lunchtime ‘Learn to Play’ Bootcamp \nOur 2-hour lunchtime pickleball bootcamp runs 11:00 AM – 1:00 PM every Thursday. \nPerfect for beginners — or anyone wanting a confidence boost. \n Take an extended lunch\nTeam up with friends or co-workers\nLearn the basics\, play real games\, have fun \nNo experience needed. Paddles provided. $35 pp.
URL:https://whattoday.ca/event/2-learn-to-play-pickleball-bootcamp-every-thursday-11-am-1-pm/2026-11-05/
LOCATION:Smash Courts\, 725B Monaghan Rd. Unit 14A\, Peterborough\, ON\, K9J 4C6\, Canada
CATEGORIES:Sports
END:VEVENT
BEGIN:VEVENT
DTSTART;TZID=America/Toronto:20261108T160000
DTEND;TZID=America/Toronto:20261108T180000
DTSTAMP:20260424T133147
CREATED:20250424T162107Z
LAST-MODIFIED:20250424T162107Z
UID:10016910-1794153600-1794160800@whattoday.ca
SUMMARY:Women's Recreational Hockey League (18+)
DESCRIPTION:
URL:https://whattoday.ca/event/womens-recreational-hockey-league-18/2026-11-08/
LOCATION:Miskin Law Community Complex
CATEGORIES:Sports
ORGANIZER;CN="City of Peterborough":MAILTO:rec@peterborough.ca
END:VEVENT
BEGIN:VEVENT
DTSTART;TZID=America/Toronto:20261112T110000
DTEND;TZID=America/Toronto:20261112T130000
DTSTAMP:20260424T133147
CREATED:20260129T150644Z
LAST-MODIFIED:20260129T150644Z
UID:10028851-1794481200-1794488400@whattoday.ca
SUMMARY:2 Learn to Play Pickleball bootcamp - Every Thursday 11 am - 1 pm
DESCRIPTION:Thursday lunchtime ‘Learn to Play’ Bootcamp \nOur 2-hour lunchtime pickleball bootcamp runs 11:00 AM – 1:00 PM every Thursday. \nPerfect for beginners — or anyone wanting a confidence boost. \n Take an extended lunch\nTeam up with friends or co-workers\nLearn the basics\, play real games\, have fun \nNo experience needed. Paddles provided. $35 pp.
URL:https://whattoday.ca/event/2-learn-to-play-pickleball-bootcamp-every-thursday-11-am-1-pm/2026-11-12/
LOCATION:Smash Courts\, 725B Monaghan Rd. Unit 14A\, Peterborough\, ON\, K9J 4C6\, Canada
CATEGORIES:Sports
END:VEVENT
BEGIN:VEVENT
DTSTART;TZID=America/Toronto:20261115T160000
DTEND;TZID=America/Toronto:20261115T180000
DTSTAMP:20260424T133147
CREATED:20250424T162107Z
LAST-MODIFIED:20250424T162107Z
UID:10016911-1794758400-1794765600@whattoday.ca
SUMMARY:Women's Recreational Hockey League (18+)
DESCRIPTION:
URL:https://whattoday.ca/event/womens-recreational-hockey-league-18/2026-11-15/
LOCATION:Miskin Law Community Complex
CATEGORIES:Sports
ORGANIZER;CN="City of Peterborough":MAILTO:rec@peterborough.ca
END:VEVENT
BEGIN:VEVENT
DTSTART;TZID=America/Toronto:20261119T110000
DTEND;TZID=America/Toronto:20261119T130000
DTSTAMP:20260424T133147
CREATED:20260129T150644Z
LAST-MODIFIED:20260129T150644Z
UID:10028852-1795086000-1795093200@whattoday.ca
SUMMARY:2 Learn to Play Pickleball bootcamp - Every Thursday 11 am - 1 pm
DESCRIPTION:Thursday lunchtime ‘Learn to Play’ Bootcamp \nOur 2-hour lunchtime pickleball bootcamp runs 11:00 AM – 1:00 PM every Thursday. \nPerfect for beginners — or anyone wanting a confidence boost. \n Take an extended lunch\nTeam up with friends or co-workers\nLearn the basics\, play real games\, have fun \nNo experience needed. Paddles provided. $35 pp.
URL:https://whattoday.ca/event/2-learn-to-play-pickleball-bootcamp-every-thursday-11-am-1-pm/2026-11-19/
LOCATION:Smash Courts\, 725B Monaghan Rd. Unit 14A\, Peterborough\, ON\, K9J 4C6\, Canada
CATEGORIES:Sports
END:VEVENT
BEGIN:VEVENT
DTSTART;TZID=America/Toronto:20261122T160000
DTEND;TZID=America/Toronto:20261122T180000
DTSTAMP:20260424T133147
CREATED:20250424T162107Z
LAST-MODIFIED:20250424T162107Z
UID:10016912-1795363200-1795370400@whattoday.ca
SUMMARY:Women's Recreational Hockey League (18+)
DESCRIPTION:
URL:https://whattoday.ca/event/womens-recreational-hockey-league-18/2026-11-22/
LOCATION:Miskin Law Community Complex
CATEGORIES:Sports
ORGANIZER;CN="City of Peterborough":MAILTO:rec@peterborough.ca
END:VEVENT
BEGIN:VEVENT
DTSTART;TZID=America/Toronto:20261126T110000
DTEND;TZID=America/Toronto:20261126T130000
DTSTAMP:20260424T133147
CREATED:20260129T150644Z
LAST-MODIFIED:20260129T150644Z
UID:10028853-1795690800-1795698000@whattoday.ca
SUMMARY:2 Learn to Play Pickleball bootcamp - Every Thursday 11 am - 1 pm
DESCRIPTION:Thursday lunchtime ‘Learn to Play’ Bootcamp \nOur 2-hour lunchtime pickleball bootcamp runs 11:00 AM – 1:00 PM every Thursday. \nPerfect for beginners — or anyone wanting a confidence boost. \n Take an extended lunch\nTeam up with friends or co-workers\nLearn the basics\, play real games\, have fun \nNo experience needed. Paddles provided. $35 pp.
URL:https://whattoday.ca/event/2-learn-to-play-pickleball-bootcamp-every-thursday-11-am-1-pm/2026-11-26/
LOCATION:Smash Courts\, 725B Monaghan Rd. Unit 14A\, Peterborough\, ON\, K9J 4C6\, Canada
CATEGORIES:Sports
END:VEVENT
BEGIN:VEVENT
DTSTART;TZID=America/Toronto:20261129T160000
DTEND;TZID=America/Toronto:20261129T180000
DTSTAMP:20260424T133147
CREATED:20250424T162107Z
LAST-MODIFIED:20250424T162107Z
UID:10016913-1795968000-1795975200@whattoday.ca
SUMMARY:Women's Recreational Hockey League (18+)
DESCRIPTION:
URL:https://whattoday.ca/event/womens-recreational-hockey-league-18/2026-11-29/
LOCATION:Miskin Law Community Complex
CATEGORIES:Sports
ORGANIZER;CN="City of Peterborough":MAILTO:rec@peterborough.ca
END:VEVENT
END:VCALENDAR