BEGIN:VCALENDAR
VERSION:2.0
PRODID:-//WHATtoday.ca - ECPv6.15.20//NONSGML v1.0//EN
CALSCALE:GREGORIAN
METHOD:PUBLISH
X-WR-CALNAME:WHATtoday.ca
X-ORIGINAL-URL:https://whattoday.ca
X-WR-CALDESC:Events for WHATtoday.ca
REFRESH-INTERVAL;VALUE=DURATION:PT1H
X-Robots-Tag:noindex
X-PUBLISHED-TTL:PT1H
BEGIN:VTIMEZONE
TZID:America/Toronto
BEGIN:DAYLIGHT
TZOFFSETFROM:-0500
TZOFFSETTO:-0400
TZNAME:EDT
DTSTART:20260308T070000
END:DAYLIGHT
BEGIN:STANDARD
TZOFFSETFROM:-0400
TZOFFSETTO:-0500
TZNAME:EST
DTSTART:20261101T060000
END:STANDARD
BEGIN:DAYLIGHT
TZOFFSETFROM:-0500
TZOFFSETTO:-0400
TZNAME:EDT
DTSTART:20270314T070000
END:DAYLIGHT
BEGIN:STANDARD
TZOFFSETFROM:-0400
TZOFFSETTO:-0500
TZNAME:EST
DTSTART:20271107T060000
END:STANDARD
BEGIN:DAYLIGHT
TZOFFSETFROM:-0500
TZOFFSETTO:-0400
TZNAME:EDT
DTSTART:20280312T070000
END:DAYLIGHT
BEGIN:STANDARD
TZOFFSETFROM:-0400
TZOFFSETTO:-0500
TZNAME:EST
DTSTART:20281105T060000
END:STANDARD
END:VTIMEZONE
BEGIN:VEVENT
DTSTART;TZID=America/Toronto:20270307T160000
DTEND;TZID=America/Toronto:20270307T180000
DTSTAMP:20260424T192457
CREATED:20250424T162107Z
LAST-MODIFIED:20250424T162107Z
UID:10016927-1804435200-1804442400@whattoday.ca
SUMMARY:Women's Recreational Hockey League (18+)
DESCRIPTION:
URL:https://whattoday.ca/event/womens-recreational-hockey-league-18/2027-03-07/
LOCATION:Miskin Law Community Complex
CATEGORIES:Sports
ORGANIZER;CN="City of Peterborough":MAILTO:rec@peterborough.ca
END:VEVENT
BEGIN:VEVENT
DTSTART;TZID=America/Toronto:20270314T160000
DTEND;TZID=America/Toronto:20270314T180000
DTSTAMP:20260424T192457
CREATED:20250424T162107Z
LAST-MODIFIED:20250424T162107Z
UID:10016928-1805040000-1805047200@whattoday.ca
SUMMARY:Women's Recreational Hockey League (18+)
DESCRIPTION:
URL:https://whattoday.ca/event/womens-recreational-hockey-league-18/2027-03-14/
LOCATION:Miskin Law Community Complex
CATEGORIES:Sports
ORGANIZER;CN="City of Peterborough":MAILTO:rec@peterborough.ca
END:VEVENT
BEGIN:VEVENT
DTSTART;TZID=America/Toronto:20270321T160000
DTEND;TZID=America/Toronto:20270321T180000
DTSTAMP:20260424T192457
CREATED:20250424T162107Z
LAST-MODIFIED:20250424T162107Z
UID:10016929-1805644800-1805652000@whattoday.ca
SUMMARY:Women's Recreational Hockey League (18+)
DESCRIPTION:
URL:https://whattoday.ca/event/womens-recreational-hockey-league-18/2027-03-21/
LOCATION:Miskin Law Community Complex
CATEGORIES:Sports
ORGANIZER;CN="City of Peterborough":MAILTO:rec@peterborough.ca
END:VEVENT
BEGIN:VEVENT
DTSTART;TZID=America/Toronto:20270328T160000
DTEND;TZID=America/Toronto:20270328T180000
DTSTAMP:20260424T192457
CREATED:20250424T162107Z
LAST-MODIFIED:20250424T162107Z
UID:10016930-1806249600-1806256800@whattoday.ca
SUMMARY:Women's Recreational Hockey League (18+)
DESCRIPTION:
URL:https://whattoday.ca/event/womens-recreational-hockey-league-18/2027-03-28/
LOCATION:Miskin Law Community Complex
CATEGORIES:Sports
ORGANIZER;CN="City of Peterborough":MAILTO:rec@peterborough.ca
END:VEVENT
END:VCALENDAR