BEGIN:VCALENDAR
VERSION:2.0
PRODID:-//WHATtoday.ca - ECPv6.15.20//NONSGML v1.0//EN
CALSCALE:GREGORIAN
METHOD:PUBLISH
X-WR-CALNAME:WHATtoday.ca
X-ORIGINAL-URL:https://whattoday.ca
X-WR-CALDESC:Events for WHATtoday.ca
REFRESH-INTERVAL;VALUE=DURATION:PT1H
X-Robots-Tag:noindex
X-PUBLISHED-TTL:PT1H
BEGIN:VTIMEZONE
TZID:America/Toronto
BEGIN:DAYLIGHT
TZOFFSETFROM:-0500
TZOFFSETTO:-0400
TZNAME:EDT
DTSTART:20250309T070000
END:DAYLIGHT
BEGIN:STANDARD
TZOFFSETFROM:-0400
TZOFFSETTO:-0500
TZNAME:EST
DTSTART:20251102T060000
END:STANDARD
BEGIN:DAYLIGHT
TZOFFSETFROM:-0500
TZOFFSETTO:-0400
TZNAME:EDT
DTSTART:20260308T070000
END:DAYLIGHT
BEGIN:STANDARD
TZOFFSETFROM:-0400
TZOFFSETTO:-0500
TZNAME:EST
DTSTART:20261101T060000
END:STANDARD
BEGIN:DAYLIGHT
TZOFFSETFROM:-0500
TZOFFSETTO:-0400
TZNAME:EDT
DTSTART:20270314T070000
END:DAYLIGHT
BEGIN:STANDARD
TZOFFSETFROM:-0400
TZOFFSETTO:-0500
TZNAME:EST
DTSTART:20271107T060000
END:STANDARD
END:VTIMEZONE
BEGIN:VEVENT
DTSTART;TZID=America/Toronto:20260429T163000
DTEND;TZID=America/Toronto:20260429T180000
DTSTAMP:20260421T010027
CREATED:20260420T170131Z
LAST-MODIFIED:20260420T170131Z
UID:10030862-1777480200-1777485600@whattoday.ca
SUMMARY:Family Meet & Greet Social
DESCRIPTION:
URL:https://whattoday.ca/event/family-meet-greet-social-5/2026-04-29/
LOCATION:Five Counties Children’s Centre\, 872 Dutton\, Peterborough\, ON
CATEGORIES:More
ORGANIZER;CN="Five Counties Children's Centre":MAILTO:info@fivecounties.on.ca
END:VEVENT
BEGIN:VEVENT
DTSTART;TZID=America/Toronto:20260527T163000
DTEND;TZID=America/Toronto:20260527T180000
DTSTAMP:20260421T010027
CREATED:20260420T170131Z
LAST-MODIFIED:20260420T170131Z
UID:10030863-1779899400-1779904800@whattoday.ca
SUMMARY:Family Meet & Greet Social
DESCRIPTION:
URL:https://whattoday.ca/event/family-meet-greet-social-5/2026-05-27/
LOCATION:Five Counties Children’s Centre\, 872 Dutton\, Peterborough\, ON
CATEGORIES:More
ORGANIZER;CN="Five Counties Children's Centre":MAILTO:info@fivecounties.on.ca
END:VEVENT
BEGIN:VEVENT
DTSTART;TZID=America/Toronto:20260624T163000
DTEND;TZID=America/Toronto:20260624T180000
DTSTAMP:20260421T010027
CREATED:20260420T170131Z
LAST-MODIFIED:20260420T170131Z
UID:10030864-1782318600-1782324000@whattoday.ca
SUMMARY:Family Meet & Greet Social
DESCRIPTION:
URL:https://whattoday.ca/event/family-meet-greet-social-5/2026-06-24/
LOCATION:Five Counties Children’s Centre\, 872 Dutton\, Peterborough\, ON
CATEGORIES:More
ORGANIZER;CN="Five Counties Children's Centre":MAILTO:info@fivecounties.on.ca
END:VEVENT
END:VCALENDAR