BEGIN:VCALENDAR
VERSION:2.0
PRODID:-//WHATtoday.ca - ECPv6.15.20//NONSGML v1.0//EN
CALSCALE:GREGORIAN
METHOD:PUBLISH
X-WR-CALNAME:WHATtoday.ca
X-ORIGINAL-URL:https://whattoday.ca
X-WR-CALDESC:Events for WHATtoday.ca
REFRESH-INTERVAL;VALUE=DURATION:PT1H
X-Robots-Tag:noindex
X-PUBLISHED-TTL:PT1H
BEGIN:VTIMEZONE
TZID:America/Toronto
BEGIN:DAYLIGHT
TZOFFSETFROM:-0500
TZOFFSETTO:-0400
TZNAME:EDT
DTSTART:20250309T070000
END:DAYLIGHT
BEGIN:STANDARD
TZOFFSETFROM:-0400
TZOFFSETTO:-0500
TZNAME:EST
DTSTART:20251102T060000
END:STANDARD
BEGIN:DAYLIGHT
TZOFFSETFROM:-0500
TZOFFSETTO:-0400
TZNAME:EDT
DTSTART:20260308T070000
END:DAYLIGHT
BEGIN:STANDARD
TZOFFSETFROM:-0400
TZOFFSETTO:-0500
TZNAME:EST
DTSTART:20261101T060000
END:STANDARD
BEGIN:DAYLIGHT
TZOFFSETFROM:-0500
TZOFFSETTO:-0400
TZNAME:EDT
DTSTART:20270314T070000
END:DAYLIGHT
BEGIN:STANDARD
TZOFFSETFROM:-0400
TZOFFSETTO:-0500
TZNAME:EST
DTSTART:20271107T060000
END:STANDARD
END:VTIMEZONE
BEGIN:VEVENT
DTSTART;TZID=America/Toronto:20260425T140000
DTEND;TZID=America/Toronto:20260425T144500
DTSTAMP:20260421T043401
CREATED:20260306T145718Z
LAST-MODIFIED:20260306T145718Z
UID:10029992-1777125600-1777128300@whattoday.ca
SUMMARY:Collection Hall Highlights Tour
DESCRIPTION:
URL:https://whattoday.ca/event/collection-hall-highlights-tour-5/2026-04-25/
LOCATION:The Canadian Canoe Museum\, 2077 Ashburnham Drive\, Peterborough\, ON\, K9L 1P8\, Canada
CATEGORIES:More
END:VEVENT
BEGIN:VEVENT
DTSTART;TZID=America/Toronto:20260502T140000
DTEND;TZID=America/Toronto:20260502T144500
DTSTAMP:20260421T043401
CREATED:20260306T145718Z
LAST-MODIFIED:20260306T145718Z
UID:10029993-1777730400-1777733100@whattoday.ca
SUMMARY:Collection Hall Highlights Tour
DESCRIPTION:
URL:https://whattoday.ca/event/collection-hall-highlights-tour-5/2026-05-02/
LOCATION:The Canadian Canoe Museum\, 2077 Ashburnham Drive\, Peterborough\, ON\, K9L 1P8\, Canada
CATEGORIES:More
END:VEVENT
BEGIN:VEVENT
DTSTART;TZID=America/Toronto:20260509T140000
DTEND;TZID=America/Toronto:20260509T144500
DTSTAMP:20260421T043401
CREATED:20260306T145718Z
LAST-MODIFIED:20260306T145718Z
UID:10029994-1778335200-1778337900@whattoday.ca
SUMMARY:Collection Hall Highlights Tour
DESCRIPTION:
URL:https://whattoday.ca/event/collection-hall-highlights-tour-5/2026-05-09/
LOCATION:The Canadian Canoe Museum\, 2077 Ashburnham Drive\, Peterborough\, ON\, K9L 1P8\, Canada
CATEGORIES:More
END:VEVENT
END:VCALENDAR