BEGIN:VCALENDAR
VERSION:2.0
PRODID:-//WHATtoday.ca - ECPv6.15.20//NONSGML v1.0//EN
CALSCALE:GREGORIAN
METHOD:PUBLISH
X-ORIGINAL-URL:https://whattoday.ca
X-WR-CALDESC:Events for WHATtoday.ca
REFRESH-INTERVAL;VALUE=DURATION:PT1H
X-Robots-Tag:noindex
X-PUBLISHED-TTL:PT1H
BEGIN:VTIMEZONE
TZID:America/Toronto
BEGIN:DAYLIGHT
TZOFFSETFROM:-0500
TZOFFSETTO:-0400
TZNAME:EDT
DTSTART:20230312T070000
END:DAYLIGHT
BEGIN:STANDARD
TZOFFSETFROM:-0400
TZOFFSETTO:-0500
TZNAME:EST
DTSTART:20231105T060000
END:STANDARD
BEGIN:DAYLIGHT
TZOFFSETFROM:-0500
TZOFFSETTO:-0400
TZNAME:EDT
DTSTART:20240310T070000
END:DAYLIGHT
BEGIN:STANDARD
TZOFFSETFROM:-0400
TZOFFSETTO:-0500
TZNAME:EST
DTSTART:20241103T060000
END:STANDARD
BEGIN:DAYLIGHT
TZOFFSETFROM:-0500
TZOFFSETTO:-0400
TZNAME:EDT
DTSTART:20250309T070000
END:DAYLIGHT
BEGIN:STANDARD
TZOFFSETFROM:-0400
TZOFFSETTO:-0500
TZNAME:EST
DTSTART:20251102T060000
END:STANDARD
BEGIN:DAYLIGHT
TZOFFSETFROM:-0500
TZOFFSETTO:-0400
TZNAME:EDT
DTSTART:20260308T070000
END:DAYLIGHT
BEGIN:STANDARD
TZOFFSETFROM:-0400
TZOFFSETTO:-0500
TZNAME:EST
DTSTART:20261101T060000
END:STANDARD
END:VTIMEZONE
BEGIN:VEVENT
DTSTART;TZID=America/Toronto:20250712T090000
DTEND;TZID=America/Toronto:20250712T120000
DTSTAMP:20260424T165306
CREATED:20250609T152527Z
LAST-MODIFIED:20250609T152527Z
UID:10020073-1752310800-1752321600@whattoday.ca
SUMMARY:The Little Big Run
DESCRIPTION:The Little Big Run is a fundraising run/walk in support of Big Brothers Big Sisters of Peterborough! \nWhether you’re tackling the full 5km or joining the family-friendly 1km loop\, this event is all about movement\, connection\, and making a BIG impact in the lives of local youth. Runners and walkers of all ages and abilities are welcome\, come solo or bring your crew! \nEvery runner will receive a BBBS finisher’s medal! \nJoin us for a day full of fresh air\, good vibes\, and meaningful strides. All funds raised go directly toward supporting mentorship programs for children and youth in our community. After the run\, stick around foreats and drinks availablefor purchase at the Cabin! \nLet’s run (or walk!) for a great cause—one step at a time.
URL:https://whattoday.ca/event/the-little-big-run/
LOCATION:Beavermead Park\, 2011 Ashburnham Dr.\, Peterborough\, ON\, K9L 1P8\, Canada
CATEGORIES:Family,Kids,More
ORGANIZER;CN="Big Brothers Big Sisters of Peterborough":MAILTO:bbbsptbo@bigbrothersbigsisters.ca
END:VEVENT
BEGIN:VEVENT
DTSTART;TZID=America/Toronto:20241127T113000
DTEND;TZID=America/Toronto:20241127T133000
DTSTAMP:20260424T165306
CREATED:20241118T204311Z
LAST-MODIFIED:20241118T204311Z
UID:10005952-1732707000-1732714200@whattoday.ca
SUMMARY:Excalibur Charity Cook-Off
DESCRIPTION:
URL:https://whattoday.ca/event/excalibur-charity-cook-off/
LOCATION:Trent University Athletic Centre\, 1650 West Bank Dr.\, Peterborough\, ON\, K9L 1Z7
CATEGORIES:Food & Beverage,More
ORGANIZER;CN="Big Brothers Big Sisters of Peterborough":MAILTO:bbbsptbo@bigbrothersbigsisters.ca
END:VEVENT
END:VCALENDAR