BEGIN:VCALENDAR
VERSION:2.0
PRODID:-//WHATtoday.ca - ECPv6.15.20//NONSGML v1.0//EN
CALSCALE:GREGORIAN
METHOD:PUBLISH
X-ORIGINAL-URL:https://whattoday.ca
X-WR-CALDESC:Events for WHATtoday.ca
REFRESH-INTERVAL;VALUE=DURATION:PT1H
X-Robots-Tag:noindex
X-PUBLISHED-TTL:PT1H
BEGIN:VTIMEZONE
TZID:America/Toronto
BEGIN:DAYLIGHT
TZOFFSETFROM:-0500
TZOFFSETTO:-0400
TZNAME:EDT
DTSTART:20230312T070000
END:DAYLIGHT
BEGIN:STANDARD
TZOFFSETFROM:-0400
TZOFFSETTO:-0500
TZNAME:EST
DTSTART:20231105T060000
END:STANDARD
BEGIN:DAYLIGHT
TZOFFSETFROM:-0500
TZOFFSETTO:-0400
TZNAME:EDT
DTSTART:20240310T070000
END:DAYLIGHT
BEGIN:STANDARD
TZOFFSETFROM:-0400
TZOFFSETTO:-0500
TZNAME:EST
DTSTART:20241103T060000
END:STANDARD
BEGIN:DAYLIGHT
TZOFFSETFROM:-0500
TZOFFSETTO:-0400
TZNAME:EDT
DTSTART:20250309T070000
END:DAYLIGHT
BEGIN:STANDARD
TZOFFSETFROM:-0400
TZOFFSETTO:-0500
TZNAME:EST
DTSTART:20251102T060000
END:STANDARD
END:VTIMEZONE
BEGIN:VEVENT
DTSTART;TZID=America/Toronto:20240825T120000
DTEND;TZID=America/Toronto:20240825T210000
DTSTAMP:20260419T120023
CREATED:20240816T173817Z
LAST-MODIFIED:20240816T173817Z
UID:10004068-1724587200-1724619600@whattoday.ca
SUMMARY:Conman’s 3rd Annual Lobsterfest
DESCRIPTION:
URL:https://whattoday.ca/event/conmans-3rd-annual-lobsterfest/
LOCATION:Chemong Lodge\, 764 Hunter Street\, Bridgenorth\, ON\, K0L 1H0\, Canada
CATEGORIES:Entertainment,Food & Beverage,Outdoor
ORGANIZER;CN="Chemong Lodge":MAILTO:info@ChemongLodge.com
END:VEVENT
BEGIN:VEVENT
DTSTART;TZID=America/Toronto:20240728T100000
DTEND;TZID=America/Toronto:20240728T180000
DTSTAMP:20260419T120024
CREATED:20240711T233326Z
LAST-MODIFIED:20240711T233326Z
UID:10003625-1722160800-1722189600@whattoday.ca
SUMMARY:Oysterfest 2024
DESCRIPTION:
URL:https://whattoday.ca/event/oysterfest-2024/
LOCATION:Chemong Lodge\, 764 Hunter Street\, Bridgenorth\, ON\, K0L 1H0\, Canada
CATEGORIES:Entertainment,Food & Beverage
ORGANIZER;CN="Chemong Lodge":MAILTO:info@ChemongLodge.com
END:VEVENT
BEGIN:VEVENT
DTSTART;TZID=America/Toronto:20240719T140000
DTEND;TZID=America/Toronto:20240719T170000
DTSTAMP:20260419T120024
CREATED:20240712T191110Z
LAST-MODIFIED:20240712T191110Z
UID:10003889-1721397600-1721408400@whattoday.ca
SUMMARY:Argentinian Grill Garden Party
DESCRIPTION:
URL:https://whattoday.ca/event/argentinian-grill-garden-party/
LOCATION:Chemong Lodge\, 764 Hunter Street\, Bridgenorth\, ON\, K0L 1H0\, Canada
CATEGORIES:Entertainment,Food & Beverage
ORGANIZER;CN="Chemong Lodge":MAILTO:info@ChemongLodge.com
END:VEVENT
BEGIN:VEVENT
DTSTART;TZID=America/Toronto:20240630T123000
DTEND;TZID=America/Toronto:20240630T130000
DTSTAMP:20260419T120024
CREATED:20240620T225409Z
LAST-MODIFIED:20240620T225826Z
UID:10003527-1719750600-1719752400@whattoday.ca
SUMMARY:Live Music with Water's Edge
DESCRIPTION:
URL:https://whattoday.ca/event/live-music-with-waters-edge/2024-06-30/
LOCATION:Chemong Lodge\, 764 Hunter Street\, Bridgenorth\, ON\, K0L 1H0\, Canada
CATEGORIES:Entertainment,Food & Beverage
ORGANIZER;CN="Chemong Lodge":MAILTO:info@ChemongLodge.com
END:VEVENT
BEGIN:VEVENT
DTSTART;TZID=America/Toronto:20240629T100000
DTEND;TZID=America/Toronto:20240629T170000
DTSTAMP:20260419T120024
CREATED:20240620T224855Z
LAST-MODIFIED:20240620T224855Z
UID:10003518-1719655200-1719680400@whattoday.ca
SUMMARY:Margaritaville - The Jimmy Buffet Experience
DESCRIPTION:
URL:https://whattoday.ca/event/margaritaville-the-jimmy-buffet-experience/
LOCATION:Chemong Lodge\, 764 Hunter Street\, Bridgenorth\, ON\, K0L 1H0\, Canada
CATEGORIES:Entertainment,Food & Beverage
ORGANIZER;CN="Chemong Lodge":MAILTO:info@ChemongLodge.com
END:VEVENT
BEGIN:VEVENT
DTSTART;TZID=America/Toronto:20240628T123000
DTEND;TZID=America/Toronto:20240628T123000
DTSTAMP:20260419T120024
CREATED:20240620T225409Z
LAST-MODIFIED:20240620T225826Z
UID:10003526-1719577800-1719577800@whattoday.ca
SUMMARY:Live Music with Water's Edge
DESCRIPTION:
URL:https://whattoday.ca/event/live-music-with-waters-edge/2024-06-28/
LOCATION:Chemong Lodge\, 764 Hunter Street\, Bridgenorth\, ON\, K0L 1H0\, Canada
CATEGORIES:Entertainment,Food & Beverage
ORGANIZER;CN="Chemong Lodge":MAILTO:info@ChemongLodge.com
END:VEVENT
BEGIN:VEVENT
DTSTART;TZID=America/Toronto:20240627T143000
DTEND;TZID=America/Toronto:20240627T173000
DTSTAMP:20260419T120024
CREATED:20240620T225325Z
LAST-MODIFIED:20240620T225325Z
UID:10003523-1719498600-1719509400@whattoday.ca
SUMMARY:Live Music with Owen Wright
DESCRIPTION:
URL:https://whattoday.ca/event/live-music-with-owen-wright/
LOCATION:Chemong Lodge\, 764 Hunter Street\, Bridgenorth\, ON\, K0L 1H0\, Canada
CATEGORIES:Entertainment,Food & Beverage
ORGANIZER;CN="Chemong Lodge":MAILTO:info@ChemongLodge.com
END:VEVENT
BEGIN:VEVENT
DTSTART;TZID=America/Toronto:20240626T200000
DTEND;TZID=America/Toronto:20240626T200000
DTSTAMP:20260419T120024
CREATED:20240620T225246Z
LAST-MODIFIED:20240620T225246Z
UID:10003522-1719432000-1719432000@whattoday.ca
SUMMARY:Live Music with Colin Ronald
DESCRIPTION:
URL:https://whattoday.ca/event/live-music-with-colin-ronald/
LOCATION:Chemong Lodge\, 764 Hunter Street\, Bridgenorth\, ON\, K0L 1H0\, Canada
CATEGORIES:Entertainment,Food & Beverage
ORGANIZER;CN="Chemong Lodge":MAILTO:info@ChemongLodge.com
END:VEVENT
BEGIN:VEVENT
DTSTART;TZID=America/Toronto:20240622T200000
DTEND;TZID=America/Toronto:20240622T200000
DTSTAMP:20260419T120024
CREATED:20240620T225153Z
LAST-MODIFIED:20240620T225153Z
UID:10003521-1719086400-1719086400@whattoday.ca
SUMMARY:Live Music with Dylan Ireland
DESCRIPTION:
URL:https://whattoday.ca/event/live-music-with-dylan-ireland/
LOCATION:Chemong Lodge\, 764 Hunter Street\, Bridgenorth\, ON\, K0L 1H0\, Canada
CATEGORIES:Entertainment
ORGANIZER;CN="Chemong Lodge":MAILTO:info@ChemongLodge.com
END:VEVENT
BEGIN:VEVENT
DTSTART;TZID=America/Toronto:20240622T050000
DTEND;TZID=America/Toronto:20240622T080000
DTSTAMP:20260419T120024
CREATED:20240620T225053Z
LAST-MODIFIED:20240620T225053Z
UID:10003520-1719032400-1719043200@whattoday.ca
SUMMARY:Live Music with Jonni X
DESCRIPTION:
URL:https://whattoday.ca/event/live-music-with-jonni-x/
LOCATION:Chemong Lodge\, 764 Hunter Street\, Bridgenorth\, ON\, K0L 1H0\, Canada
CATEGORIES:Entertainment
ORGANIZER;CN="Chemong Lodge":MAILTO:info@ChemongLodge.com
END:VEVENT
BEGIN:VEVENT
DTSTART;TZID=America/Toronto:20240622T050000
DTEND;TZID=America/Toronto:20240622T080000
DTSTAMP:20260419T120024
CREATED:20240620T225009Z
LAST-MODIFIED:20240620T225009Z
UID:10003519-1719032400-1719043200@whattoday.ca
SUMMARY:Boat Through Brunch & Bodega Kickoff Party
DESCRIPTION:
URL:https://whattoday.ca/event/boat-through-brunch-bodega-kickoff-party/
LOCATION:Chemong Lodge\, 764 Hunter Street\, Bridgenorth\, ON\, K0L 1H0\, Canada
CATEGORIES:Food & Beverage
ORGANIZER;CN="Chemong Lodge":MAILTO:info@ChemongLodge.com
END:VEVENT
BEGIN:VEVENT
DTSTART;TZID=America/Toronto:20240620T200000
DTEND;TZID=America/Toronto:20240620T200000
DTSTAMP:20260419T120024
CREATED:20240618T202647Z
LAST-MODIFIED:20240618T202647Z
UID:10003428-1718913600-1718913600@whattoday.ca
SUMMARY:Steak & Wine Garden Party
DESCRIPTION:
URL:https://whattoday.ca/event/steak-wine-garden-party/
LOCATION:Chemong Lodge\, 764 Hunter Street\, Bridgenorth\, ON\, K0L 1H0\, Canada
CATEGORIES:Food & Beverage
ORGANIZER;CN="Chemong Lodge":MAILTO:info@ChemongLodge.com
END:VEVENT
END:VCALENDAR