BEGIN:VCALENDAR
VERSION:2.0
PRODID:-//WHATtoday.ca - ECPv6.15.20//NONSGML v1.0//EN
CALSCALE:GREGORIAN
METHOD:PUBLISH
X-WR-CALNAME:WHATtoday.ca
X-ORIGINAL-URL:https://whattoday.ca
X-WR-CALDESC:Events for WHATtoday.ca
REFRESH-INTERVAL;VALUE=DURATION:PT1H
X-Robots-Tag:noindex
X-PUBLISHED-TTL:PT1H
BEGIN:VTIMEZONE
TZID:America/Toronto
BEGIN:DAYLIGHT
TZOFFSETFROM:-0500
TZOFFSETTO:-0400
TZNAME:EDT
DTSTART:20250309T070000
END:DAYLIGHT
BEGIN:STANDARD
TZOFFSETFROM:-0400
TZOFFSETTO:-0500
TZNAME:EST
DTSTART:20251102T060000
END:STANDARD
BEGIN:DAYLIGHT
TZOFFSETFROM:-0500
TZOFFSETTO:-0400
TZNAME:EDT
DTSTART:20260308T070000
END:DAYLIGHT
BEGIN:STANDARD
TZOFFSETFROM:-0400
TZOFFSETTO:-0500
TZNAME:EST
DTSTART:20261101T060000
END:STANDARD
BEGIN:DAYLIGHT
TZOFFSETFROM:-0500
TZOFFSETTO:-0400
TZNAME:EDT
DTSTART:20270314T070000
END:DAYLIGHT
BEGIN:STANDARD
TZOFFSETFROM:-0400
TZOFFSETTO:-0500
TZNAME:EST
DTSTART:20271107T060000
END:STANDARD
END:VTIMEZONE
BEGIN:VEVENT
DTSTART;TZID=America/Toronto:20260419T130000
DTEND;TZID=America/Toronto:20260419T170000
DTSTAMP:20260421T043049
CREATED:20240517T191026Z
LAST-MODIFIED:20250904T191030Z
UID:10025815-1776603600-1776618000@whattoday.ca
SUMMARY:NFL Sundays at Crook & Coffer
DESCRIPTION:
URL:https://whattoday.ca/event/blue-jay-sundays-at-crook-coffer/2026-04-19/
LOCATION:Crook & Coffer\, 231 Hunter Street W.\, Peterborugh\, ON\, K9H2L1\, Canada
CATEGORIES:Entertainment,Food & Beverage,This Weekend
ORGANIZER;CN="Crook & Coffer":MAILTO:info@crookandcoffer.com
END:VEVENT
BEGIN:VEVENT
DTSTART;TZID=America/Toronto:20260417T203000
DTEND;TZID=America/Toronto:20260417T233000
DTSTAMP:20260421T043049
CREATED:20250213T200736Z
LAST-MODIFIED:20250213T200736Z
UID:10009639-1776457800-1776468600@whattoday.ca
SUMMARY:Karaoke at Crook & Coffer
DESCRIPTION:
URL:https://whattoday.ca/event/karaoke-at-crook-coffer-2/2026-04-17/
LOCATION:Crook & Coffer\, 231 Hunter Street W.\, Peterborugh\, ON\, K9H2L1\, Canada
CATEGORIES:Entertainment,Food & Beverage
ORGANIZER;CN="Crook & Coffer":MAILTO:info@crookandcoffer.com
END:VEVENT
BEGIN:VEVENT
DTSTART;TZID=America/Toronto:20260416T190000
DTEND;TZID=America/Toronto:20260416T210000
DTSTAMP:20260421T043049
CREATED:20250213T200646Z
LAST-MODIFIED:20251202T175115Z
UID:10009509-1776366000-1776373200@whattoday.ca
SUMMARY:Trivia at Crook & Coffer
DESCRIPTION:
URL:https://whattoday.ca/event/trivia-at-crook-coffer/2026-04-16/
LOCATION:Crook & Coffer\, 231 Hunter Street W.\, Peterborugh\, ON\, K9H2L1\, Canada
CATEGORIES:Entertainment,Food & Beverage
ORGANIZER;CN="Crook & Coffer":MAILTO:info@crookandcoffer.com
END:VEVENT
BEGIN:VEVENT
DTSTART;TZID=America/Toronto:20260412T130000
DTEND;TZID=America/Toronto:20260412T170000
DTSTAMP:20260421T043049
CREATED:20240517T191026Z
LAST-MODIFIED:20250904T191030Z
UID:10025814-1775998800-1776013200@whattoday.ca
SUMMARY:NFL Sundays at Crook & Coffer
DESCRIPTION:
URL:https://whattoday.ca/event/blue-jay-sundays-at-crook-coffer/2026-04-12/
LOCATION:Crook & Coffer\, 231 Hunter Street W.\, Peterborugh\, ON\, K9H2L1\, Canada
CATEGORIES:Entertainment,Food & Beverage,This Weekend
ORGANIZER;CN="Crook & Coffer":MAILTO:info@crookandcoffer.com
END:VEVENT
BEGIN:VEVENT
DTSTART;TZID=America/Toronto:20260405T130000
DTEND;TZID=America/Toronto:20260405T170000
DTSTAMP:20260421T043049
CREATED:20240517T191026Z
LAST-MODIFIED:20250904T191030Z
UID:10025813-1775394000-1775408400@whattoday.ca
SUMMARY:NFL Sundays at Crook & Coffer
DESCRIPTION:
URL:https://whattoday.ca/event/blue-jay-sundays-at-crook-coffer/2026-04-05/
LOCATION:Crook & Coffer\, 231 Hunter Street W.\, Peterborugh\, ON\, K9H2L1\, Canada
CATEGORIES:Entertainment,Food & Beverage,This Weekend
ORGANIZER;CN="Crook & Coffer":MAILTO:info@crookandcoffer.com
END:VEVENT
BEGIN:VEVENT
DTSTART;TZID=America/Toronto:20260403T203000
DTEND;TZID=America/Toronto:20260403T233000
DTSTAMP:20260421T043049
CREATED:20250213T200736Z
LAST-MODIFIED:20250213T200736Z
UID:10009638-1775248200-1775259000@whattoday.ca
SUMMARY:Karaoke at Crook & Coffer
DESCRIPTION:
URL:https://whattoday.ca/event/karaoke-at-crook-coffer-2/2026-04-03/
LOCATION:Crook & Coffer\, 231 Hunter Street W.\, Peterborugh\, ON\, K9H2L1\, Canada
CATEGORIES:Entertainment,Food & Beverage
ORGANIZER;CN="Crook & Coffer":MAILTO:info@crookandcoffer.com
END:VEVENT
BEGIN:VEVENT
DTSTART;TZID=America/Toronto:20260402T190000
DTEND;TZID=America/Toronto:20260402T210000
DTSTAMP:20260421T043049
CREATED:20250213T200646Z
LAST-MODIFIED:20251202T175115Z
UID:10009508-1775156400-1775163600@whattoday.ca
SUMMARY:Trivia at Crook & Coffer
DESCRIPTION:
URL:https://whattoday.ca/event/trivia-at-crook-coffer/2026-04-02/
LOCATION:Crook & Coffer\, 231 Hunter Street W.\, Peterborugh\, ON\, K9H2L1\, Canada
CATEGORIES:Entertainment,Food & Beverage
ORGANIZER;CN="Crook & Coffer":MAILTO:info@crookandcoffer.com
END:VEVENT
BEGIN:VEVENT
DTSTART;TZID=America/Toronto:20260329T130000
DTEND;TZID=America/Toronto:20260329T170000
DTSTAMP:20260421T043049
CREATED:20240517T191026Z
LAST-MODIFIED:20250904T191030Z
UID:10025812-1774789200-1774803600@whattoday.ca
SUMMARY:NFL Sundays at Crook & Coffer
DESCRIPTION:
URL:https://whattoday.ca/event/blue-jay-sundays-at-crook-coffer/2026-03-29/
LOCATION:Crook & Coffer\, 231 Hunter Street W.\, Peterborugh\, ON\, K9H2L1\, Canada
CATEGORIES:Entertainment,Food & Beverage,This Weekend
ORGANIZER;CN="Crook & Coffer":MAILTO:info@crookandcoffer.com
END:VEVENT
BEGIN:VEVENT
DTSTART;TZID=America/Toronto:20260322T130000
DTEND;TZID=America/Toronto:20260322T170000
DTSTAMP:20260421T043049
CREATED:20240517T191026Z
LAST-MODIFIED:20250904T191030Z
UID:10025811-1774184400-1774198800@whattoday.ca
SUMMARY:NFL Sundays at Crook & Coffer
DESCRIPTION:
URL:https://whattoday.ca/event/blue-jay-sundays-at-crook-coffer/2026-03-22/
LOCATION:Crook & Coffer\, 231 Hunter Street W.\, Peterborugh\, ON\, K9H2L1\, Canada
CATEGORIES:Entertainment,Food & Beverage,This Weekend
ORGANIZER;CN="Crook & Coffer":MAILTO:info@crookandcoffer.com
END:VEVENT
BEGIN:VEVENT
DTSTART;TZID=America/Toronto:20260320T203000
DTEND;TZID=America/Toronto:20260320T233000
DTSTAMP:20260421T043049
CREATED:20250213T200736Z
LAST-MODIFIED:20250213T200736Z
UID:10009637-1774038600-1774049400@whattoday.ca
SUMMARY:Karaoke at Crook & Coffer
DESCRIPTION:
URL:https://whattoday.ca/event/karaoke-at-crook-coffer-2/2026-03-20/
LOCATION:Crook & Coffer\, 231 Hunter Street W.\, Peterborugh\, ON\, K9H2L1\, Canada
CATEGORIES:Entertainment,Food & Beverage
ORGANIZER;CN="Crook & Coffer":MAILTO:info@crookandcoffer.com
END:VEVENT
BEGIN:VEVENT
DTSTART;TZID=America/Toronto:20260319T190000
DTEND;TZID=America/Toronto:20260319T210000
DTSTAMP:20260421T043049
CREATED:20250213T200646Z
LAST-MODIFIED:20251202T175115Z
UID:10009507-1773946800-1773954000@whattoday.ca
SUMMARY:Trivia at Crook & Coffer
DESCRIPTION:
URL:https://whattoday.ca/event/trivia-at-crook-coffer/2026-03-19/
LOCATION:Crook & Coffer\, 231 Hunter Street W.\, Peterborugh\, ON\, K9H2L1\, Canada
CATEGORIES:Entertainment,Food & Beverage
ORGANIZER;CN="Crook & Coffer":MAILTO:info@crookandcoffer.com
END:VEVENT
BEGIN:VEVENT
DTSTART;TZID=America/Toronto:20260315T130000
DTEND;TZID=America/Toronto:20260315T170000
DTSTAMP:20260421T043049
CREATED:20240517T191026Z
LAST-MODIFIED:20250904T191030Z
UID:10025810-1773579600-1773594000@whattoday.ca
SUMMARY:NFL Sundays at Crook & Coffer
DESCRIPTION:
URL:https://whattoday.ca/event/blue-jay-sundays-at-crook-coffer/2026-03-15/
LOCATION:Crook & Coffer\, 231 Hunter Street W.\, Peterborugh\, ON\, K9H2L1\, Canada
CATEGORIES:Entertainment,Food & Beverage,This Weekend
ORGANIZER;CN="Crook & Coffer":MAILTO:info@crookandcoffer.com
END:VEVENT
BEGIN:VEVENT
DTSTART;TZID=America/Toronto:20260308T130000
DTEND;TZID=America/Toronto:20260308T170000
DTSTAMP:20260421T043049
CREATED:20240517T191026Z
LAST-MODIFIED:20250904T191030Z
UID:10025809-1772974800-1772989200@whattoday.ca
SUMMARY:NFL Sundays at Crook & Coffer
DESCRIPTION:
URL:https://whattoday.ca/event/blue-jay-sundays-at-crook-coffer/2026-03-08/
LOCATION:Crook & Coffer\, 231 Hunter Street W.\, Peterborugh\, ON\, K9H2L1\, Canada
CATEGORIES:Entertainment,Food & Beverage,This Weekend
ORGANIZER;CN="Crook & Coffer":MAILTO:info@crookandcoffer.com
END:VEVENT
BEGIN:VEVENT
DTSTART;TZID=America/Toronto:20260306T203000
DTEND;TZID=America/Toronto:20260306T233000
DTSTAMP:20260421T043049
CREATED:20250213T200736Z
LAST-MODIFIED:20250213T200736Z
UID:10009636-1772829000-1772839800@whattoday.ca
SUMMARY:Karaoke at Crook & Coffer
DESCRIPTION:
URL:https://whattoday.ca/event/karaoke-at-crook-coffer-2/2026-03-06/
LOCATION:Crook & Coffer\, 231 Hunter Street W.\, Peterborugh\, ON\, K9H2L1\, Canada
CATEGORIES:Entertainment,Food & Beverage
ORGANIZER;CN="Crook & Coffer":MAILTO:info@crookandcoffer.com
END:VEVENT
BEGIN:VEVENT
DTSTART;TZID=America/Toronto:20260305T190000
DTEND;TZID=America/Toronto:20260305T210000
DTSTAMP:20260421T043049
CREATED:20250213T200646Z
LAST-MODIFIED:20251202T175115Z
UID:10009506-1772737200-1772744400@whattoday.ca
SUMMARY:Trivia at Crook & Coffer
DESCRIPTION:
URL:https://whattoday.ca/event/trivia-at-crook-coffer/2026-03-05/
LOCATION:Crook & Coffer\, 231 Hunter Street W.\, Peterborugh\, ON\, K9H2L1\, Canada
CATEGORIES:Entertainment,Food & Beverage
ORGANIZER;CN="Crook & Coffer":MAILTO:info@crookandcoffer.com
END:VEVENT
BEGIN:VEVENT
DTSTART;TZID=America/Toronto:20260301T130000
DTEND;TZID=America/Toronto:20260301T170000
DTSTAMP:20260421T043049
CREATED:20240517T191026Z
LAST-MODIFIED:20250904T191030Z
UID:10025808-1772370000-1772384400@whattoday.ca
SUMMARY:NFL Sundays at Crook & Coffer
DESCRIPTION:
URL:https://whattoday.ca/event/blue-jay-sundays-at-crook-coffer/2026-03-01/
LOCATION:Crook & Coffer\, 231 Hunter Street W.\, Peterborugh\, ON\, K9H2L1\, Canada
CATEGORIES:Entertainment,Food & Beverage,This Weekend
ORGANIZER;CN="Crook & Coffer":MAILTO:info@crookandcoffer.com
END:VEVENT
BEGIN:VEVENT
DTSTART;TZID=America/Toronto:20260222T130000
DTEND;TZID=America/Toronto:20260222T170000
DTSTAMP:20260421T043049
CREATED:20240517T191026Z
LAST-MODIFIED:20250904T191030Z
UID:10025807-1771765200-1771779600@whattoday.ca
SUMMARY:NFL Sundays at Crook & Coffer
DESCRIPTION:
URL:https://whattoday.ca/event/blue-jay-sundays-at-crook-coffer/2026-02-22/
LOCATION:Crook & Coffer\, 231 Hunter Street W.\, Peterborugh\, ON\, K9H2L1\, Canada
CATEGORIES:Entertainment,Food & Beverage,This Weekend
ORGANIZER;CN="Crook & Coffer":MAILTO:info@crookandcoffer.com
END:VEVENT
BEGIN:VEVENT
DTSTART;TZID=America/Toronto:20260220T203000
DTEND;TZID=America/Toronto:20260220T233000
DTSTAMP:20260421T043049
CREATED:20250213T200736Z
LAST-MODIFIED:20250213T200736Z
UID:10009635-1771619400-1771630200@whattoday.ca
SUMMARY:Karaoke at Crook & Coffer
DESCRIPTION:
URL:https://whattoday.ca/event/karaoke-at-crook-coffer-2/2026-02-20/
LOCATION:Crook & Coffer\, 231 Hunter Street W.\, Peterborugh\, ON\, K9H2L1\, Canada
CATEGORIES:Entertainment,Food & Beverage
ORGANIZER;CN="Crook & Coffer":MAILTO:info@crookandcoffer.com
END:VEVENT
BEGIN:VEVENT
DTSTART;TZID=America/Toronto:20260219T190000
DTEND;TZID=America/Toronto:20260219T210000
DTSTAMP:20260421T043049
CREATED:20250213T200646Z
LAST-MODIFIED:20251202T175115Z
UID:10009505-1771527600-1771534800@whattoday.ca
SUMMARY:Trivia at Crook & Coffer
DESCRIPTION:
URL:https://whattoday.ca/event/trivia-at-crook-coffer/2026-02-19/
LOCATION:Crook & Coffer\, 231 Hunter Street W.\, Peterborugh\, ON\, K9H2L1\, Canada
CATEGORIES:Entertainment,Food & Beverage
ORGANIZER;CN="Crook & Coffer":MAILTO:info@crookandcoffer.com
END:VEVENT
BEGIN:VEVENT
DTSTART;TZID=America/Toronto:20260215T130000
DTEND;TZID=America/Toronto:20260215T170000
DTSTAMP:20260421T043049
CREATED:20240517T191026Z
LAST-MODIFIED:20250904T191030Z
UID:10025806-1771160400-1771174800@whattoday.ca
SUMMARY:NFL Sundays at Crook & Coffer
DESCRIPTION:
URL:https://whattoday.ca/event/blue-jay-sundays-at-crook-coffer/2026-02-15/
LOCATION:Crook & Coffer\, 231 Hunter Street W.\, Peterborugh\, ON\, K9H2L1\, Canada
CATEGORIES:Entertainment,Food & Beverage,This Weekend
ORGANIZER;CN="Crook & Coffer":MAILTO:info@crookandcoffer.com
END:VEVENT
BEGIN:VEVENT
DTSTART;TZID=America/Toronto:20260214T193000
DTEND;TZID=America/Toronto:20260214T193000
DTSTAMP:20260421T043049
CREATED:20260203T193738Z
LAST-MODIFIED:20260203T193744Z
UID:10029171-1771097400-1771097400@whattoday.ca
SUMMARY:Live Music: Ky Anto
DESCRIPTION:
URL:https://whattoday.ca/event/live-music-ky-anto-2/
LOCATION:Crook & Coffer\, 231 Hunter Street W.\, Peterborugh\, ON\, K9H2L1\, Canada
CATEGORIES:Entertainment
ORGANIZER;CN="Crook & Coffer":MAILTO:info@crookandcoffer.com
END:VEVENT
BEGIN:VEVENT
DTSTART;TZID=America/Toronto:20260214T140000
DTEND;TZID=America/Toronto:20260214T140000
DTSTAMP:20260421T043049
CREATED:20260203T193705Z
LAST-MODIFIED:20260203T193712Z
UID:10029170-1771077600-1771077600@whattoday.ca
SUMMARY:Live Music: Daelin Herschel
DESCRIPTION:
URL:https://whattoday.ca/event/live-music-daelin-herschel/
LOCATION:Crook & Coffer\, 231 Hunter Street W.\, Peterborugh\, ON\, K9H2L1\, Canada
CATEGORIES:Entertainment
ORGANIZER;CN="Crook & Coffer":MAILTO:info@crookandcoffer.com
END:VEVENT
BEGIN:VEVENT
DTSTART;TZID=America/Toronto:20260213T193000
DTEND;TZID=America/Toronto:20260213T223000
DTSTAMP:20260421T043049
CREATED:20260203T193615Z
LAST-MODIFIED:20260203T193615Z
UID:10029169-1771011000-1771021800@whattoday.ca
SUMMARY:Live Music: James Higgins
DESCRIPTION:
URL:https://whattoday.ca/event/live-music-james-higgins-3/
LOCATION:Crook & Coffer\, 231 Hunter Street W.\, Peterborugh\, ON\, K9H2L1\, Canada
CATEGORIES:Entertainment
ORGANIZER;CN="Crook & Coffer":MAILTO:info@crookandcoffer.com
END:VEVENT
BEGIN:VEVENT
DTSTART;TZID=America/Toronto:20260208T130000
DTEND;TZID=America/Toronto:20260208T170000
DTSTAMP:20260421T043049
CREATED:20240517T191026Z
LAST-MODIFIED:20250904T191030Z
UID:10025805-1770555600-1770570000@whattoday.ca
SUMMARY:NFL Sundays at Crook & Coffer
DESCRIPTION:
URL:https://whattoday.ca/event/blue-jay-sundays-at-crook-coffer/2026-02-08/
LOCATION:Crook & Coffer\, 231 Hunter Street W.\, Peterborugh\, ON\, K9H2L1\, Canada
CATEGORIES:Entertainment,Food & Beverage,This Weekend
ORGANIZER;CN="Crook & Coffer":MAILTO:info@crookandcoffer.com
END:VEVENT
BEGIN:VEVENT
DTSTART;TZID=America/Toronto:20260207T193000
DTEND;TZID=America/Toronto:20260207T193000
DTSTAMP:20260421T043049
CREATED:20260203T193534Z
LAST-MODIFIED:20260203T193541Z
UID:10029168-1770492600-1770492600@whattoday.ca
SUMMARY:Live Music: Doug Horner
DESCRIPTION:
URL:https://whattoday.ca/event/live-music-doug-horner-4/
LOCATION:Crook & Coffer\, 231 Hunter Street W.\, Peterborugh\, ON\, K9H2L1\, Canada
CATEGORIES:Entertainment
ORGANIZER;CN="Crook & Coffer":MAILTO:info@crookandcoffer.com
END:VEVENT
BEGIN:VEVENT
DTSTART;TZID=America/Toronto:20260207T143000
DTEND;TZID=America/Toronto:20260207T143000
DTSTAMP:20260421T043049
CREATED:20260203T193454Z
LAST-MODIFIED:20260203T193502Z
UID:10029167-1770474600-1770474600@whattoday.ca
SUMMARY:Live Music: Kate Kelly
DESCRIPTION:
URL:https://whattoday.ca/event/live-music-kate-kelly-2/
LOCATION:Crook & Coffer\, 231 Hunter Street W.\, Peterborugh\, ON\, K9H2L1\, Canada
CATEGORIES:Entertainment
ORGANIZER;CN="Crook & Coffer":MAILTO:info@crookandcoffer.com
END:VEVENT
BEGIN:VEVENT
DTSTART;TZID=America/Toronto:20260206T203000
DTEND;TZID=America/Toronto:20260206T233000
DTSTAMP:20260421T043049
CREATED:20250213T200736Z
LAST-MODIFIED:20250213T200736Z
UID:10009634-1770409800-1770420600@whattoday.ca
SUMMARY:Karaoke at Crook & Coffer
DESCRIPTION:
URL:https://whattoday.ca/event/karaoke-at-crook-coffer-2/2026-02-06/
LOCATION:Crook & Coffer\, 231 Hunter Street W.\, Peterborugh\, ON\, K9H2L1\, Canada
CATEGORIES:Entertainment,Food & Beverage
ORGANIZER;CN="Crook & Coffer":MAILTO:info@crookandcoffer.com
END:VEVENT
BEGIN:VEVENT
DTSTART;TZID=America/Toronto:20260206T193000
DTEND;TZID=America/Toronto:20260206T223000
DTSTAMP:20260421T043049
CREATED:20260203T193415Z
LAST-MODIFIED:20260203T193415Z
UID:10029166-1770406200-1770417000@whattoday.ca
SUMMARY:Live Music: Joan Lamore
DESCRIPTION:
URL:https://whattoday.ca/event/live-music-joan-lamore/
LOCATION:Crook & Coffer\, 231 Hunter Street W.\, Peterborugh\, ON\, K9H2L1\, Canada
CATEGORIES:Entertainment
ORGANIZER;CN="Crook & Coffer":MAILTO:info@crookandcoffer.com
END:VEVENT
BEGIN:VEVENT
DTSTART;TZID=America/Toronto:20260205T190000
DTEND;TZID=America/Toronto:20260205T210000
DTSTAMP:20260421T043049
CREATED:20250213T200646Z
LAST-MODIFIED:20251202T175115Z
UID:10009504-1770318000-1770325200@whattoday.ca
SUMMARY:Trivia at Crook & Coffer
DESCRIPTION:
URL:https://whattoday.ca/event/trivia-at-crook-coffer/2026-02-05/
LOCATION:Crook & Coffer\, 231 Hunter Street W.\, Peterborugh\, ON\, K9H2L1\, Canada
CATEGORIES:Entertainment,Food & Beverage
ORGANIZER;CN="Crook & Coffer":MAILTO:info@crookandcoffer.com
END:VEVENT
BEGIN:VEVENT
DTSTART;TZID=America/Toronto:20260201T130000
DTEND;TZID=America/Toronto:20260201T170000
DTSTAMP:20260421T043049
CREATED:20240517T191026Z
LAST-MODIFIED:20250904T191030Z
UID:10025804-1769950800-1769965200@whattoday.ca
SUMMARY:NFL Sundays at Crook & Coffer
DESCRIPTION:
URL:https://whattoday.ca/event/blue-jay-sundays-at-crook-coffer/2026-02-01/
LOCATION:Crook & Coffer\, 231 Hunter Street W.\, Peterborugh\, ON\, K9H2L1\, Canada
CATEGORIES:Entertainment,Food & Beverage,This Weekend
ORGANIZER;CN="Crook & Coffer":MAILTO:info@crookandcoffer.com
END:VEVENT
END:VCALENDAR