BEGIN:VCALENDAR
VERSION:2.0
PRODID:-//WHATtoday.ca - ECPv6.15.20//NONSGML v1.0//EN
CALSCALE:GREGORIAN
METHOD:PUBLISH
X-WR-CALNAME:WHATtoday.ca
X-ORIGINAL-URL:https://whattoday.ca
X-WR-CALDESC:Events for WHATtoday.ca
REFRESH-INTERVAL;VALUE=DURATION:PT1H
X-Robots-Tag:noindex
X-PUBLISHED-TTL:PT1H
BEGIN:VTIMEZONE
TZID:America/Toronto
BEGIN:DAYLIGHT
TZOFFSETFROM:-0500
TZOFFSETTO:-0400
TZNAME:EDT
DTSTART:20250309T070000
END:DAYLIGHT
BEGIN:STANDARD
TZOFFSETFROM:-0400
TZOFFSETTO:-0500
TZNAME:EST
DTSTART:20251102T060000
END:STANDARD
BEGIN:DAYLIGHT
TZOFFSETFROM:-0500
TZOFFSETTO:-0400
TZNAME:EDT
DTSTART:20260308T070000
END:DAYLIGHT
BEGIN:STANDARD
TZOFFSETFROM:-0400
TZOFFSETTO:-0500
TZNAME:EST
DTSTART:20261101T060000
END:STANDARD
BEGIN:DAYLIGHT
TZOFFSETFROM:-0500
TZOFFSETTO:-0400
TZNAME:EDT
DTSTART:20270314T070000
END:DAYLIGHT
BEGIN:STANDARD
TZOFFSETFROM:-0400
TZOFFSETTO:-0500
TZNAME:EST
DTSTART:20271107T060000
END:STANDARD
BEGIN:DAYLIGHT
TZOFFSETFROM:-0500
TZOFFSETTO:-0400
TZNAME:EDT
DTSTART:20280312T070000
END:DAYLIGHT
BEGIN:STANDARD
TZOFFSETFROM:-0400
TZOFFSETTO:-0500
TZNAME:EST
DTSTART:20281105T060000
END:STANDARD
END:VTIMEZONE
BEGIN:VEVENT
DTSTART;TZID=America/Toronto:20261011T130000
DTEND;TZID=America/Toronto:20261011T170000
DTSTAMP:20260421T114957
CREATED:20240517T191026Z
LAST-MODIFIED:20250904T191030Z
UID:10025840-1791723600-1791738000@whattoday.ca
SUMMARY:NFL Sundays at Crook & Coffer
DESCRIPTION:
URL:https://whattoday.ca/event/blue-jay-sundays-at-crook-coffer/2026-10-11/
LOCATION:Crook & Coffer\, 231 Hunter Street W.\, Peterborugh\, ON\, K9H2L1\, Canada
CATEGORIES:Entertainment,Food & Beverage,This Weekend
ORGANIZER;CN="Crook & Coffer":MAILTO:info@crookandcoffer.com
END:VEVENT
BEGIN:VEVENT
DTSTART;TZID=America/Toronto:20261015T190000
DTEND;TZID=America/Toronto:20261015T210000
DTSTAMP:20260421T114957
CREATED:20250213T200646Z
LAST-MODIFIED:20251202T175115Z
UID:10009522-1792090800-1792098000@whattoday.ca
SUMMARY:Trivia at Crook & Coffer
DESCRIPTION:
URL:https://whattoday.ca/event/trivia-at-crook-coffer/2026-10-15/
LOCATION:Crook & Coffer\, 231 Hunter Street W.\, Peterborugh\, ON\, K9H2L1\, Canada
CATEGORIES:Entertainment,Food & Beverage
ORGANIZER;CN="Crook & Coffer":MAILTO:info@crookandcoffer.com
END:VEVENT
BEGIN:VEVENT
DTSTART;TZID=America/Toronto:20261016T203000
DTEND;TZID=America/Toronto:20261016T233000
DTSTAMP:20260421T114957
CREATED:20250213T200736Z
LAST-MODIFIED:20250213T200736Z
UID:10009652-1792182600-1792193400@whattoday.ca
SUMMARY:Karaoke at Crook & Coffer
DESCRIPTION:
URL:https://whattoday.ca/event/karaoke-at-crook-coffer-2/2026-10-16/
LOCATION:Crook & Coffer\, 231 Hunter Street W.\, Peterborugh\, ON\, K9H2L1\, Canada
CATEGORIES:Entertainment,Food & Beverage
ORGANIZER;CN="Crook & Coffer":MAILTO:info@crookandcoffer.com
END:VEVENT
BEGIN:VEVENT
DTSTART;TZID=America/Toronto:20261018T130000
DTEND;TZID=America/Toronto:20261018T170000
DTSTAMP:20260421T114957
CREATED:20240517T191026Z
LAST-MODIFIED:20250904T191030Z
UID:10025841-1792328400-1792342800@whattoday.ca
SUMMARY:NFL Sundays at Crook & Coffer
DESCRIPTION:
URL:https://whattoday.ca/event/blue-jay-sundays-at-crook-coffer/2026-10-18/
LOCATION:Crook & Coffer\, 231 Hunter Street W.\, Peterborugh\, ON\, K9H2L1\, Canada
CATEGORIES:Entertainment,Food & Beverage,This Weekend
ORGANIZER;CN="Crook & Coffer":MAILTO:info@crookandcoffer.com
END:VEVENT
BEGIN:VEVENT
DTSTART;TZID=America/Toronto:20261025T130000
DTEND;TZID=America/Toronto:20261025T170000
DTSTAMP:20260421T114957
CREATED:20240517T191026Z
LAST-MODIFIED:20250904T191030Z
UID:10025842-1792933200-1792947600@whattoday.ca
SUMMARY:NFL Sundays at Crook & Coffer
DESCRIPTION:
URL:https://whattoday.ca/event/blue-jay-sundays-at-crook-coffer/2026-10-25/
LOCATION:Crook & Coffer\, 231 Hunter Street W.\, Peterborugh\, ON\, K9H2L1\, Canada
CATEGORIES:Entertainment,Food & Beverage,This Weekend
ORGANIZER;CN="Crook & Coffer":MAILTO:info@crookandcoffer.com
END:VEVENT
BEGIN:VEVENT
DTSTART;TZID=America/Toronto:20261029T190000
DTEND;TZID=America/Toronto:20261029T210000
DTSTAMP:20260421T114957
CREATED:20250213T200646Z
LAST-MODIFIED:20251202T175115Z
UID:10009523-1793300400-1793307600@whattoday.ca
SUMMARY:Trivia at Crook & Coffer
DESCRIPTION:
URL:https://whattoday.ca/event/trivia-at-crook-coffer/2026-10-29/
LOCATION:Crook & Coffer\, 231 Hunter Street W.\, Peterborugh\, ON\, K9H2L1\, Canada
CATEGORIES:Entertainment,Food & Beverage
ORGANIZER;CN="Crook & Coffer":MAILTO:info@crookandcoffer.com
END:VEVENT
BEGIN:VEVENT
DTSTART;TZID=America/Toronto:20261030T203000
DTEND;TZID=America/Toronto:20261030T233000
DTSTAMP:20260421T114957
CREATED:20250213T200736Z
LAST-MODIFIED:20250213T200736Z
UID:10009653-1793392200-1793403000@whattoday.ca
SUMMARY:Karaoke at Crook & Coffer
DESCRIPTION:
URL:https://whattoday.ca/event/karaoke-at-crook-coffer-2/2026-10-30/
LOCATION:Crook & Coffer\, 231 Hunter Street W.\, Peterborugh\, ON\, K9H2L1\, Canada
CATEGORIES:Entertainment,Food & Beverage
ORGANIZER;CN="Crook & Coffer":MAILTO:info@crookandcoffer.com
END:VEVENT
BEGIN:VEVENT
DTSTART;TZID=America/Toronto:20261101T130000
DTEND;TZID=America/Toronto:20261101T170000
DTSTAMP:20260421T114957
CREATED:20240517T191026Z
LAST-MODIFIED:20250904T191030Z
UID:10025843-1793538000-1793552400@whattoday.ca
SUMMARY:NFL Sundays at Crook & Coffer
DESCRIPTION:
URL:https://whattoday.ca/event/blue-jay-sundays-at-crook-coffer/2026-11-01/
LOCATION:Crook & Coffer\, 231 Hunter Street W.\, Peterborugh\, ON\, K9H2L1\, Canada
CATEGORIES:Entertainment,Food & Beverage,This Weekend
ORGANIZER;CN="Crook & Coffer":MAILTO:info@crookandcoffer.com
END:VEVENT
BEGIN:VEVENT
DTSTART;TZID=America/Toronto:20261108T130000
DTEND;TZID=America/Toronto:20261108T170000
DTSTAMP:20260421T114957
CREATED:20240517T191026Z
LAST-MODIFIED:20250904T191030Z
UID:10025844-1794142800-1794157200@whattoday.ca
SUMMARY:NFL Sundays at Crook & Coffer
DESCRIPTION:
URL:https://whattoday.ca/event/blue-jay-sundays-at-crook-coffer/2026-11-08/
LOCATION:Crook & Coffer\, 231 Hunter Street W.\, Peterborugh\, ON\, K9H2L1\, Canada
CATEGORIES:Entertainment,Food & Beverage,This Weekend
ORGANIZER;CN="Crook & Coffer":MAILTO:info@crookandcoffer.com
END:VEVENT
BEGIN:VEVENT
DTSTART;TZID=America/Toronto:20261112T190000
DTEND;TZID=America/Toronto:20261112T210000
DTSTAMP:20260421T114957
CREATED:20250213T200646Z
LAST-MODIFIED:20251202T175115Z
UID:10009524-1794510000-1794517200@whattoday.ca
SUMMARY:Trivia at Crook & Coffer
DESCRIPTION:
URL:https://whattoday.ca/event/trivia-at-crook-coffer/2026-11-12/
LOCATION:Crook & Coffer\, 231 Hunter Street W.\, Peterborugh\, ON\, K9H2L1\, Canada
CATEGORIES:Entertainment,Food & Beverage
ORGANIZER;CN="Crook & Coffer":MAILTO:info@crookandcoffer.com
END:VEVENT
BEGIN:VEVENT
DTSTART;TZID=America/Toronto:20261113T203000
DTEND;TZID=America/Toronto:20261113T233000
DTSTAMP:20260421T114957
CREATED:20250213T200736Z
LAST-MODIFIED:20250213T200736Z
UID:10009654-1794601800-1794612600@whattoday.ca
SUMMARY:Karaoke at Crook & Coffer
DESCRIPTION:
URL:https://whattoday.ca/event/karaoke-at-crook-coffer-2/2026-11-13/
LOCATION:Crook & Coffer\, 231 Hunter Street W.\, Peterborugh\, ON\, K9H2L1\, Canada
CATEGORIES:Entertainment,Food & Beverage
ORGANIZER;CN="Crook & Coffer":MAILTO:info@crookandcoffer.com
END:VEVENT
BEGIN:VEVENT
DTSTART;TZID=America/Toronto:20261115T130000
DTEND;TZID=America/Toronto:20261115T170000
DTSTAMP:20260421T114957
CREATED:20240517T191026Z
LAST-MODIFIED:20250904T191030Z
UID:10025845-1794747600-1794762000@whattoday.ca
SUMMARY:NFL Sundays at Crook & Coffer
DESCRIPTION:
URL:https://whattoday.ca/event/blue-jay-sundays-at-crook-coffer/2026-11-15/
LOCATION:Crook & Coffer\, 231 Hunter Street W.\, Peterborugh\, ON\, K9H2L1\, Canada
CATEGORIES:Entertainment,Food & Beverage,This Weekend
ORGANIZER;CN="Crook & Coffer":MAILTO:info@crookandcoffer.com
END:VEVENT
BEGIN:VEVENT
DTSTART;TZID=America/Toronto:20261122T130000
DTEND;TZID=America/Toronto:20261122T170000
DTSTAMP:20260421T114957
CREATED:20240517T191026Z
LAST-MODIFIED:20250904T191030Z
UID:10025846-1795352400-1795366800@whattoday.ca
SUMMARY:NFL Sundays at Crook & Coffer
DESCRIPTION:
URL:https://whattoday.ca/event/blue-jay-sundays-at-crook-coffer/2026-11-22/
LOCATION:Crook & Coffer\, 231 Hunter Street W.\, Peterborugh\, ON\, K9H2L1\, Canada
CATEGORIES:Entertainment,Food & Beverage,This Weekend
ORGANIZER;CN="Crook & Coffer":MAILTO:info@crookandcoffer.com
END:VEVENT
BEGIN:VEVENT
DTSTART;TZID=America/Toronto:20261126T190000
DTEND;TZID=America/Toronto:20261126T210000
DTSTAMP:20260421T114957
CREATED:20250213T200646Z
LAST-MODIFIED:20251202T175115Z
UID:10009525-1795719600-1795726800@whattoday.ca
SUMMARY:Trivia at Crook & Coffer
DESCRIPTION:
URL:https://whattoday.ca/event/trivia-at-crook-coffer/2026-11-26/
LOCATION:Crook & Coffer\, 231 Hunter Street W.\, Peterborugh\, ON\, K9H2L1\, Canada
CATEGORIES:Entertainment,Food & Beverage
ORGANIZER;CN="Crook & Coffer":MAILTO:info@crookandcoffer.com
END:VEVENT
BEGIN:VEVENT
DTSTART;TZID=America/Toronto:20261127T203000
DTEND;TZID=America/Toronto:20261127T233000
DTSTAMP:20260421T114957
CREATED:20250213T200736Z
LAST-MODIFIED:20250213T200736Z
UID:10009655-1795811400-1795822200@whattoday.ca
SUMMARY:Karaoke at Crook & Coffer
DESCRIPTION:
URL:https://whattoday.ca/event/karaoke-at-crook-coffer-2/2026-11-27/
LOCATION:Crook & Coffer\, 231 Hunter Street W.\, Peterborugh\, ON\, K9H2L1\, Canada
CATEGORIES:Entertainment,Food & Beverage
ORGANIZER;CN="Crook & Coffer":MAILTO:info@crookandcoffer.com
END:VEVENT
BEGIN:VEVENT
DTSTART;TZID=America/Toronto:20261129T130000
DTEND;TZID=America/Toronto:20261129T170000
DTSTAMP:20260421T114957
CREATED:20240517T191026Z
LAST-MODIFIED:20250904T191030Z
UID:10025847-1795957200-1795971600@whattoday.ca
SUMMARY:NFL Sundays at Crook & Coffer
DESCRIPTION:
URL:https://whattoday.ca/event/blue-jay-sundays-at-crook-coffer/2026-11-29/
LOCATION:Crook & Coffer\, 231 Hunter Street W.\, Peterborugh\, ON\, K9H2L1\, Canada
CATEGORIES:Entertainment,Food & Beverage,This Weekend
ORGANIZER;CN="Crook & Coffer":MAILTO:info@crookandcoffer.com
END:VEVENT
BEGIN:VEVENT
DTSTART;TZID=America/Toronto:20261206T130000
DTEND;TZID=America/Toronto:20261206T170000
DTSTAMP:20260421T114957
CREATED:20240517T191026Z
LAST-MODIFIED:20250904T191030Z
UID:10025848-1796562000-1796576400@whattoday.ca
SUMMARY:NFL Sundays at Crook & Coffer
DESCRIPTION:
URL:https://whattoday.ca/event/blue-jay-sundays-at-crook-coffer/2026-12-06/
LOCATION:Crook & Coffer\, 231 Hunter Street W.\, Peterborugh\, ON\, K9H2L1\, Canada
CATEGORIES:Entertainment,Food & Beverage,This Weekend
ORGANIZER;CN="Crook & Coffer":MAILTO:info@crookandcoffer.com
END:VEVENT
BEGIN:VEVENT
DTSTART;TZID=America/Toronto:20261210T190000
DTEND;TZID=America/Toronto:20261210T210000
DTSTAMP:20260421T114957
CREATED:20250213T200646Z
LAST-MODIFIED:20251202T175115Z
UID:10009526-1796929200-1796936400@whattoday.ca
SUMMARY:Trivia at Crook & Coffer
DESCRIPTION:
URL:https://whattoday.ca/event/trivia-at-crook-coffer/2026-12-10/
LOCATION:Crook & Coffer\, 231 Hunter Street W.\, Peterborugh\, ON\, K9H2L1\, Canada
CATEGORIES:Entertainment,Food & Beverage
ORGANIZER;CN="Crook & Coffer":MAILTO:info@crookandcoffer.com
END:VEVENT
BEGIN:VEVENT
DTSTART;TZID=America/Toronto:20261211T203000
DTEND;TZID=America/Toronto:20261211T233000
DTSTAMP:20260421T114957
CREATED:20250213T200736Z
LAST-MODIFIED:20250213T200736Z
UID:10009656-1797021000-1797031800@whattoday.ca
SUMMARY:Karaoke at Crook & Coffer
DESCRIPTION:
URL:https://whattoday.ca/event/karaoke-at-crook-coffer-2/2026-12-11/
LOCATION:Crook & Coffer\, 231 Hunter Street W.\, Peterborugh\, ON\, K9H2L1\, Canada
CATEGORIES:Entertainment,Food & Beverage
ORGANIZER;CN="Crook & Coffer":MAILTO:info@crookandcoffer.com
END:VEVENT
BEGIN:VEVENT
DTSTART;TZID=America/Toronto:20261213T130000
DTEND;TZID=America/Toronto:20261213T170000
DTSTAMP:20260421T114958
CREATED:20240517T191026Z
LAST-MODIFIED:20250904T191030Z
UID:10025849-1797166800-1797181200@whattoday.ca
SUMMARY:NFL Sundays at Crook & Coffer
DESCRIPTION:
URL:https://whattoday.ca/event/blue-jay-sundays-at-crook-coffer/2026-12-13/
LOCATION:Crook & Coffer\, 231 Hunter Street W.\, Peterborugh\, ON\, K9H2L1\, Canada
CATEGORIES:Entertainment,Food & Beverage,This Weekend
ORGANIZER;CN="Crook & Coffer":MAILTO:info@crookandcoffer.com
END:VEVENT
BEGIN:VEVENT
DTSTART;TZID=America/Toronto:20261220T130000
DTEND;TZID=America/Toronto:20261220T170000
DTSTAMP:20260421T114958
CREATED:20240517T191026Z
LAST-MODIFIED:20250904T191030Z
UID:10025850-1797771600-1797786000@whattoday.ca
SUMMARY:NFL Sundays at Crook & Coffer
DESCRIPTION:
URL:https://whattoday.ca/event/blue-jay-sundays-at-crook-coffer/2026-12-20/
LOCATION:Crook & Coffer\, 231 Hunter Street W.\, Peterborugh\, ON\, K9H2L1\, Canada
CATEGORIES:Entertainment,Food & Beverage,This Weekend
ORGANIZER;CN="Crook & Coffer":MAILTO:info@crookandcoffer.com
END:VEVENT
BEGIN:VEVENT
DTSTART;TZID=America/Toronto:20261224T190000
DTEND;TZID=America/Toronto:20261224T210000
DTSTAMP:20260421T114958
CREATED:20250213T200646Z
LAST-MODIFIED:20251202T175115Z
UID:10009527-1798138800-1798146000@whattoday.ca
SUMMARY:Trivia at Crook & Coffer
DESCRIPTION:
URL:https://whattoday.ca/event/trivia-at-crook-coffer/2026-12-24/
LOCATION:Crook & Coffer\, 231 Hunter Street W.\, Peterborugh\, ON\, K9H2L1\, Canada
CATEGORIES:Entertainment,Food & Beverage
ORGANIZER;CN="Crook & Coffer":MAILTO:info@crookandcoffer.com
END:VEVENT
BEGIN:VEVENT
DTSTART;TZID=America/Toronto:20261225T203000
DTEND;TZID=America/Toronto:20261225T233000
DTSTAMP:20260421T114958
CREATED:20250213T200736Z
LAST-MODIFIED:20250213T200736Z
UID:10009657-1798230600-1798241400@whattoday.ca
SUMMARY:Karaoke at Crook & Coffer
DESCRIPTION:
URL:https://whattoday.ca/event/karaoke-at-crook-coffer-2/2026-12-25/
LOCATION:Crook & Coffer\, 231 Hunter Street W.\, Peterborugh\, ON\, K9H2L1\, Canada
CATEGORIES:Entertainment,Food & Beverage
ORGANIZER;CN="Crook & Coffer":MAILTO:info@crookandcoffer.com
END:VEVENT
BEGIN:VEVENT
DTSTART;TZID=America/Toronto:20261227T130000
DTEND;TZID=America/Toronto:20261227T170000
DTSTAMP:20260421T114958
CREATED:20240517T191026Z
LAST-MODIFIED:20250904T191030Z
UID:10025851-1798376400-1798390800@whattoday.ca
SUMMARY:NFL Sundays at Crook & Coffer
DESCRIPTION:
URL:https://whattoday.ca/event/blue-jay-sundays-at-crook-coffer/2026-12-27/
LOCATION:Crook & Coffer\, 231 Hunter Street W.\, Peterborugh\, ON\, K9H2L1\, Canada
CATEGORIES:Entertainment,Food & Beverage,This Weekend
ORGANIZER;CN="Crook & Coffer":MAILTO:info@crookandcoffer.com
END:VEVENT
BEGIN:VEVENT
DTSTART;TZID=America/Toronto:20270103T130000
DTEND;TZID=America/Toronto:20270103T170000
DTSTAMP:20260421T114958
CREATED:20240517T191026Z
LAST-MODIFIED:20250904T191030Z
UID:10025852-1798981200-1798995600@whattoday.ca
SUMMARY:NFL Sundays at Crook & Coffer
DESCRIPTION:
URL:https://whattoday.ca/event/blue-jay-sundays-at-crook-coffer/2027-01-03/
LOCATION:Crook & Coffer\, 231 Hunter Street W.\, Peterborugh\, ON\, K9H2L1\, Canada
CATEGORIES:Entertainment,Food & Beverage,This Weekend
ORGANIZER;CN="Crook & Coffer":MAILTO:info@crookandcoffer.com
END:VEVENT
BEGIN:VEVENT
DTSTART;TZID=America/Toronto:20270107T190000
DTEND;TZID=America/Toronto:20270107T210000
DTSTAMP:20260421T114958
CREATED:20250213T200646Z
LAST-MODIFIED:20251202T175115Z
UID:10009528-1799348400-1799355600@whattoday.ca
SUMMARY:Trivia at Crook & Coffer
DESCRIPTION:
URL:https://whattoday.ca/event/trivia-at-crook-coffer/2027-01-07/
LOCATION:Crook & Coffer\, 231 Hunter Street W.\, Peterborugh\, ON\, K9H2L1\, Canada
CATEGORIES:Entertainment,Food & Beverage
ORGANIZER;CN="Crook & Coffer":MAILTO:info@crookandcoffer.com
END:VEVENT
BEGIN:VEVENT
DTSTART;TZID=America/Toronto:20270108T203000
DTEND;TZID=America/Toronto:20270108T233000
DTSTAMP:20260421T114958
CREATED:20250213T200736Z
LAST-MODIFIED:20250213T200736Z
UID:10009658-1799440200-1799451000@whattoday.ca
SUMMARY:Karaoke at Crook & Coffer
DESCRIPTION:
URL:https://whattoday.ca/event/karaoke-at-crook-coffer-2/2027-01-08/
LOCATION:Crook & Coffer\, 231 Hunter Street W.\, Peterborugh\, ON\, K9H2L1\, Canada
CATEGORIES:Entertainment,Food & Beverage
ORGANIZER;CN="Crook & Coffer":MAILTO:info@crookandcoffer.com
END:VEVENT
BEGIN:VEVENT
DTSTART;TZID=America/Toronto:20270110T130000
DTEND;TZID=America/Toronto:20270110T170000
DTSTAMP:20260421T114958
CREATED:20240517T191026Z
LAST-MODIFIED:20250904T191030Z
UID:10025853-1799586000-1799600400@whattoday.ca
SUMMARY:NFL Sundays at Crook & Coffer
DESCRIPTION:
URL:https://whattoday.ca/event/blue-jay-sundays-at-crook-coffer/2027-01-10/
LOCATION:Crook & Coffer\, 231 Hunter Street W.\, Peterborugh\, ON\, K9H2L1\, Canada
CATEGORIES:Entertainment,Food & Beverage,This Weekend
ORGANIZER;CN="Crook & Coffer":MAILTO:info@crookandcoffer.com
END:VEVENT
BEGIN:VEVENT
DTSTART;TZID=America/Toronto:20270117T130000
DTEND;TZID=America/Toronto:20270117T170000
DTSTAMP:20260421T114958
CREATED:20240517T191026Z
LAST-MODIFIED:20250904T191030Z
UID:10025854-1800190800-1800205200@whattoday.ca
SUMMARY:NFL Sundays at Crook & Coffer
DESCRIPTION:
URL:https://whattoday.ca/event/blue-jay-sundays-at-crook-coffer/2027-01-17/
LOCATION:Crook & Coffer\, 231 Hunter Street W.\, Peterborugh\, ON\, K9H2L1\, Canada
CATEGORIES:Entertainment,Food & Beverage,This Weekend
ORGANIZER;CN="Crook & Coffer":MAILTO:info@crookandcoffer.com
END:VEVENT
BEGIN:VEVENT
DTSTART;TZID=America/Toronto:20270121T190000
DTEND;TZID=America/Toronto:20270121T210000
DTSTAMP:20260421T114958
CREATED:20250213T200646Z
LAST-MODIFIED:20251202T175115Z
UID:10009529-1800558000-1800565200@whattoday.ca
SUMMARY:Trivia at Crook & Coffer
DESCRIPTION:
URL:https://whattoday.ca/event/trivia-at-crook-coffer/2027-01-21/
LOCATION:Crook & Coffer\, 231 Hunter Street W.\, Peterborugh\, ON\, K9H2L1\, Canada
CATEGORIES:Entertainment,Food & Beverage
ORGANIZER;CN="Crook & Coffer":MAILTO:info@crookandcoffer.com
END:VEVENT
END:VCALENDAR