BEGIN:VCALENDAR
VERSION:2.0
PRODID:-//WHATtoday.ca - ECPv6.15.20//NONSGML v1.0//EN
CALSCALE:GREGORIAN
METHOD:PUBLISH
X-ORIGINAL-URL:https://whattoday.ca
X-WR-CALDESC:Events for WHATtoday.ca
REFRESH-INTERVAL;VALUE=DURATION:PT1H
X-Robots-Tag:noindex
X-PUBLISHED-TTL:PT1H
BEGIN:VTIMEZONE
TZID:America/Toronto
BEGIN:DAYLIGHT
TZOFFSETFROM:-0500
TZOFFSETTO:-0400
TZNAME:EDT
DTSTART:20260308T070000
END:DAYLIGHT
BEGIN:STANDARD
TZOFFSETFROM:-0400
TZOFFSETTO:-0500
TZNAME:EST
DTSTART:20261101T060000
END:STANDARD
BEGIN:DAYLIGHT
TZOFFSETFROM:-0500
TZOFFSETTO:-0400
TZNAME:EDT
DTSTART:20270314T070000
END:DAYLIGHT
BEGIN:STANDARD
TZOFFSETFROM:-0400
TZOFFSETTO:-0500
TZNAME:EST
DTSTART:20271107T060000
END:STANDARD
BEGIN:DAYLIGHT
TZOFFSETFROM:-0500
TZOFFSETTO:-0400
TZNAME:EDT
DTSTART:20280312T070000
END:DAYLIGHT
BEGIN:STANDARD
TZOFFSETFROM:-0400
TZOFFSETTO:-0500
TZNAME:EST
DTSTART:20281105T060000
END:STANDARD
END:VTIMEZONE
BEGIN:VEVENT
DTSTART;TZID=America/Toronto:20270328T130000
DTEND;TZID=America/Toronto:20270328T170000
DTSTAMP:20260421T190028
CREATED:20240517T191026Z
LAST-MODIFIED:20250904T191030Z
UID:10025864-1806238800-1806253200@whattoday.ca
SUMMARY:NFL Sundays at Crook & Coffer
DESCRIPTION:
URL:https://whattoday.ca/event/blue-jay-sundays-at-crook-coffer/2027-03-28/
LOCATION:Crook & Coffer\, 231 Hunter Street W.\, Peterborugh\, ON\, K9H2L1\, Canada
CATEGORIES:Entertainment,Food & Beverage,This Weekend
ORGANIZER;CN="Crook & Coffer":MAILTO:info@crookandcoffer.com
END:VEVENT
BEGIN:VEVENT
DTSTART;TZID=America/Toronto:20270401T190000
DTEND;TZID=America/Toronto:20270401T210000
DTSTAMP:20260421T190028
CREATED:20250213T200646Z
LAST-MODIFIED:20251202T175115Z
UID:10009534-1806606000-1806613200@whattoday.ca
SUMMARY:Trivia at Crook & Coffer
DESCRIPTION:
URL:https://whattoday.ca/event/trivia-at-crook-coffer/2027-04-01/
LOCATION:Crook & Coffer\, 231 Hunter Street W.\, Peterborugh\, ON\, K9H2L1\, Canada
CATEGORIES:Entertainment,Food & Beverage
ORGANIZER;CN="Crook & Coffer":MAILTO:info@crookandcoffer.com
END:VEVENT
BEGIN:VEVENT
DTSTART;TZID=America/Toronto:20270402T203000
DTEND;TZID=America/Toronto:20270402T233000
DTSTAMP:20260421T190028
CREATED:20250213T200736Z
LAST-MODIFIED:20250213T200736Z
UID:10009664-1806697800-1806708600@whattoday.ca
SUMMARY:Karaoke at Crook & Coffer
DESCRIPTION:
URL:https://whattoday.ca/event/karaoke-at-crook-coffer-2/2027-04-02/
LOCATION:Crook & Coffer\, 231 Hunter Street W.\, Peterborugh\, ON\, K9H2L1\, Canada
CATEGORIES:Entertainment,Food & Beverage
ORGANIZER;CN="Crook & Coffer":MAILTO:info@crookandcoffer.com
END:VEVENT
BEGIN:VEVENT
DTSTART;TZID=America/Toronto:20270404T130000
DTEND;TZID=America/Toronto:20270404T170000
DTSTAMP:20260421T190028
CREATED:20240517T191026Z
LAST-MODIFIED:20250904T191030Z
UID:10025865-1806843600-1806858000@whattoday.ca
SUMMARY:NFL Sundays at Crook & Coffer
DESCRIPTION:
URL:https://whattoday.ca/event/blue-jay-sundays-at-crook-coffer/2027-04-04/
LOCATION:Crook & Coffer\, 231 Hunter Street W.\, Peterborugh\, ON\, K9H2L1\, Canada
CATEGORIES:Entertainment,Food & Beverage,This Weekend
ORGANIZER;CN="Crook & Coffer":MAILTO:info@crookandcoffer.com
END:VEVENT
BEGIN:VEVENT
DTSTART;TZID=America/Toronto:20270411T130000
DTEND;TZID=America/Toronto:20270411T170000
DTSTAMP:20260421T190028
CREATED:20240517T191026Z
LAST-MODIFIED:20250904T191030Z
UID:10025866-1807448400-1807462800@whattoday.ca
SUMMARY:NFL Sundays at Crook & Coffer
DESCRIPTION:
URL:https://whattoday.ca/event/blue-jay-sundays-at-crook-coffer/2027-04-11/
LOCATION:Crook & Coffer\, 231 Hunter Street W.\, Peterborugh\, ON\, K9H2L1\, Canada
CATEGORIES:Entertainment,Food & Beverage,This Weekend
ORGANIZER;CN="Crook & Coffer":MAILTO:info@crookandcoffer.com
END:VEVENT
BEGIN:VEVENT
DTSTART;TZID=America/Toronto:20270415T190000
DTEND;TZID=America/Toronto:20270415T210000
DTSTAMP:20260421T190028
CREATED:20250213T200646Z
LAST-MODIFIED:20251202T175115Z
UID:10009535-1807815600-1807822800@whattoday.ca
SUMMARY:Trivia at Crook & Coffer
DESCRIPTION:
URL:https://whattoday.ca/event/trivia-at-crook-coffer/2027-04-15/
LOCATION:Crook & Coffer\, 231 Hunter Street W.\, Peterborugh\, ON\, K9H2L1\, Canada
CATEGORIES:Entertainment,Food & Beverage
ORGANIZER;CN="Crook & Coffer":MAILTO:info@crookandcoffer.com
END:VEVENT
BEGIN:VEVENT
DTSTART;TZID=America/Toronto:20270416T203000
DTEND;TZID=America/Toronto:20270416T233000
DTSTAMP:20260421T190028
CREATED:20250213T200736Z
LAST-MODIFIED:20250213T200736Z
UID:10009665-1807907400-1807918200@whattoday.ca
SUMMARY:Karaoke at Crook & Coffer
DESCRIPTION:
URL:https://whattoday.ca/event/karaoke-at-crook-coffer-2/2027-04-16/
LOCATION:Crook & Coffer\, 231 Hunter Street W.\, Peterborugh\, ON\, K9H2L1\, Canada
CATEGORIES:Entertainment,Food & Beverage
ORGANIZER;CN="Crook & Coffer":MAILTO:info@crookandcoffer.com
END:VEVENT
BEGIN:VEVENT
DTSTART;TZID=America/Toronto:20270418T130000
DTEND;TZID=America/Toronto:20270418T170000
DTSTAMP:20260421T190028
CREATED:20240517T191026Z
LAST-MODIFIED:20250904T191030Z
UID:10025867-1808053200-1808067600@whattoday.ca
SUMMARY:NFL Sundays at Crook & Coffer
DESCRIPTION:
URL:https://whattoday.ca/event/blue-jay-sundays-at-crook-coffer/2027-04-18/
LOCATION:Crook & Coffer\, 231 Hunter Street W.\, Peterborugh\, ON\, K9H2L1\, Canada
CATEGORIES:Entertainment,Food & Beverage,This Weekend
ORGANIZER;CN="Crook & Coffer":MAILTO:info@crookandcoffer.com
END:VEVENT
BEGIN:VEVENT
DTSTART;TZID=America/Toronto:20270425T130000
DTEND;TZID=America/Toronto:20270425T170000
DTSTAMP:20260421T190028
CREATED:20240517T191026Z
LAST-MODIFIED:20250904T191030Z
UID:10025868-1808658000-1808672400@whattoday.ca
SUMMARY:NFL Sundays at Crook & Coffer
DESCRIPTION:
URL:https://whattoday.ca/event/blue-jay-sundays-at-crook-coffer/2027-04-25/
LOCATION:Crook & Coffer\, 231 Hunter Street W.\, Peterborugh\, ON\, K9H2L1\, Canada
CATEGORIES:Entertainment,Food & Beverage,This Weekend
ORGANIZER;CN="Crook & Coffer":MAILTO:info@crookandcoffer.com
END:VEVENT
BEGIN:VEVENT
DTSTART;TZID=America/Toronto:20270429T190000
DTEND;TZID=America/Toronto:20270429T210000
DTSTAMP:20260421T190028
CREATED:20250213T200646Z
LAST-MODIFIED:20251202T175115Z
UID:10009536-1809025200-1809032400@whattoday.ca
SUMMARY:Trivia at Crook & Coffer
DESCRIPTION:
URL:https://whattoday.ca/event/trivia-at-crook-coffer/2027-04-29/
LOCATION:Crook & Coffer\, 231 Hunter Street W.\, Peterborugh\, ON\, K9H2L1\, Canada
CATEGORIES:Entertainment,Food & Beverage
ORGANIZER;CN="Crook & Coffer":MAILTO:info@crookandcoffer.com
END:VEVENT
BEGIN:VEVENT
DTSTART;TZID=America/Toronto:20270430T203000
DTEND;TZID=America/Toronto:20270430T233000
DTSTAMP:20260421T190028
CREATED:20250213T200736Z
LAST-MODIFIED:20250213T200736Z
UID:10009666-1809117000-1809127800@whattoday.ca
SUMMARY:Karaoke at Crook & Coffer
DESCRIPTION:
URL:https://whattoday.ca/event/karaoke-at-crook-coffer-2/2027-04-30/
LOCATION:Crook & Coffer\, 231 Hunter Street W.\, Peterborugh\, ON\, K9H2L1\, Canada
CATEGORIES:Entertainment,Food & Beverage
ORGANIZER;CN="Crook & Coffer":MAILTO:info@crookandcoffer.com
END:VEVENT
BEGIN:VEVENT
DTSTART;TZID=America/Toronto:20270502T130000
DTEND;TZID=America/Toronto:20270502T170000
DTSTAMP:20260421T190028
CREATED:20240517T191026Z
LAST-MODIFIED:20250904T191030Z
UID:10025869-1809262800-1809277200@whattoday.ca
SUMMARY:NFL Sundays at Crook & Coffer
DESCRIPTION:
URL:https://whattoday.ca/event/blue-jay-sundays-at-crook-coffer/2027-05-02/
LOCATION:Crook & Coffer\, 231 Hunter Street W.\, Peterborugh\, ON\, K9H2L1\, Canada
CATEGORIES:Entertainment,Food & Beverage,This Weekend
ORGANIZER;CN="Crook & Coffer":MAILTO:info@crookandcoffer.com
END:VEVENT
BEGIN:VEVENT
DTSTART;TZID=America/Toronto:20270509T130000
DTEND;TZID=America/Toronto:20270509T170000
DTSTAMP:20260421T190028
CREATED:20240517T191026Z
LAST-MODIFIED:20250904T191030Z
UID:10025870-1809867600-1809882000@whattoday.ca
SUMMARY:NFL Sundays at Crook & Coffer
DESCRIPTION:
URL:https://whattoday.ca/event/blue-jay-sundays-at-crook-coffer/2027-05-09/
LOCATION:Crook & Coffer\, 231 Hunter Street W.\, Peterborugh\, ON\, K9H2L1\, Canada
CATEGORIES:Entertainment,Food & Beverage,This Weekend
ORGANIZER;CN="Crook & Coffer":MAILTO:info@crookandcoffer.com
END:VEVENT
BEGIN:VEVENT
DTSTART;TZID=America/Toronto:20270513T190000
DTEND;TZID=America/Toronto:20270513T210000
DTSTAMP:20260421T190028
CREATED:20250213T200646Z
LAST-MODIFIED:20251202T175115Z
UID:10009537-1810234800-1810242000@whattoday.ca
SUMMARY:Trivia at Crook & Coffer
DESCRIPTION:
URL:https://whattoday.ca/event/trivia-at-crook-coffer/2027-05-13/
LOCATION:Crook & Coffer\, 231 Hunter Street W.\, Peterborugh\, ON\, K9H2L1\, Canada
CATEGORIES:Entertainment,Food & Beverage
ORGANIZER;CN="Crook & Coffer":MAILTO:info@crookandcoffer.com
END:VEVENT
BEGIN:VEVENT
DTSTART;TZID=America/Toronto:20270514T203000
DTEND;TZID=America/Toronto:20270514T233000
DTSTAMP:20260421T190028
CREATED:20250213T200736Z
LAST-MODIFIED:20250213T200736Z
UID:10009667-1810326600-1810337400@whattoday.ca
SUMMARY:Karaoke at Crook & Coffer
DESCRIPTION:
URL:https://whattoday.ca/event/karaoke-at-crook-coffer-2/2027-05-14/
LOCATION:Crook & Coffer\, 231 Hunter Street W.\, Peterborugh\, ON\, K9H2L1\, Canada
CATEGORIES:Entertainment,Food & Beverage
ORGANIZER;CN="Crook & Coffer":MAILTO:info@crookandcoffer.com
END:VEVENT
BEGIN:VEVENT
DTSTART;TZID=America/Toronto:20270516T130000
DTEND;TZID=America/Toronto:20270516T170000
DTSTAMP:20260421T190028
CREATED:20240517T191026Z
LAST-MODIFIED:20250904T191030Z
UID:10025871-1810472400-1810486800@whattoday.ca
SUMMARY:NFL Sundays at Crook & Coffer
DESCRIPTION:
URL:https://whattoday.ca/event/blue-jay-sundays-at-crook-coffer/2027-05-16/
LOCATION:Crook & Coffer\, 231 Hunter Street W.\, Peterborugh\, ON\, K9H2L1\, Canada
CATEGORIES:Entertainment,Food & Beverage,This Weekend
ORGANIZER;CN="Crook & Coffer":MAILTO:info@crookandcoffer.com
END:VEVENT
BEGIN:VEVENT
DTSTART;TZID=America/Toronto:20270523T130000
DTEND;TZID=America/Toronto:20270523T170000
DTSTAMP:20260421T190028
CREATED:20240517T191026Z
LAST-MODIFIED:20250904T191030Z
UID:10025872-1811077200-1811091600@whattoday.ca
SUMMARY:NFL Sundays at Crook & Coffer
DESCRIPTION:
URL:https://whattoday.ca/event/blue-jay-sundays-at-crook-coffer/2027-05-23/
LOCATION:Crook & Coffer\, 231 Hunter Street W.\, Peterborugh\, ON\, K9H2L1\, Canada
CATEGORIES:Entertainment,Food & Beverage,This Weekend
ORGANIZER;CN="Crook & Coffer":MAILTO:info@crookandcoffer.com
END:VEVENT
BEGIN:VEVENT
DTSTART;TZID=America/Toronto:20270527T190000
DTEND;TZID=America/Toronto:20270527T210000
DTSTAMP:20260421T190029
CREATED:20250213T200646Z
LAST-MODIFIED:20251202T175115Z
UID:10009538-1811444400-1811451600@whattoday.ca
SUMMARY:Trivia at Crook & Coffer
DESCRIPTION:
URL:https://whattoday.ca/event/trivia-at-crook-coffer/2027-05-27/
LOCATION:Crook & Coffer\, 231 Hunter Street W.\, Peterborugh\, ON\, K9H2L1\, Canada
CATEGORIES:Entertainment,Food & Beverage
ORGANIZER;CN="Crook & Coffer":MAILTO:info@crookandcoffer.com
END:VEVENT
BEGIN:VEVENT
DTSTART;TZID=America/Toronto:20270528T203000
DTEND;TZID=America/Toronto:20270528T233000
DTSTAMP:20260421T190029
CREATED:20250213T200736Z
LAST-MODIFIED:20250213T200736Z
UID:10009668-1811536200-1811547000@whattoday.ca
SUMMARY:Karaoke at Crook & Coffer
DESCRIPTION:
URL:https://whattoday.ca/event/karaoke-at-crook-coffer-2/2027-05-28/
LOCATION:Crook & Coffer\, 231 Hunter Street W.\, Peterborugh\, ON\, K9H2L1\, Canada
CATEGORIES:Entertainment,Food & Beverage
ORGANIZER;CN="Crook & Coffer":MAILTO:info@crookandcoffer.com
END:VEVENT
BEGIN:VEVENT
DTSTART;TZID=America/Toronto:20270530T130000
DTEND;TZID=America/Toronto:20270530T170000
DTSTAMP:20260421T190029
CREATED:20240517T191026Z
LAST-MODIFIED:20250904T191030Z
UID:10025873-1811682000-1811696400@whattoday.ca
SUMMARY:NFL Sundays at Crook & Coffer
DESCRIPTION:
URL:https://whattoday.ca/event/blue-jay-sundays-at-crook-coffer/2027-05-30/
LOCATION:Crook & Coffer\, 231 Hunter Street W.\, Peterborugh\, ON\, K9H2L1\, Canada
CATEGORIES:Entertainment,Food & Beverage,This Weekend
ORGANIZER;CN="Crook & Coffer":MAILTO:info@crookandcoffer.com
END:VEVENT
BEGIN:VEVENT
DTSTART;TZID=America/Toronto:20270606T130000
DTEND;TZID=America/Toronto:20270606T170000
DTSTAMP:20260421T190029
CREATED:20240517T191026Z
LAST-MODIFIED:20250904T191030Z
UID:10025874-1812286800-1812301200@whattoday.ca
SUMMARY:NFL Sundays at Crook & Coffer
DESCRIPTION:
URL:https://whattoday.ca/event/blue-jay-sundays-at-crook-coffer/2027-06-06/
LOCATION:Crook & Coffer\, 231 Hunter Street W.\, Peterborugh\, ON\, K9H2L1\, Canada
CATEGORIES:Entertainment,Food & Beverage,This Weekend
ORGANIZER;CN="Crook & Coffer":MAILTO:info@crookandcoffer.com
END:VEVENT
BEGIN:VEVENT
DTSTART;TZID=America/Toronto:20270610T190000
DTEND;TZID=America/Toronto:20270610T210000
DTSTAMP:20260421T190029
CREATED:20250213T200646Z
LAST-MODIFIED:20251202T175115Z
UID:10009539-1812654000-1812661200@whattoday.ca
SUMMARY:Trivia at Crook & Coffer
DESCRIPTION:
URL:https://whattoday.ca/event/trivia-at-crook-coffer/2027-06-10/
LOCATION:Crook & Coffer\, 231 Hunter Street W.\, Peterborugh\, ON\, K9H2L1\, Canada
CATEGORIES:Entertainment,Food & Beverage
ORGANIZER;CN="Crook & Coffer":MAILTO:info@crookandcoffer.com
END:VEVENT
BEGIN:VEVENT
DTSTART;TZID=America/Toronto:20270611T203000
DTEND;TZID=America/Toronto:20270611T233000
DTSTAMP:20260421T190029
CREATED:20250213T200736Z
LAST-MODIFIED:20250213T200736Z
UID:10009669-1812745800-1812756600@whattoday.ca
SUMMARY:Karaoke at Crook & Coffer
DESCRIPTION:
URL:https://whattoday.ca/event/karaoke-at-crook-coffer-2/2027-06-11/
LOCATION:Crook & Coffer\, 231 Hunter Street W.\, Peterborugh\, ON\, K9H2L1\, Canada
CATEGORIES:Entertainment,Food & Beverage
ORGANIZER;CN="Crook & Coffer":MAILTO:info@crookandcoffer.com
END:VEVENT
BEGIN:VEVENT
DTSTART;TZID=America/Toronto:20270613T130000
DTEND;TZID=America/Toronto:20270613T170000
DTSTAMP:20260421T190029
CREATED:20240517T191026Z
LAST-MODIFIED:20250904T191030Z
UID:10025875-1812891600-1812906000@whattoday.ca
SUMMARY:NFL Sundays at Crook & Coffer
DESCRIPTION:
URL:https://whattoday.ca/event/blue-jay-sundays-at-crook-coffer/2027-06-13/
LOCATION:Crook & Coffer\, 231 Hunter Street W.\, Peterborugh\, ON\, K9H2L1\, Canada
CATEGORIES:Entertainment,Food & Beverage,This Weekend
ORGANIZER;CN="Crook & Coffer":MAILTO:info@crookandcoffer.com
END:VEVENT
BEGIN:VEVENT
DTSTART;TZID=America/Toronto:20270620T130000
DTEND;TZID=America/Toronto:20270620T170000
DTSTAMP:20260421T190029
CREATED:20240517T191026Z
LAST-MODIFIED:20250904T191030Z
UID:10025876-1813496400-1813510800@whattoday.ca
SUMMARY:NFL Sundays at Crook & Coffer
DESCRIPTION:
URL:https://whattoday.ca/event/blue-jay-sundays-at-crook-coffer/2027-06-20/
LOCATION:Crook & Coffer\, 231 Hunter Street W.\, Peterborugh\, ON\, K9H2L1\, Canada
CATEGORIES:Entertainment,Food & Beverage,This Weekend
ORGANIZER;CN="Crook & Coffer":MAILTO:info@crookandcoffer.com
END:VEVENT
BEGIN:VEVENT
DTSTART;TZID=America/Toronto:20270624T190000
DTEND;TZID=America/Toronto:20270624T210000
DTSTAMP:20260421T190029
CREATED:20250213T200646Z
LAST-MODIFIED:20251202T175115Z
UID:10009540-1813863600-1813870800@whattoday.ca
SUMMARY:Trivia at Crook & Coffer
DESCRIPTION:
URL:https://whattoday.ca/event/trivia-at-crook-coffer/2027-06-24/
LOCATION:Crook & Coffer\, 231 Hunter Street W.\, Peterborugh\, ON\, K9H2L1\, Canada
CATEGORIES:Entertainment,Food & Beverage
ORGANIZER;CN="Crook & Coffer":MAILTO:info@crookandcoffer.com
END:VEVENT
BEGIN:VEVENT
DTSTART;TZID=America/Toronto:20270625T203000
DTEND;TZID=America/Toronto:20270625T233000
DTSTAMP:20260421T190029
CREATED:20250213T200736Z
LAST-MODIFIED:20250213T200736Z
UID:10009670-1813955400-1813966200@whattoday.ca
SUMMARY:Karaoke at Crook & Coffer
DESCRIPTION:
URL:https://whattoday.ca/event/karaoke-at-crook-coffer-2/2027-06-25/
LOCATION:Crook & Coffer\, 231 Hunter Street W.\, Peterborugh\, ON\, K9H2L1\, Canada
CATEGORIES:Entertainment,Food & Beverage
ORGANIZER;CN="Crook & Coffer":MAILTO:info@crookandcoffer.com
END:VEVENT
BEGIN:VEVENT
DTSTART;TZID=America/Toronto:20270627T130000
DTEND;TZID=America/Toronto:20270627T170000
DTSTAMP:20260421T190029
CREATED:20240517T191026Z
LAST-MODIFIED:20250904T191030Z
UID:10025877-1814101200-1814115600@whattoday.ca
SUMMARY:NFL Sundays at Crook & Coffer
DESCRIPTION:
URL:https://whattoday.ca/event/blue-jay-sundays-at-crook-coffer/2027-06-27/
LOCATION:Crook & Coffer\, 231 Hunter Street W.\, Peterborugh\, ON\, K9H2L1\, Canada
CATEGORIES:Entertainment,Food & Beverage,This Weekend
ORGANIZER;CN="Crook & Coffer":MAILTO:info@crookandcoffer.com
END:VEVENT
BEGIN:VEVENT
DTSTART;TZID=America/Toronto:20270704T130000
DTEND;TZID=America/Toronto:20270704T170000
DTSTAMP:20260421T190029
CREATED:20240517T191026Z
LAST-MODIFIED:20250904T191030Z
UID:10025878-1814706000-1814720400@whattoday.ca
SUMMARY:NFL Sundays at Crook & Coffer
DESCRIPTION:
URL:https://whattoday.ca/event/blue-jay-sundays-at-crook-coffer/2027-07-04/
LOCATION:Crook & Coffer\, 231 Hunter Street W.\, Peterborugh\, ON\, K9H2L1\, Canada
CATEGORIES:Entertainment,Food & Beverage,This Weekend
ORGANIZER;CN="Crook & Coffer":MAILTO:info@crookandcoffer.com
END:VEVENT
BEGIN:VEVENT
DTSTART;TZID=America/Toronto:20270708T190000
DTEND;TZID=America/Toronto:20270708T210000
DTSTAMP:20260421T190029
CREATED:20250213T200646Z
LAST-MODIFIED:20251202T175115Z
UID:10009541-1815073200-1815080400@whattoday.ca
SUMMARY:Trivia at Crook & Coffer
DESCRIPTION:
URL:https://whattoday.ca/event/trivia-at-crook-coffer/2027-07-08/
LOCATION:Crook & Coffer\, 231 Hunter Street W.\, Peterborugh\, ON\, K9H2L1\, Canada
CATEGORIES:Entertainment,Food & Beverage
ORGANIZER;CN="Crook & Coffer":MAILTO:info@crookandcoffer.com
END:VEVENT
END:VCALENDAR