BEGIN:VCALENDAR
VERSION:2.0
PRODID:-//WHATtoday.ca - ECPv6.15.20//NONSGML v1.0//EN
CALSCALE:GREGORIAN
METHOD:PUBLISH
X-ORIGINAL-URL:https://whattoday.ca
X-WR-CALDESC:Events for WHATtoday.ca
REFRESH-INTERVAL;VALUE=DURATION:PT1H
X-Robots-Tag:noindex
X-PUBLISHED-TTL:PT1H
BEGIN:VTIMEZONE
TZID:America/Toronto
BEGIN:DAYLIGHT
TZOFFSETFROM:-0500
TZOFFSETTO:-0400
TZNAME:EDT
DTSTART:20240310T070000
END:DAYLIGHT
BEGIN:STANDARD
TZOFFSETFROM:-0400
TZOFFSETTO:-0500
TZNAME:EST
DTSTART:20241103T060000
END:STANDARD
BEGIN:DAYLIGHT
TZOFFSETFROM:-0500
TZOFFSETTO:-0400
TZNAME:EDT
DTSTART:20250309T070000
END:DAYLIGHT
BEGIN:STANDARD
TZOFFSETFROM:-0400
TZOFFSETTO:-0500
TZNAME:EST
DTSTART:20251102T060000
END:STANDARD
BEGIN:DAYLIGHT
TZOFFSETFROM:-0500
TZOFFSETTO:-0400
TZNAME:EDT
DTSTART:20260308T070000
END:DAYLIGHT
BEGIN:STANDARD
TZOFFSETFROM:-0400
TZOFFSETTO:-0500
TZNAME:EST
DTSTART:20261101T060000
END:STANDARD
END:VTIMEZONE
BEGIN:VEVENT
DTSTART;TZID=America/Toronto:20251015T180000
DTEND;TZID=America/Toronto:20251015T200000
DTSTAMP:20260422T115148
CREATED:20251001T164828Z
LAST-MODIFIED:20251001T164828Z
UID:10026950-1760551200-1760558400@whattoday.ca
SUMMARY:Dot-Painting Workshop
DESCRIPTION:
URL:https://whattoday.ca/event/dot-painting-workshop-2/
LOCATION:100 Acre Brewing Co.\, 390 Ashburnham Dr.\, Peterborough\, ON\, K9J 6X7\, Canada
CATEGORIES:Food & Beverage,Workshops
END:VEVENT
BEGIN:VEVENT
DTSTART;TZID=America/Toronto:20250911T180000
DTEND;TZID=America/Toronto:20250911T200000
DTSTAMP:20260422T115148
CREATED:20250902T191602Z
LAST-MODIFIED:20250902T191602Z
UID:10025590-1757613600-1757620800@whattoday.ca
SUMMARY:Dot-Painting Workshop
DESCRIPTION:
URL:https://whattoday.ca/event/dot-painting-workshop/
LOCATION:100 Acre Brewing Co.\, 390 Ashburnham Dr.\, Peterborough\, ON\, K9J 6X7\, Canada
CATEGORIES:Workshops
END:VEVENT
END:VCALENDAR