BEGIN:VCALENDAR
VERSION:2.0
PRODID:-//WHATtoday.ca - ECPv6.15.20//NONSGML v1.0//EN
CALSCALE:GREGORIAN
METHOD:PUBLISH
X-WR-CALNAME:WHATtoday.ca
X-ORIGINAL-URL:https://whattoday.ca
X-WR-CALDESC:Events for WHATtoday.ca
REFRESH-INTERVAL;VALUE=DURATION:PT1H
X-Robots-Tag:noindex
X-PUBLISHED-TTL:PT1H
BEGIN:VTIMEZONE
TZID:America/Toronto
BEGIN:DAYLIGHT
TZOFFSETFROM:-0500
TZOFFSETTO:-0400
TZNAME:EDT
DTSTART:20230312T070000
END:DAYLIGHT
BEGIN:STANDARD
TZOFFSETFROM:-0400
TZOFFSETTO:-0500
TZNAME:EST
DTSTART:20231105T060000
END:STANDARD
BEGIN:DAYLIGHT
TZOFFSETFROM:-0500
TZOFFSETTO:-0400
TZNAME:EDT
DTSTART:20240310T070000
END:DAYLIGHT
BEGIN:STANDARD
TZOFFSETFROM:-0400
TZOFFSETTO:-0500
TZNAME:EST
DTSTART:20241103T060000
END:STANDARD
BEGIN:DAYLIGHT
TZOFFSETFROM:-0500
TZOFFSETTO:-0400
TZNAME:EDT
DTSTART:20250309T070000
END:DAYLIGHT
BEGIN:STANDARD
TZOFFSETFROM:-0400
TZOFFSETTO:-0500
TZNAME:EST
DTSTART:20251102T060000
END:STANDARD
BEGIN:DAYLIGHT
TZOFFSETFROM:-0500
TZOFFSETTO:-0400
TZNAME:EDT
DTSTART:20260308T070000
END:DAYLIGHT
BEGIN:STANDARD
TZOFFSETFROM:-0400
TZOFFSETTO:-0500
TZNAME:EST
DTSTART:20261101T060000
END:STANDARD
BEGIN:DAYLIGHT
TZOFFSETFROM:-0500
TZOFFSETTO:-0400
TZNAME:EDT
DTSTART:20270314T070000
END:DAYLIGHT
BEGIN:STANDARD
TZOFFSETFROM:-0400
TZOFFSETTO:-0500
TZNAME:EST
DTSTART:20271107T060000
END:STANDARD
END:VTIMEZONE
BEGIN:VEVENT
DTSTART;TZID=America/Toronto:20260124T090000
DTEND;TZID=America/Toronto:20260124T170000
DTSTAMP:20260424T055251
CREATED:20260123T141004Z
LAST-MODIFIED:20260123T141004Z
UID:10028761-1769245200-1769274000@whattoday.ca
SUMMARY:Grand ReOpening - Habitat for Humanity ReStore
DESCRIPTION:
URL:https://whattoday.ca/event/grand-reopening-habitat-for-humanity-restore/
LOCATION:Habitat For Humanity Peterborough & Kawartha Region Main Office & ReStore\, 300 Milroy Dr.\, Peterborough\, ON\, K9H 7M9\, Canada
CATEGORIES:More
END:VEVENT
BEGIN:VEVENT
DTSTART;TZID=America/Toronto:20250524T100000
DTEND;TZID=America/Toronto:20250524T110000
DTSTAMP:20260424T055251
CREATED:20250305T171315Z
LAST-MODIFIED:20250305T171315Z
UID:10009857-1748080800-1748084400@whattoday.ca
SUMMARY:Affordable Homeownership Info Session
DESCRIPTION:
URL:https://whattoday.ca/event/affordable-homeownership-info-session-2/
LOCATION:Habitat For Humanity Peterborough & Kawartha Region Main Office & ReStore\, 300 Milroy Dr.\, Peterborough\, ON\, K9H 7M9\, Canada
CATEGORIES:More
END:VEVENT
BEGIN:VEVENT
DTSTART;TZID=America/Toronto:20250506T173000
DTEND;TZID=America/Toronto:20250506T183000
DTSTAMP:20260424T055251
CREATED:20250305T171354Z
LAST-MODIFIED:20250305T171354Z
UID:10009858-1746552600-1746556200@whattoday.ca
SUMMARY:Virtual Affordable Homeownership Info Session
DESCRIPTION:
URL:https://whattoday.ca/event/virtual-affordable-homeownership-info-session-3/
CATEGORIES:More
LOCATION:
END:VEVENT
BEGIN:VEVENT
DTSTART;TZID=America/Toronto:20250429T183000
DTEND;TZID=America/Toronto:20250429T193000
DTSTAMP:20260424T055251
CREATED:20250305T171152Z
LAST-MODIFIED:20250305T171218Z
UID:10009856-1745951400-1745955000@whattoday.ca
SUMMARY:Affordable Homeownership Info Session
DESCRIPTION:
URL:https://whattoday.ca/event/affordable-homeownership-info-session/
LOCATION:Habitat For Humanity Peterborough & Kawartha Region Main Office & ReStore\, 300 Milroy Dr.\, Peterborough\, ON\, K9H 7M9\, Canada
CATEGORIES:More
END:VEVENT
BEGIN:VEVENT
DTSTART;TZID=America/Toronto:20250419T130000
DTEND;TZID=America/Toronto:20250419T140000
DTSTAMP:20260424T055251
CREATED:20250305T171109Z
LAST-MODIFIED:20250305T171109Z
UID:10009855-1745067600-1745071200@whattoday.ca
SUMMARY:Virtual Affordable Homeownership Info Session
DESCRIPTION:
URL:https://whattoday.ca/event/virtual-affordable-homeownership-info-session-2/
CATEGORIES:More
LOCATION:
END:VEVENT
BEGIN:VEVENT
DTSTART;TZID=America/Toronto:20250331T123000
DTEND;TZID=America/Toronto:20250331T133000
DTSTAMP:20260424T055251
CREATED:20250305T171011Z
LAST-MODIFIED:20250305T171011Z
UID:10009854-1743424200-1743427800@whattoday.ca
SUMMARY:Virtual Affordable Homeownership Info Session
DESCRIPTION:
URL:https://whattoday.ca/event/virtual-affordable-homeownership-info-session/
CATEGORIES:More
LOCATION:
END:VEVENT
BEGIN:VEVENT
DTSTART;TZID=America/Toronto:20250306T180000
DTEND;TZID=America/Toronto:20250306T190000
DTSTAMP:20260424T055251
CREATED:20250305T170816Z
LAST-MODIFIED:20250305T170833Z
UID:10009853-1741284000-1741287600@whattoday.ca
SUMMARY:Affordable Homeownership Info Session
DESCRIPTION:
URL:https://whattoday.ca/event/home-ownership-info-session/
LOCATION:Habitat For Humanity Peterborough & Kawartha Region Main Office & ReStore\, 300 Milroy Dr.\, Peterborough\, ON\, K9H 7M9\, Canada
CATEGORIES:More
END:VEVENT
BEGIN:VEVENT
DTSTART;TZID=America/Toronto:20250222T120000
DTEND;TZID=America/Toronto:20250222T133000
DTSTAMP:20260424T055251
CREATED:20250219T183035Z
LAST-MODIFIED:20250219T183035Z
UID:10009754-1740225600-1740231000@whattoday.ca
SUMMARY:Blanket Ladder Workshop
DESCRIPTION:
URL:https://whattoday.ca/event/blanket-ladder-workshop/
LOCATION:Habitat For Humanity Peterborough & Kawartha Region Main Office & ReStore\, 300 Milroy Dr.\, Peterborough\, ON\, K9H 7M9\, Canada
CATEGORIES:Workshops
END:VEVENT
BEGIN:VEVENT
DTSTART;TZID=America/Toronto:20241004T160000
DTEND;TZID=America/Toronto:20241006T120000
DTSTAMP:20260424T055251
CREATED:20240918T180900Z
LAST-MODIFIED:20240918T180900Z
UID:10004228-1728057600-1728216000@whattoday.ca
SUMMARY:Women Build Retreat
DESCRIPTION:
URL:https://whattoday.ca/event/women-build-retreat/
LOCATION:Camp Timberlane\, 1612 Dudley Rd\, Haliburton\, ON\, K0M 1S0\, Canada
CATEGORIES:Adventures,More
END:VEVENT
END:VCALENDAR