BEGIN:VCALENDAR
VERSION:2.0
PRODID:-//WHATtoday.ca - ECPv6.15.20//NONSGML v1.0//EN
CALSCALE:GREGORIAN
METHOD:PUBLISH
X-ORIGINAL-URL:https://whattoday.ca
X-WR-CALDESC:Events for WHATtoday.ca
REFRESH-INTERVAL;VALUE=DURATION:PT1H
X-Robots-Tag:noindex
X-PUBLISHED-TTL:PT1H
BEGIN:VTIMEZONE
TZID:America/Toronto
BEGIN:DAYLIGHT
TZOFFSETFROM:-0500
TZOFFSETTO:-0400
TZNAME:EDT
DTSTART:20240310T070000
END:DAYLIGHT
BEGIN:STANDARD
TZOFFSETFROM:-0400
TZOFFSETTO:-0500
TZNAME:EST
DTSTART:20241103T060000
END:STANDARD
BEGIN:DAYLIGHT
TZOFFSETFROM:-0500
TZOFFSETTO:-0400
TZNAME:EDT
DTSTART:20250309T070000
END:DAYLIGHT
BEGIN:STANDARD
TZOFFSETFROM:-0400
TZOFFSETTO:-0500
TZNAME:EST
DTSTART:20251102T060000
END:STANDARD
BEGIN:DAYLIGHT
TZOFFSETFROM:-0500
TZOFFSETTO:-0400
TZNAME:EDT
DTSTART:20260308T070000
END:DAYLIGHT
BEGIN:STANDARD
TZOFFSETFROM:-0400
TZOFFSETTO:-0500
TZNAME:EST
DTSTART:20261101T060000
END:STANDARD
END:VTIMEZONE
BEGIN:VEVENT
DTSTART;TZID=America/Toronto:20251207T200000
DTEND;TZID=America/Toronto:20251207T200000
DTSTAMP:20260421T115605
CREATED:20250415T174619Z
LAST-MODIFIED:20250415T174631Z
UID:10014986-1765137600-1765137600@whattoday.ca
SUMMARY:Open Mic at McThirsty's
DESCRIPTION:
URL:https://whattoday.ca/event/open-mic-at-mcthirstys/2025-12-07/
LOCATION:McThirsty’s Pint\, 166 Charlotte St.\, Peterborough\, ON\, K9J 2T8\, Canada
CATEGORIES:Entertainment,Food & Beverage
ORGANIZER;CN="McThirsty's Pint":MAILTO:mcthirstys166@gmail.com
END:VEVENT
BEGIN:VEVENT
DTSTART;TZID=America/Toronto:20251206T210000
DTEND;TZID=America/Toronto:20251206T210000
DTSTAMP:20260421T115605
CREATED:20250415T174813Z
LAST-MODIFIED:20250415T174819Z
UID:10015247-1765054800-1765054800@whattoday.ca
SUMMARY:Live Music at McThirsty's
DESCRIPTION:
URL:https://whattoday.ca/event/live-music-at-mcthirstys-5/2025-12-06/
LOCATION:McThirsty’s Pint\, 166 Charlotte St.\, Peterborough\, ON\, K9J 2T8\, Canada
CATEGORIES:Entertainment,Food & Beverage
ORGANIZER;CN="McThirsty's Pint":MAILTO:mcthirstys166@gmail.com
END:VEVENT
BEGIN:VEVENT
DTSTART;TZID=America/Toronto:20251205T210000
DTEND;TZID=America/Toronto:20251205T210000
DTSTAMP:20260421T115605
CREATED:20250415T174934Z
LAST-MODIFIED:20250415T174941Z
UID:10015508-1764968400-1764968400@whattoday.ca
SUMMARY:Live Music at McThirsty's
DESCRIPTION:
URL:https://whattoday.ca/event/live-music-at-mcthirstys-4/2025-12-05/
LOCATION:McThirsty’s Pint\, 166 Charlotte St.\, Peterborough\, ON\, K9J 2T8\, Canada
CATEGORIES:Entertainment,Food & Beverage
ORGANIZER;CN="McThirsty's Pint":MAILTO:mcthirstys166@gmail.com
END:VEVENT
BEGIN:VEVENT
DTSTART;TZID=America/Toronto:20251204T200000
DTEND;TZID=America/Toronto:20251204T200000
DTSTAMP:20260421T115605
CREATED:20250415T175049Z
LAST-MODIFIED:20251202T175457Z
UID:10015769-1764878400-1764878400@whattoday.ca
SUMMARY:Live Music at McThirsty's
DESCRIPTION:
URL:https://whattoday.ca/event/live-music-at-mcthirstys-3/2025-12-04/
LOCATION:McThirsty’s Pint\, 166 Charlotte St.\, Peterborough\, ON\, K9J 2T8\, Canada
CATEGORIES:Entertainment,Food & Beverage
ORGANIZER;CN="McThirsty's Pint":MAILTO:mcthirstys166@gmail.com
END:VEVENT
BEGIN:VEVENT
DTSTART;TZID=America/Toronto:20251203T200000
DTEND;TZID=America/Toronto:20251203T200000
DTSTAMP:20260421T115605
CREATED:20250415T175201Z
LAST-MODIFIED:20250415T175208Z
UID:10016030-1764792000-1764792000@whattoday.ca
SUMMARY:Live Music at McThirsty's
DESCRIPTION:
URL:https://whattoday.ca/event/live-music-at-mcthirstys-2/2025-12-03/
LOCATION:McThirsty’s Pint\, 166 Charlotte St.\, Peterborough\, ON\, K9J 2T8\, Canada
CATEGORIES:Entertainment,Food & Beverage
ORGANIZER;CN="McThirsty's Pint":MAILTO:mcthirstys166@gmail.com
END:VEVENT
BEGIN:VEVENT
DTSTART;TZID=America/Toronto:20251202T200000
DTEND;TZID=America/Toronto:20251202T200000
DTSTAMP:20260421T115605
CREATED:20250415T175304Z
LAST-MODIFIED:20250415T175311Z
UID:10016291-1764705600-1764705600@whattoday.ca
SUMMARY:Live Music at McThirsty's
DESCRIPTION:
URL:https://whattoday.ca/event/live-music-at-mcthirstys/2025-12-02/
LOCATION:McThirsty’s Pint\, 166 Charlotte St.\, Peterborough\, ON\, K9J 2T8\, Canada
CATEGORIES:Entertainment,Food & Beverage
ORGANIZER;CN="McThirsty's Pint":MAILTO:mcthirstys166@gmail.com
END:VEVENT
BEGIN:VEVENT
DTSTART;TZID=America/Toronto:20251201T210000
DTEND;TZID=America/Toronto:20251201T210000
DTSTAMP:20260421T115605
CREATED:20241125T204944Z
LAST-MODIFIED:20241125T204952Z
UID:10006088-1764622800-1764622800@whattoday.ca
SUMMARY:Cam Green's Trivia Night at McThirsty's Pint
DESCRIPTION:
URL:https://whattoday.ca/event/cam-greens-trivia-night-at-mcthirstys-pint/2025-12-01/
LOCATION:McThirsty’s Pint\, 166 Charlotte St.\, Peterborough\, ON\, K9J 2T8\, Canada
CATEGORIES:Entertainment,Food & Beverage,More
ORGANIZER;CN="McThirsty's Pint":MAILTO:mcthirstys166@gmail.com
END:VEVENT
BEGIN:VEVENT
DTSTART;TZID=America/Toronto:20251130T200000
DTEND;TZID=America/Toronto:20251130T200000
DTSTAMP:20260421T115605
CREATED:20250415T174619Z
LAST-MODIFIED:20250415T174631Z
UID:10014985-1764532800-1764532800@whattoday.ca
SUMMARY:Open Mic at McThirsty's
DESCRIPTION:
URL:https://whattoday.ca/event/open-mic-at-mcthirstys/2025-11-30/
LOCATION:McThirsty’s Pint\, 166 Charlotte St.\, Peterborough\, ON\, K9J 2T8\, Canada
CATEGORIES:Entertainment,Food & Beverage
ORGANIZER;CN="McThirsty's Pint":MAILTO:mcthirstys166@gmail.com
END:VEVENT
BEGIN:VEVENT
DTSTART;TZID=America/Toronto:20251129T210000
DTEND;TZID=America/Toronto:20251129T210000
DTSTAMP:20260421T115605
CREATED:20250415T174813Z
LAST-MODIFIED:20250415T174819Z
UID:10015246-1764450000-1764450000@whattoday.ca
SUMMARY:Live Music at McThirsty's
DESCRIPTION:
URL:https://whattoday.ca/event/live-music-at-mcthirstys-5/2025-11-29/
LOCATION:McThirsty’s Pint\, 166 Charlotte St.\, Peterborough\, ON\, K9J 2T8\, Canada
CATEGORIES:Entertainment,Food & Beverage
ORGANIZER;CN="McThirsty's Pint":MAILTO:mcthirstys166@gmail.com
END:VEVENT
BEGIN:VEVENT
DTSTART;TZID=America/Toronto:20251128T210000
DTEND;TZID=America/Toronto:20251128T210000
DTSTAMP:20260421T115605
CREATED:20250415T174934Z
LAST-MODIFIED:20250415T174941Z
UID:10015507-1764363600-1764363600@whattoday.ca
SUMMARY:Live Music at McThirsty's
DESCRIPTION:
URL:https://whattoday.ca/event/live-music-at-mcthirstys-4/2025-11-28/
LOCATION:McThirsty’s Pint\, 166 Charlotte St.\, Peterborough\, ON\, K9J 2T8\, Canada
CATEGORIES:Entertainment,Food & Beverage
ORGANIZER;CN="McThirsty's Pint":MAILTO:mcthirstys166@gmail.com
END:VEVENT
BEGIN:VEVENT
DTSTART;TZID=America/Toronto:20251127T200000
DTEND;TZID=America/Toronto:20251127T200000
DTSTAMP:20260421T115605
CREATED:20250415T175049Z
LAST-MODIFIED:20251202T175457Z
UID:10015768-1764273600-1764273600@whattoday.ca
SUMMARY:Live Music at McThirsty's
DESCRIPTION:
URL:https://whattoday.ca/event/live-music-at-mcthirstys-3/2025-11-27/
LOCATION:McThirsty’s Pint\, 166 Charlotte St.\, Peterborough\, ON\, K9J 2T8\, Canada
CATEGORIES:Entertainment,Food & Beverage
ORGANIZER;CN="McThirsty's Pint":MAILTO:mcthirstys166@gmail.com
END:VEVENT
BEGIN:VEVENT
DTSTART;TZID=America/Toronto:20251126T200000
DTEND;TZID=America/Toronto:20251126T200000
DTSTAMP:20260421T115605
CREATED:20250415T175201Z
LAST-MODIFIED:20250415T175208Z
UID:10016029-1764187200-1764187200@whattoday.ca
SUMMARY:Live Music at McThirsty's
DESCRIPTION:
URL:https://whattoday.ca/event/live-music-at-mcthirstys-2/2025-11-26/
LOCATION:McThirsty’s Pint\, 166 Charlotte St.\, Peterborough\, ON\, K9J 2T8\, Canada
CATEGORIES:Entertainment,Food & Beverage
ORGANIZER;CN="McThirsty's Pint":MAILTO:mcthirstys166@gmail.com
END:VEVENT
BEGIN:VEVENT
DTSTART;TZID=America/Toronto:20251125T200000
DTEND;TZID=America/Toronto:20251125T200000
DTSTAMP:20260421T115605
CREATED:20250415T175304Z
LAST-MODIFIED:20250415T175311Z
UID:10016290-1764100800-1764100800@whattoday.ca
SUMMARY:Live Music at McThirsty's
DESCRIPTION:
URL:https://whattoday.ca/event/live-music-at-mcthirstys/2025-11-25/
LOCATION:McThirsty’s Pint\, 166 Charlotte St.\, Peterborough\, ON\, K9J 2T8\, Canada
CATEGORIES:Entertainment,Food & Beverage
ORGANIZER;CN="McThirsty's Pint":MAILTO:mcthirstys166@gmail.com
END:VEVENT
BEGIN:VEVENT
DTSTART;TZID=America/Toronto:20251124T210000
DTEND;TZID=America/Toronto:20251124T210000
DTSTAMP:20260421T115605
CREATED:20241125T204944Z
LAST-MODIFIED:20241125T204952Z
UID:10006087-1764018000-1764018000@whattoday.ca
SUMMARY:Cam Green's Trivia Night at McThirsty's Pint
DESCRIPTION:
URL:https://whattoday.ca/event/cam-greens-trivia-night-at-mcthirstys-pint/2025-11-24/
LOCATION:McThirsty’s Pint\, 166 Charlotte St.\, Peterborough\, ON\, K9J 2T8\, Canada
CATEGORIES:Entertainment,Food & Beverage,More
ORGANIZER;CN="McThirsty's Pint":MAILTO:mcthirstys166@gmail.com
END:VEVENT
BEGIN:VEVENT
DTSTART;TZID=America/Toronto:20251123T200000
DTEND;TZID=America/Toronto:20251123T200000
DTSTAMP:20260421T115605
CREATED:20250415T174619Z
LAST-MODIFIED:20250415T174631Z
UID:10014984-1763928000-1763928000@whattoday.ca
SUMMARY:Open Mic at McThirsty's
DESCRIPTION:
URL:https://whattoday.ca/event/open-mic-at-mcthirstys/2025-11-23/
LOCATION:McThirsty’s Pint\, 166 Charlotte St.\, Peterborough\, ON\, K9J 2T8\, Canada
CATEGORIES:Entertainment,Food & Beverage
ORGANIZER;CN="McThirsty's Pint":MAILTO:mcthirstys166@gmail.com
END:VEVENT
BEGIN:VEVENT
DTSTART;TZID=America/Toronto:20251122T210000
DTEND;TZID=America/Toronto:20251122T210000
DTSTAMP:20260421T115605
CREATED:20250415T174813Z
LAST-MODIFIED:20250415T174819Z
UID:10015245-1763845200-1763845200@whattoday.ca
SUMMARY:Live Music at McThirsty's
DESCRIPTION:
URL:https://whattoday.ca/event/live-music-at-mcthirstys-5/2025-11-22/
LOCATION:McThirsty’s Pint\, 166 Charlotte St.\, Peterborough\, ON\, K9J 2T8\, Canada
CATEGORIES:Entertainment,Food & Beverage
ORGANIZER;CN="McThirsty's Pint":MAILTO:mcthirstys166@gmail.com
END:VEVENT
BEGIN:VEVENT
DTSTART;TZID=America/Toronto:20251121T210000
DTEND;TZID=America/Toronto:20251121T210000
DTSTAMP:20260421T115605
CREATED:20250415T174934Z
LAST-MODIFIED:20250415T174941Z
UID:10015506-1763758800-1763758800@whattoday.ca
SUMMARY:Live Music at McThirsty's
DESCRIPTION:
URL:https://whattoday.ca/event/live-music-at-mcthirstys-4/2025-11-21/
LOCATION:McThirsty’s Pint\, 166 Charlotte St.\, Peterborough\, ON\, K9J 2T8\, Canada
CATEGORIES:Entertainment,Food & Beverage
ORGANIZER;CN="McThirsty's Pint":MAILTO:mcthirstys166@gmail.com
END:VEVENT
BEGIN:VEVENT
DTSTART;TZID=America/Toronto:20251120T200000
DTEND;TZID=America/Toronto:20251120T200000
DTSTAMP:20260421T115605
CREATED:20250415T175049Z
LAST-MODIFIED:20251202T175457Z
UID:10015767-1763668800-1763668800@whattoday.ca
SUMMARY:Live Music at McThirsty's
DESCRIPTION:
URL:https://whattoday.ca/event/live-music-at-mcthirstys-3/2025-11-20/
LOCATION:McThirsty’s Pint\, 166 Charlotte St.\, Peterborough\, ON\, K9J 2T8\, Canada
CATEGORIES:Entertainment,Food & Beverage
ORGANIZER;CN="McThirsty's Pint":MAILTO:mcthirstys166@gmail.com
END:VEVENT
BEGIN:VEVENT
DTSTART;TZID=America/Toronto:20251119T200000
DTEND;TZID=America/Toronto:20251119T200000
DTSTAMP:20260421T115605
CREATED:20250415T175201Z
LAST-MODIFIED:20250415T175208Z
UID:10016028-1763582400-1763582400@whattoday.ca
SUMMARY:Live Music at McThirsty's
DESCRIPTION:
URL:https://whattoday.ca/event/live-music-at-mcthirstys-2/2025-11-19/
LOCATION:McThirsty’s Pint\, 166 Charlotte St.\, Peterborough\, ON\, K9J 2T8\, Canada
CATEGORIES:Entertainment,Food & Beverage
ORGANIZER;CN="McThirsty's Pint":MAILTO:mcthirstys166@gmail.com
END:VEVENT
BEGIN:VEVENT
DTSTART;TZID=America/Toronto:20251118T200000
DTEND;TZID=America/Toronto:20251118T200000
DTSTAMP:20260421T115605
CREATED:20250415T175304Z
LAST-MODIFIED:20250415T175311Z
UID:10016289-1763496000-1763496000@whattoday.ca
SUMMARY:Live Music at McThirsty's
DESCRIPTION:
URL:https://whattoday.ca/event/live-music-at-mcthirstys/2025-11-18/
LOCATION:McThirsty’s Pint\, 166 Charlotte St.\, Peterborough\, ON\, K9J 2T8\, Canada
CATEGORIES:Entertainment,Food & Beverage
ORGANIZER;CN="McThirsty's Pint":MAILTO:mcthirstys166@gmail.com
END:VEVENT
BEGIN:VEVENT
DTSTART;TZID=America/Toronto:20251117T210000
DTEND;TZID=America/Toronto:20251117T210000
DTSTAMP:20260421T115605
CREATED:20241125T204944Z
LAST-MODIFIED:20241125T204952Z
UID:10006086-1763413200-1763413200@whattoday.ca
SUMMARY:Cam Green's Trivia Night at McThirsty's Pint
DESCRIPTION:
URL:https://whattoday.ca/event/cam-greens-trivia-night-at-mcthirstys-pint/2025-11-17/
LOCATION:McThirsty’s Pint\, 166 Charlotte St.\, Peterborough\, ON\, K9J 2T8\, Canada
CATEGORIES:Entertainment,Food & Beverage,More
ORGANIZER;CN="McThirsty's Pint":MAILTO:mcthirstys166@gmail.com
END:VEVENT
BEGIN:VEVENT
DTSTART;TZID=America/Toronto:20251116T200000
DTEND;TZID=America/Toronto:20251116T200000
DTSTAMP:20260421T115605
CREATED:20250415T174619Z
LAST-MODIFIED:20250415T174631Z
UID:10014983-1763323200-1763323200@whattoday.ca
SUMMARY:Open Mic at McThirsty's
DESCRIPTION:
URL:https://whattoday.ca/event/open-mic-at-mcthirstys/2025-11-16/
LOCATION:McThirsty’s Pint\, 166 Charlotte St.\, Peterborough\, ON\, K9J 2T8\, Canada
CATEGORIES:Entertainment,Food & Beverage
ORGANIZER;CN="McThirsty's Pint":MAILTO:mcthirstys166@gmail.com
END:VEVENT
BEGIN:VEVENT
DTSTART;TZID=America/Toronto:20251115T210000
DTEND;TZID=America/Toronto:20251115T210000
DTSTAMP:20260421T115605
CREATED:20250415T174813Z
LAST-MODIFIED:20250415T174819Z
UID:10015244-1763240400-1763240400@whattoday.ca
SUMMARY:Live Music at McThirsty's
DESCRIPTION:
URL:https://whattoday.ca/event/live-music-at-mcthirstys-5/2025-11-15/
LOCATION:McThirsty’s Pint\, 166 Charlotte St.\, Peterborough\, ON\, K9J 2T8\, Canada
CATEGORIES:Entertainment,Food & Beverage
ORGANIZER;CN="McThirsty's Pint":MAILTO:mcthirstys166@gmail.com
END:VEVENT
BEGIN:VEVENT
DTSTART;TZID=America/Toronto:20251114T210000
DTEND;TZID=America/Toronto:20251114T210000
DTSTAMP:20260421T115605
CREATED:20250415T174934Z
LAST-MODIFIED:20250415T174941Z
UID:10015505-1763154000-1763154000@whattoday.ca
SUMMARY:Live Music at McThirsty's
DESCRIPTION:
URL:https://whattoday.ca/event/live-music-at-mcthirstys-4/2025-11-14/
LOCATION:McThirsty’s Pint\, 166 Charlotte St.\, Peterborough\, ON\, K9J 2T8\, Canada
CATEGORIES:Entertainment,Food & Beverage
ORGANIZER;CN="McThirsty's Pint":MAILTO:mcthirstys166@gmail.com
END:VEVENT
BEGIN:VEVENT
DTSTART;TZID=America/Toronto:20251113T200000
DTEND;TZID=America/Toronto:20251113T200000
DTSTAMP:20260421T115605
CREATED:20250415T175049Z
LAST-MODIFIED:20251202T175457Z
UID:10015766-1763064000-1763064000@whattoday.ca
SUMMARY:Live Music at McThirsty's
DESCRIPTION:
URL:https://whattoday.ca/event/live-music-at-mcthirstys-3/2025-11-13/
LOCATION:McThirsty’s Pint\, 166 Charlotte St.\, Peterborough\, ON\, K9J 2T8\, Canada
CATEGORIES:Entertainment,Food & Beverage
ORGANIZER;CN="McThirsty's Pint":MAILTO:mcthirstys166@gmail.com
END:VEVENT
BEGIN:VEVENT
DTSTART;TZID=America/Toronto:20251112T200000
DTEND;TZID=America/Toronto:20251112T200000
DTSTAMP:20260421T115605
CREATED:20250415T175201Z
LAST-MODIFIED:20250415T175208Z
UID:10016027-1762977600-1762977600@whattoday.ca
SUMMARY:Live Music at McThirsty's
DESCRIPTION:
URL:https://whattoday.ca/event/live-music-at-mcthirstys-2/2025-11-12/
LOCATION:McThirsty’s Pint\, 166 Charlotte St.\, Peterborough\, ON\, K9J 2T8\, Canada
CATEGORIES:Entertainment,Food & Beverage
ORGANIZER;CN="McThirsty's Pint":MAILTO:mcthirstys166@gmail.com
END:VEVENT
BEGIN:VEVENT
DTSTART;TZID=America/Toronto:20251111T200000
DTEND;TZID=America/Toronto:20251111T200000
DTSTAMP:20260421T115605
CREATED:20250415T175304Z
LAST-MODIFIED:20250415T175311Z
UID:10016288-1762891200-1762891200@whattoday.ca
SUMMARY:Live Music at McThirsty's
DESCRIPTION:
URL:https://whattoday.ca/event/live-music-at-mcthirstys/2025-11-11/
LOCATION:McThirsty’s Pint\, 166 Charlotte St.\, Peterborough\, ON\, K9J 2T8\, Canada
CATEGORIES:Entertainment,Food & Beverage
ORGANIZER;CN="McThirsty's Pint":MAILTO:mcthirstys166@gmail.com
END:VEVENT
BEGIN:VEVENT
DTSTART;TZID=America/Toronto:20251110T210000
DTEND;TZID=America/Toronto:20251110T210000
DTSTAMP:20260421T115605
CREATED:20241125T204944Z
LAST-MODIFIED:20241125T204952Z
UID:10006085-1762808400-1762808400@whattoday.ca
SUMMARY:Cam Green's Trivia Night at McThirsty's Pint
DESCRIPTION:
URL:https://whattoday.ca/event/cam-greens-trivia-night-at-mcthirstys-pint/2025-11-10/
LOCATION:McThirsty’s Pint\, 166 Charlotte St.\, Peterborough\, ON\, K9J 2T8\, Canada
CATEGORIES:Entertainment,Food & Beverage,More
ORGANIZER;CN="McThirsty's Pint":MAILTO:mcthirstys166@gmail.com
END:VEVENT
BEGIN:VEVENT
DTSTART;TZID=America/Toronto:20251109T200000
DTEND;TZID=America/Toronto:20251109T200000
DTSTAMP:20260421T115605
CREATED:20250415T174619Z
LAST-MODIFIED:20250415T174631Z
UID:10014982-1762718400-1762718400@whattoday.ca
SUMMARY:Open Mic at McThirsty's
DESCRIPTION:
URL:https://whattoday.ca/event/open-mic-at-mcthirstys/2025-11-09/
LOCATION:McThirsty’s Pint\, 166 Charlotte St.\, Peterborough\, ON\, K9J 2T8\, Canada
CATEGORIES:Entertainment,Food & Beverage
ORGANIZER;CN="McThirsty's Pint":MAILTO:mcthirstys166@gmail.com
END:VEVENT
BEGIN:VEVENT
DTSTART;TZID=America/Toronto:20251108T210000
DTEND;TZID=America/Toronto:20251108T210000
DTSTAMP:20260421T115605
CREATED:20250415T174813Z
LAST-MODIFIED:20250415T174819Z
UID:10015243-1762635600-1762635600@whattoday.ca
SUMMARY:Live Music at McThirsty's
DESCRIPTION:
URL:https://whattoday.ca/event/live-music-at-mcthirstys-5/2025-11-08/
LOCATION:McThirsty’s Pint\, 166 Charlotte St.\, Peterborough\, ON\, K9J 2T8\, Canada
CATEGORIES:Entertainment,Food & Beverage
ORGANIZER;CN="McThirsty's Pint":MAILTO:mcthirstys166@gmail.com
END:VEVENT
END:VCALENDAR