BEGIN:VCALENDAR
VERSION:2.0
PRODID:-//WHATtoday.ca - ECPv6.15.20//NONSGML v1.0//EN
CALSCALE:GREGORIAN
METHOD:PUBLISH
X-ORIGINAL-URL:https://whattoday.ca
X-WR-CALDESC:Events for WHATtoday.ca
REFRESH-INTERVAL;VALUE=DURATION:PT1H
X-Robots-Tag:noindex
X-PUBLISHED-TTL:PT1H
BEGIN:VTIMEZONE
TZID:America/Toronto
BEGIN:DAYLIGHT
TZOFFSETFROM:-0500
TZOFFSETTO:-0400
TZNAME:EDT
DTSTART:20240310T070000
END:DAYLIGHT
BEGIN:STANDARD
TZOFFSETFROM:-0400
TZOFFSETTO:-0500
TZNAME:EST
DTSTART:20241103T060000
END:STANDARD
BEGIN:DAYLIGHT
TZOFFSETFROM:-0500
TZOFFSETTO:-0400
TZNAME:EDT
DTSTART:20250309T070000
END:DAYLIGHT
BEGIN:STANDARD
TZOFFSETFROM:-0400
TZOFFSETTO:-0500
TZNAME:EST
DTSTART:20251102T060000
END:STANDARD
BEGIN:DAYLIGHT
TZOFFSETFROM:-0500
TZOFFSETTO:-0400
TZNAME:EDT
DTSTART:20260308T070000
END:DAYLIGHT
BEGIN:STANDARD
TZOFFSETFROM:-0400
TZOFFSETTO:-0500
TZNAME:EST
DTSTART:20261101T060000
END:STANDARD
END:VTIMEZONE
BEGIN:VEVENT
DTSTART;TZID=America/Toronto:20251020T210000
DTEND;TZID=America/Toronto:20251020T210000
DTSTAMP:20260421T191955
CREATED:20241125T204944Z
LAST-MODIFIED:20241125T204952Z
UID:10006082-1760994000-1760994000@whattoday.ca
SUMMARY:Cam Green's Trivia Night at McThirsty's Pint
DESCRIPTION:
URL:https://whattoday.ca/event/cam-greens-trivia-night-at-mcthirstys-pint/2025-10-20/
LOCATION:McThirsty’s Pint\, 166 Charlotte St.\, Peterborough\, ON\, K9J 2T8\, Canada
CATEGORIES:Entertainment,Food & Beverage,More
ORGANIZER;CN="McThirsty's Pint":MAILTO:mcthirstys166@gmail.com
END:VEVENT
BEGIN:VEVENT
DTSTART;TZID=America/Toronto:20251019T200000
DTEND;TZID=America/Toronto:20251019T200000
DTSTAMP:20260421T191955
CREATED:20250415T174619Z
LAST-MODIFIED:20250415T174631Z
UID:10014979-1760904000-1760904000@whattoday.ca
SUMMARY:Open Mic at McThirsty's
DESCRIPTION:
URL:https://whattoday.ca/event/open-mic-at-mcthirstys/2025-10-19/
LOCATION:McThirsty’s Pint\, 166 Charlotte St.\, Peterborough\, ON\, K9J 2T8\, Canada
CATEGORIES:Entertainment,Food & Beverage
ORGANIZER;CN="McThirsty's Pint":MAILTO:mcthirstys166@gmail.com
END:VEVENT
BEGIN:VEVENT
DTSTART;TZID=America/Toronto:20251018T210000
DTEND;TZID=America/Toronto:20251018T210000
DTSTAMP:20260421T191955
CREATED:20250415T174813Z
LAST-MODIFIED:20250415T174819Z
UID:10015240-1760821200-1760821200@whattoday.ca
SUMMARY:Live Music at McThirsty's
DESCRIPTION:
URL:https://whattoday.ca/event/live-music-at-mcthirstys-5/2025-10-18/
LOCATION:McThirsty’s Pint\, 166 Charlotte St.\, Peterborough\, ON\, K9J 2T8\, Canada
CATEGORIES:Entertainment,Food & Beverage
ORGANIZER;CN="McThirsty's Pint":MAILTO:mcthirstys166@gmail.com
END:VEVENT
BEGIN:VEVENT
DTSTART;TZID=America/Toronto:20251017T210000
DTEND;TZID=America/Toronto:20251017T210000
DTSTAMP:20260421T191955
CREATED:20250415T174934Z
LAST-MODIFIED:20250415T174941Z
UID:10015501-1760734800-1760734800@whattoday.ca
SUMMARY:Live Music at McThirsty's
DESCRIPTION:
URL:https://whattoday.ca/event/live-music-at-mcthirstys-4/2025-10-17/
LOCATION:McThirsty’s Pint\, 166 Charlotte St.\, Peterborough\, ON\, K9J 2T8\, Canada
CATEGORIES:Entertainment,Food & Beverage
ORGANIZER;CN="McThirsty's Pint":MAILTO:mcthirstys166@gmail.com
END:VEVENT
BEGIN:VEVENT
DTSTART;TZID=America/Toronto:20251016T200000
DTEND;TZID=America/Toronto:20251016T200000
DTSTAMP:20260421T191955
CREATED:20250415T175049Z
LAST-MODIFIED:20251202T175457Z
UID:10015762-1760644800-1760644800@whattoday.ca
SUMMARY:Live Music at McThirsty's
DESCRIPTION:
URL:https://whattoday.ca/event/live-music-at-mcthirstys-3/2025-10-16/
LOCATION:McThirsty’s Pint\, 166 Charlotte St.\, Peterborough\, ON\, K9J 2T8\, Canada
CATEGORIES:Entertainment,Food & Beverage
ORGANIZER;CN="McThirsty's Pint":MAILTO:mcthirstys166@gmail.com
END:VEVENT
BEGIN:VEVENT
DTSTART;TZID=America/Toronto:20251015T200000
DTEND;TZID=America/Toronto:20251015T200000
DTSTAMP:20260421T191955
CREATED:20250415T175201Z
LAST-MODIFIED:20250415T175208Z
UID:10016023-1760558400-1760558400@whattoday.ca
SUMMARY:Live Music at McThirsty's
DESCRIPTION:
URL:https://whattoday.ca/event/live-music-at-mcthirstys-2/2025-10-15/
LOCATION:McThirsty’s Pint\, 166 Charlotte St.\, Peterborough\, ON\, K9J 2T8\, Canada
CATEGORIES:Entertainment,Food & Beverage
ORGANIZER;CN="McThirsty's Pint":MAILTO:mcthirstys166@gmail.com
END:VEVENT
BEGIN:VEVENT
DTSTART;TZID=America/Toronto:20251014T200000
DTEND;TZID=America/Toronto:20251014T200000
DTSTAMP:20260421T191955
CREATED:20250415T175304Z
LAST-MODIFIED:20250415T175311Z
UID:10016284-1760472000-1760472000@whattoday.ca
SUMMARY:Live Music at McThirsty's
DESCRIPTION:
URL:https://whattoday.ca/event/live-music-at-mcthirstys/2025-10-14/
LOCATION:McThirsty’s Pint\, 166 Charlotte St.\, Peterborough\, ON\, K9J 2T8\, Canada
CATEGORIES:Entertainment,Food & Beverage
ORGANIZER;CN="McThirsty's Pint":MAILTO:mcthirstys166@gmail.com
END:VEVENT
BEGIN:VEVENT
DTSTART;TZID=America/Toronto:20251013T210000
DTEND;TZID=America/Toronto:20251013T210000
DTSTAMP:20260421T191955
CREATED:20241125T204944Z
LAST-MODIFIED:20241125T204952Z
UID:10006081-1760389200-1760389200@whattoday.ca
SUMMARY:Cam Green's Trivia Night at McThirsty's Pint
DESCRIPTION:
URL:https://whattoday.ca/event/cam-greens-trivia-night-at-mcthirstys-pint/2025-10-13/
LOCATION:McThirsty’s Pint\, 166 Charlotte St.\, Peterborough\, ON\, K9J 2T8\, Canada
CATEGORIES:Entertainment,Food & Beverage,More
ORGANIZER;CN="McThirsty's Pint":MAILTO:mcthirstys166@gmail.com
END:VEVENT
BEGIN:VEVENT
DTSTART;TZID=America/Toronto:20251012T200000
DTEND;TZID=America/Toronto:20251012T200000
DTSTAMP:20260421T191955
CREATED:20250415T174619Z
LAST-MODIFIED:20250415T174631Z
UID:10014978-1760299200-1760299200@whattoday.ca
SUMMARY:Open Mic at McThirsty's
DESCRIPTION:
URL:https://whattoday.ca/event/open-mic-at-mcthirstys/2025-10-12/
LOCATION:McThirsty’s Pint\, 166 Charlotte St.\, Peterborough\, ON\, K9J 2T8\, Canada
CATEGORIES:Entertainment,Food & Beverage
ORGANIZER;CN="McThirsty's Pint":MAILTO:mcthirstys166@gmail.com
END:VEVENT
BEGIN:VEVENT
DTSTART;TZID=America/Toronto:20251011T210000
DTEND;TZID=America/Toronto:20251011T210000
DTSTAMP:20260421T191955
CREATED:20250415T174813Z
LAST-MODIFIED:20250415T174819Z
UID:10015239-1760216400-1760216400@whattoday.ca
SUMMARY:Live Music at McThirsty's
DESCRIPTION:
URL:https://whattoday.ca/event/live-music-at-mcthirstys-5/2025-10-11/
LOCATION:McThirsty’s Pint\, 166 Charlotte St.\, Peterborough\, ON\, K9J 2T8\, Canada
CATEGORIES:Entertainment,Food & Beverage
ORGANIZER;CN="McThirsty's Pint":MAILTO:mcthirstys166@gmail.com
END:VEVENT
BEGIN:VEVENT
DTSTART;TZID=America/Toronto:20251010T210000
DTEND;TZID=America/Toronto:20251010T210000
DTSTAMP:20260421T191955
CREATED:20250415T174934Z
LAST-MODIFIED:20250415T174941Z
UID:10015500-1760130000-1760130000@whattoday.ca
SUMMARY:Live Music at McThirsty's
DESCRIPTION:
URL:https://whattoday.ca/event/live-music-at-mcthirstys-4/2025-10-10/
LOCATION:McThirsty’s Pint\, 166 Charlotte St.\, Peterborough\, ON\, K9J 2T8\, Canada
CATEGORIES:Entertainment,Food & Beverage
ORGANIZER;CN="McThirsty's Pint":MAILTO:mcthirstys166@gmail.com
END:VEVENT
BEGIN:VEVENT
DTSTART;TZID=America/Toronto:20251009T200000
DTEND;TZID=America/Toronto:20251009T200000
DTSTAMP:20260421T191955
CREATED:20250415T175049Z
LAST-MODIFIED:20251202T175457Z
UID:10015761-1760040000-1760040000@whattoday.ca
SUMMARY:Live Music at McThirsty's
DESCRIPTION:
URL:https://whattoday.ca/event/live-music-at-mcthirstys-3/2025-10-09/
LOCATION:McThirsty’s Pint\, 166 Charlotte St.\, Peterborough\, ON\, K9J 2T8\, Canada
CATEGORIES:Entertainment,Food & Beverage
ORGANIZER;CN="McThirsty's Pint":MAILTO:mcthirstys166@gmail.com
END:VEVENT
BEGIN:VEVENT
DTSTART;TZID=America/Toronto:20251008T200000
DTEND;TZID=America/Toronto:20251008T200000
DTSTAMP:20260421T191955
CREATED:20250415T175201Z
LAST-MODIFIED:20250415T175208Z
UID:10016022-1759953600-1759953600@whattoday.ca
SUMMARY:Live Music at McThirsty's
DESCRIPTION:
URL:https://whattoday.ca/event/live-music-at-mcthirstys-2/2025-10-08/
LOCATION:McThirsty’s Pint\, 166 Charlotte St.\, Peterborough\, ON\, K9J 2T8\, Canada
CATEGORIES:Entertainment,Food & Beverage
ORGANIZER;CN="McThirsty's Pint":MAILTO:mcthirstys166@gmail.com
END:VEVENT
BEGIN:VEVENT
DTSTART;TZID=America/Toronto:20251007T200000
DTEND;TZID=America/Toronto:20251007T200000
DTSTAMP:20260421T191955
CREATED:20250415T175304Z
LAST-MODIFIED:20250415T175311Z
UID:10016283-1759867200-1759867200@whattoday.ca
SUMMARY:Live Music at McThirsty's
DESCRIPTION:
URL:https://whattoday.ca/event/live-music-at-mcthirstys/2025-10-07/
LOCATION:McThirsty’s Pint\, 166 Charlotte St.\, Peterborough\, ON\, K9J 2T8\, Canada
CATEGORIES:Entertainment,Food & Beverage
ORGANIZER;CN="McThirsty's Pint":MAILTO:mcthirstys166@gmail.com
END:VEVENT
BEGIN:VEVENT
DTSTART;TZID=America/Toronto:20251006T210000
DTEND;TZID=America/Toronto:20251006T210000
DTSTAMP:20260421T191955
CREATED:20241125T204944Z
LAST-MODIFIED:20241125T204952Z
UID:10006080-1759784400-1759784400@whattoday.ca
SUMMARY:Cam Green's Trivia Night at McThirsty's Pint
DESCRIPTION:
URL:https://whattoday.ca/event/cam-greens-trivia-night-at-mcthirstys-pint/2025-10-06/
LOCATION:McThirsty’s Pint\, 166 Charlotte St.\, Peterborough\, ON\, K9J 2T8\, Canada
CATEGORIES:Entertainment,Food & Beverage,More
ORGANIZER;CN="McThirsty's Pint":MAILTO:mcthirstys166@gmail.com
END:VEVENT
BEGIN:VEVENT
DTSTART;TZID=America/Toronto:20251005T200000
DTEND;TZID=America/Toronto:20251005T200000
DTSTAMP:20260421T191955
CREATED:20250415T174619Z
LAST-MODIFIED:20250415T174631Z
UID:10014977-1759694400-1759694400@whattoday.ca
SUMMARY:Open Mic at McThirsty's
DESCRIPTION:
URL:https://whattoday.ca/event/open-mic-at-mcthirstys/2025-10-05/
LOCATION:McThirsty’s Pint\, 166 Charlotte St.\, Peterborough\, ON\, K9J 2T8\, Canada
CATEGORIES:Entertainment,Food & Beverage
ORGANIZER;CN="McThirsty's Pint":MAILTO:mcthirstys166@gmail.com
END:VEVENT
BEGIN:VEVENT
DTSTART;TZID=America/Toronto:20251004T210000
DTEND;TZID=America/Toronto:20251004T210000
DTSTAMP:20260421T191955
CREATED:20250415T174813Z
LAST-MODIFIED:20250415T174819Z
UID:10015238-1759611600-1759611600@whattoday.ca
SUMMARY:Live Music at McThirsty's
DESCRIPTION:
URL:https://whattoday.ca/event/live-music-at-mcthirstys-5/2025-10-04/
LOCATION:McThirsty’s Pint\, 166 Charlotte St.\, Peterborough\, ON\, K9J 2T8\, Canada
CATEGORIES:Entertainment,Food & Beverage
ORGANIZER;CN="McThirsty's Pint":MAILTO:mcthirstys166@gmail.com
END:VEVENT
BEGIN:VEVENT
DTSTART;TZID=America/Toronto:20251003T210000
DTEND;TZID=America/Toronto:20251003T210000
DTSTAMP:20260421T191955
CREATED:20250415T174934Z
LAST-MODIFIED:20250415T174941Z
UID:10015499-1759525200-1759525200@whattoday.ca
SUMMARY:Live Music at McThirsty's
DESCRIPTION:
URL:https://whattoday.ca/event/live-music-at-mcthirstys-4/2025-10-03/
LOCATION:McThirsty’s Pint\, 166 Charlotte St.\, Peterborough\, ON\, K9J 2T8\, Canada
CATEGORIES:Entertainment,Food & Beverage
ORGANIZER;CN="McThirsty's Pint":MAILTO:mcthirstys166@gmail.com
END:VEVENT
BEGIN:VEVENT
DTSTART;TZID=America/Toronto:20251002T200000
DTEND;TZID=America/Toronto:20251002T200000
DTSTAMP:20260421T191955
CREATED:20250415T175049Z
LAST-MODIFIED:20251202T175457Z
UID:10015760-1759435200-1759435200@whattoday.ca
SUMMARY:Live Music at McThirsty's
DESCRIPTION:
URL:https://whattoday.ca/event/live-music-at-mcthirstys-3/2025-10-02/
LOCATION:McThirsty’s Pint\, 166 Charlotte St.\, Peterborough\, ON\, K9J 2T8\, Canada
CATEGORIES:Entertainment,Food & Beverage
ORGANIZER;CN="McThirsty's Pint":MAILTO:mcthirstys166@gmail.com
END:VEVENT
BEGIN:VEVENT
DTSTART;TZID=America/Toronto:20251001T200000
DTEND;TZID=America/Toronto:20251001T200000
DTSTAMP:20260421T191955
CREATED:20250415T175201Z
LAST-MODIFIED:20250415T175208Z
UID:10016021-1759348800-1759348800@whattoday.ca
SUMMARY:Live Music at McThirsty's
DESCRIPTION:
URL:https://whattoday.ca/event/live-music-at-mcthirstys-2/2025-10-01/
LOCATION:McThirsty’s Pint\, 166 Charlotte St.\, Peterborough\, ON\, K9J 2T8\, Canada
CATEGORIES:Entertainment,Food & Beverage
ORGANIZER;CN="McThirsty's Pint":MAILTO:mcthirstys166@gmail.com
END:VEVENT
BEGIN:VEVENT
DTSTART;TZID=America/Toronto:20250930T200000
DTEND;TZID=America/Toronto:20250930T200000
DTSTAMP:20260421T191955
CREATED:20250415T175304Z
LAST-MODIFIED:20250415T175311Z
UID:10016282-1759262400-1759262400@whattoday.ca
SUMMARY:Live Music at McThirsty's
DESCRIPTION:
URL:https://whattoday.ca/event/live-music-at-mcthirstys/2025-09-30/
LOCATION:McThirsty’s Pint\, 166 Charlotte St.\, Peterborough\, ON\, K9J 2T8\, Canada
CATEGORIES:Entertainment,Food & Beverage
ORGANIZER;CN="McThirsty's Pint":MAILTO:mcthirstys166@gmail.com
END:VEVENT
BEGIN:VEVENT
DTSTART;TZID=America/Toronto:20250929T210000
DTEND;TZID=America/Toronto:20250929T210000
DTSTAMP:20260421T191955
CREATED:20241125T204944Z
LAST-MODIFIED:20241125T204952Z
UID:10006079-1759179600-1759179600@whattoday.ca
SUMMARY:Cam Green's Trivia Night at McThirsty's Pint
DESCRIPTION:
URL:https://whattoday.ca/event/cam-greens-trivia-night-at-mcthirstys-pint/2025-09-29/
LOCATION:McThirsty’s Pint\, 166 Charlotte St.\, Peterborough\, ON\, K9J 2T8\, Canada
CATEGORIES:Entertainment,Food & Beverage,More
ORGANIZER;CN="McThirsty's Pint":MAILTO:mcthirstys166@gmail.com
END:VEVENT
BEGIN:VEVENT
DTSTART;TZID=America/Toronto:20250928T200000
DTEND;TZID=America/Toronto:20250928T200000
DTSTAMP:20260421T191955
CREATED:20250415T174619Z
LAST-MODIFIED:20250415T174631Z
UID:10014976-1759089600-1759089600@whattoday.ca
SUMMARY:Open Mic at McThirsty's
DESCRIPTION:
URL:https://whattoday.ca/event/open-mic-at-mcthirstys/2025-09-28/
LOCATION:McThirsty’s Pint\, 166 Charlotte St.\, Peterborough\, ON\, K9J 2T8\, Canada
CATEGORIES:Entertainment,Food & Beverage
ORGANIZER;CN="McThirsty's Pint":MAILTO:mcthirstys166@gmail.com
END:VEVENT
BEGIN:VEVENT
DTSTART;TZID=America/Toronto:20250927T210000
DTEND;TZID=America/Toronto:20250927T210000
DTSTAMP:20260421T191955
CREATED:20250415T174813Z
LAST-MODIFIED:20250415T174819Z
UID:10015237-1759006800-1759006800@whattoday.ca
SUMMARY:Live Music at McThirsty's
DESCRIPTION:
URL:https://whattoday.ca/event/live-music-at-mcthirstys-5/2025-09-27/
LOCATION:McThirsty’s Pint\, 166 Charlotte St.\, Peterborough\, ON\, K9J 2T8\, Canada
CATEGORIES:Entertainment,Food & Beverage
ORGANIZER;CN="McThirsty's Pint":MAILTO:mcthirstys166@gmail.com
END:VEVENT
BEGIN:VEVENT
DTSTART;TZID=America/Toronto:20250926T210000
DTEND;TZID=America/Toronto:20250926T210000
DTSTAMP:20260421T191955
CREATED:20250415T174934Z
LAST-MODIFIED:20250415T174941Z
UID:10015498-1758920400-1758920400@whattoday.ca
SUMMARY:Live Music at McThirsty's
DESCRIPTION:
URL:https://whattoday.ca/event/live-music-at-mcthirstys-4/2025-09-26/
LOCATION:McThirsty’s Pint\, 166 Charlotte St.\, Peterborough\, ON\, K9J 2T8\, Canada
CATEGORIES:Entertainment,Food & Beverage
ORGANIZER;CN="McThirsty's Pint":MAILTO:mcthirstys166@gmail.com
END:VEVENT
BEGIN:VEVENT
DTSTART;TZID=America/Toronto:20250925T200000
DTEND;TZID=America/Toronto:20250925T200000
DTSTAMP:20260421T191955
CREATED:20250415T175049Z
LAST-MODIFIED:20251202T175457Z
UID:10015759-1758830400-1758830400@whattoday.ca
SUMMARY:Live Music at McThirsty's
DESCRIPTION:
URL:https://whattoday.ca/event/live-music-at-mcthirstys-3/2025-09-25/
LOCATION:McThirsty’s Pint\, 166 Charlotte St.\, Peterborough\, ON\, K9J 2T8\, Canada
CATEGORIES:Entertainment,Food & Beverage
ORGANIZER;CN="McThirsty's Pint":MAILTO:mcthirstys166@gmail.com
END:VEVENT
BEGIN:VEVENT
DTSTART;TZID=America/Toronto:20250924T200000
DTEND;TZID=America/Toronto:20250924T200000
DTSTAMP:20260421T191955
CREATED:20250415T175201Z
LAST-MODIFIED:20250415T175208Z
UID:10016020-1758744000-1758744000@whattoday.ca
SUMMARY:Live Music at McThirsty's
DESCRIPTION:
URL:https://whattoday.ca/event/live-music-at-mcthirstys-2/2025-09-24/
LOCATION:McThirsty’s Pint\, 166 Charlotte St.\, Peterborough\, ON\, K9J 2T8\, Canada
CATEGORIES:Entertainment,Food & Beverage
ORGANIZER;CN="McThirsty's Pint":MAILTO:mcthirstys166@gmail.com
END:VEVENT
BEGIN:VEVENT
DTSTART;TZID=America/Toronto:20250923T200000
DTEND;TZID=America/Toronto:20250923T200000
DTSTAMP:20260421T191955
CREATED:20250415T175304Z
LAST-MODIFIED:20250415T175311Z
UID:10016281-1758657600-1758657600@whattoday.ca
SUMMARY:Live Music at McThirsty's
DESCRIPTION:
URL:https://whattoday.ca/event/live-music-at-mcthirstys/2025-09-23/
LOCATION:McThirsty’s Pint\, 166 Charlotte St.\, Peterborough\, ON\, K9J 2T8\, Canada
CATEGORIES:Entertainment,Food & Beverage
ORGANIZER;CN="McThirsty's Pint":MAILTO:mcthirstys166@gmail.com
END:VEVENT
BEGIN:VEVENT
DTSTART;TZID=America/Toronto:20250922T210000
DTEND;TZID=America/Toronto:20250922T210000
DTSTAMP:20260421T191955
CREATED:20241125T204944Z
LAST-MODIFIED:20241125T204952Z
UID:10006078-1758574800-1758574800@whattoday.ca
SUMMARY:Cam Green's Trivia Night at McThirsty's Pint
DESCRIPTION:
URL:https://whattoday.ca/event/cam-greens-trivia-night-at-mcthirstys-pint/2025-09-22/
LOCATION:McThirsty’s Pint\, 166 Charlotte St.\, Peterborough\, ON\, K9J 2T8\, Canada
CATEGORIES:Entertainment,Food & Beverage,More
ORGANIZER;CN="McThirsty's Pint":MAILTO:mcthirstys166@gmail.com
END:VEVENT
BEGIN:VEVENT
DTSTART;TZID=America/Toronto:20250921T200000
DTEND;TZID=America/Toronto:20250921T200000
DTSTAMP:20260421T191955
CREATED:20250415T174619Z
LAST-MODIFIED:20250415T174631Z
UID:10014975-1758484800-1758484800@whattoday.ca
SUMMARY:Open Mic at McThirsty's
DESCRIPTION:
URL:https://whattoday.ca/event/open-mic-at-mcthirstys/2025-09-21/
LOCATION:McThirsty’s Pint\, 166 Charlotte St.\, Peterborough\, ON\, K9J 2T8\, Canada
CATEGORIES:Entertainment,Food & Beverage
ORGANIZER;CN="McThirsty's Pint":MAILTO:mcthirstys166@gmail.com
END:VEVENT
END:VCALENDAR