BEGIN:VCALENDAR
VERSION:2.0
PRODID:-//WHATtoday.ca - ECPv6.15.20//NONSGML v1.0//EN
CALSCALE:GREGORIAN
METHOD:PUBLISH
X-WR-CALNAME:WHATtoday.ca
X-ORIGINAL-URL:https://whattoday.ca
X-WR-CALDESC:Events for WHATtoday.ca
REFRESH-INTERVAL;VALUE=DURATION:PT1H
X-Robots-Tag:noindex
X-PUBLISHED-TTL:PT1H
BEGIN:VTIMEZONE
TZID:America/Toronto
BEGIN:DAYLIGHT
TZOFFSETFROM:-0500
TZOFFSETTO:-0400
TZNAME:EDT
DTSTART:20250309T070000
END:DAYLIGHT
BEGIN:STANDARD
TZOFFSETFROM:-0400
TZOFFSETTO:-0500
TZNAME:EST
DTSTART:20251102T060000
END:STANDARD
BEGIN:DAYLIGHT
TZOFFSETFROM:-0500
TZOFFSETTO:-0400
TZNAME:EDT
DTSTART:20260308T070000
END:DAYLIGHT
BEGIN:STANDARD
TZOFFSETFROM:-0400
TZOFFSETTO:-0500
TZNAME:EST
DTSTART:20261101T060000
END:STANDARD
BEGIN:DAYLIGHT
TZOFFSETFROM:-0500
TZOFFSETTO:-0400
TZNAME:EDT
DTSTART:20270314T070000
END:DAYLIGHT
BEGIN:STANDARD
TZOFFSETFROM:-0400
TZOFFSETTO:-0500
TZNAME:EST
DTSTART:20271107T060000
END:STANDARD
END:VTIMEZONE
BEGIN:VEVENT
DTSTART;TZID=America/Toronto:20261018T200000
DTEND;TZID=America/Toronto:20261018T200000
DTSTAMP:20260421T134231
CREATED:20250415T174619Z
LAST-MODIFIED:20250415T174631Z
UID:10015031-1792353600-1792353600@whattoday.ca
SUMMARY:Open Mic at McThirsty's
DESCRIPTION:
URL:https://whattoday.ca/event/open-mic-at-mcthirstys/2026-10-18/
LOCATION:McThirsty’s Pint\, 166 Charlotte St.\, Peterborough\, ON\, K9J 2T8\, Canada
CATEGORIES:Entertainment,Food & Beverage
ORGANIZER;CN="McThirsty's Pint":MAILTO:mcthirstys166@gmail.com
END:VEVENT
BEGIN:VEVENT
DTSTART;TZID=America/Toronto:20261019T210000
DTEND;TZID=America/Toronto:20261019T210000
DTSTAMP:20260421T134231
CREATED:20241125T204944Z
LAST-MODIFIED:20241125T204952Z
UID:10006134-1792443600-1792443600@whattoday.ca
SUMMARY:Cam Green's Trivia Night at McThirsty's Pint
DESCRIPTION:
URL:https://whattoday.ca/event/cam-greens-trivia-night-at-mcthirstys-pint/2026-10-19/
LOCATION:McThirsty’s Pint\, 166 Charlotte St.\, Peterborough\, ON\, K9J 2T8\, Canada
CATEGORIES:Entertainment,Food & Beverage,More
ORGANIZER;CN="McThirsty's Pint":MAILTO:mcthirstys166@gmail.com
END:VEVENT
BEGIN:VEVENT
DTSTART;TZID=America/Toronto:20261020T200000
DTEND;TZID=America/Toronto:20261020T200000
DTSTAMP:20260421T134231
CREATED:20250415T175304Z
LAST-MODIFIED:20250415T175311Z
UID:10016337-1792526400-1792526400@whattoday.ca
SUMMARY:Live Music at McThirsty's
DESCRIPTION:
URL:https://whattoday.ca/event/live-music-at-mcthirstys/2026-10-20/
LOCATION:McThirsty’s Pint\, 166 Charlotte St.\, Peterborough\, ON\, K9J 2T8\, Canada
CATEGORIES:Entertainment,Food & Beverage
ORGANIZER;CN="McThirsty's Pint":MAILTO:mcthirstys166@gmail.com
END:VEVENT
BEGIN:VEVENT
DTSTART;TZID=America/Toronto:20261021T200000
DTEND;TZID=America/Toronto:20261021T200000
DTSTAMP:20260421T134231
CREATED:20250415T175201Z
LAST-MODIFIED:20250415T175208Z
UID:10016076-1792612800-1792612800@whattoday.ca
SUMMARY:Live Music at McThirsty's
DESCRIPTION:
URL:https://whattoday.ca/event/live-music-at-mcthirstys-2/2026-10-21/
LOCATION:McThirsty’s Pint\, 166 Charlotte St.\, Peterborough\, ON\, K9J 2T8\, Canada
CATEGORIES:Entertainment,Food & Beverage
ORGANIZER;CN="McThirsty's Pint":MAILTO:mcthirstys166@gmail.com
END:VEVENT
BEGIN:VEVENT
DTSTART;TZID=America/Toronto:20261022T200000
DTEND;TZID=America/Toronto:20261022T200000
DTSTAMP:20260421T134231
CREATED:20250415T175049Z
LAST-MODIFIED:20251202T175457Z
UID:10015815-1792699200-1792699200@whattoday.ca
SUMMARY:Live Music at McThirsty's
DESCRIPTION:
URL:https://whattoday.ca/event/live-music-at-mcthirstys-3/2026-10-22/
LOCATION:McThirsty’s Pint\, 166 Charlotte St.\, Peterborough\, ON\, K9J 2T8\, Canada
CATEGORIES:Entertainment,Food & Beverage
ORGANIZER;CN="McThirsty's Pint":MAILTO:mcthirstys166@gmail.com
END:VEVENT
BEGIN:VEVENT
DTSTART;TZID=America/Toronto:20261023T210000
DTEND;TZID=America/Toronto:20261023T210000
DTSTAMP:20260421T134231
CREATED:20250415T174934Z
LAST-MODIFIED:20250415T174941Z
UID:10015554-1792789200-1792789200@whattoday.ca
SUMMARY:Live Music at McThirsty's
DESCRIPTION:
URL:https://whattoday.ca/event/live-music-at-mcthirstys-4/2026-10-23/
LOCATION:McThirsty’s Pint\, 166 Charlotte St.\, Peterborough\, ON\, K9J 2T8\, Canada
CATEGORIES:Entertainment,Food & Beverage
ORGANIZER;CN="McThirsty's Pint":MAILTO:mcthirstys166@gmail.com
END:VEVENT
BEGIN:VEVENT
DTSTART;TZID=America/Toronto:20261024T210000
DTEND;TZID=America/Toronto:20261024T210000
DTSTAMP:20260421T134231
CREATED:20250415T174813Z
LAST-MODIFIED:20250415T174819Z
UID:10015293-1792875600-1792875600@whattoday.ca
SUMMARY:Live Music at McThirsty's
DESCRIPTION:
URL:https://whattoday.ca/event/live-music-at-mcthirstys-5/2026-10-24/
LOCATION:McThirsty’s Pint\, 166 Charlotte St.\, Peterborough\, ON\, K9J 2T8\, Canada
CATEGORIES:Entertainment,Food & Beverage
ORGANIZER;CN="McThirsty's Pint":MAILTO:mcthirstys166@gmail.com
END:VEVENT
BEGIN:VEVENT
DTSTART;TZID=America/Toronto:20261025T200000
DTEND;TZID=America/Toronto:20261025T200000
DTSTAMP:20260421T134231
CREATED:20250415T174619Z
LAST-MODIFIED:20250415T174631Z
UID:10015032-1792958400-1792958400@whattoday.ca
SUMMARY:Open Mic at McThirsty's
DESCRIPTION:
URL:https://whattoday.ca/event/open-mic-at-mcthirstys/2026-10-25/
LOCATION:McThirsty’s Pint\, 166 Charlotte St.\, Peterborough\, ON\, K9J 2T8\, Canada
CATEGORIES:Entertainment,Food & Beverage
ORGANIZER;CN="McThirsty's Pint":MAILTO:mcthirstys166@gmail.com
END:VEVENT
BEGIN:VEVENT
DTSTART;TZID=America/Toronto:20261026T210000
DTEND;TZID=America/Toronto:20261026T210000
DTSTAMP:20260421T134231
CREATED:20241125T204944Z
LAST-MODIFIED:20241125T204952Z
UID:10006135-1793048400-1793048400@whattoday.ca
SUMMARY:Cam Green's Trivia Night at McThirsty's Pint
DESCRIPTION:
URL:https://whattoday.ca/event/cam-greens-trivia-night-at-mcthirstys-pint/2026-10-26/
LOCATION:McThirsty’s Pint\, 166 Charlotte St.\, Peterborough\, ON\, K9J 2T8\, Canada
CATEGORIES:Entertainment,Food & Beverage,More
ORGANIZER;CN="McThirsty's Pint":MAILTO:mcthirstys166@gmail.com
END:VEVENT
BEGIN:VEVENT
DTSTART;TZID=America/Toronto:20261027T200000
DTEND;TZID=America/Toronto:20261027T200000
DTSTAMP:20260421T134231
CREATED:20250415T175304Z
LAST-MODIFIED:20250415T175311Z
UID:10016338-1793131200-1793131200@whattoday.ca
SUMMARY:Live Music at McThirsty's
DESCRIPTION:
URL:https://whattoday.ca/event/live-music-at-mcthirstys/2026-10-27/
LOCATION:McThirsty’s Pint\, 166 Charlotte St.\, Peterborough\, ON\, K9J 2T8\, Canada
CATEGORIES:Entertainment,Food & Beverage
ORGANIZER;CN="McThirsty's Pint":MAILTO:mcthirstys166@gmail.com
END:VEVENT
BEGIN:VEVENT
DTSTART;TZID=America/Toronto:20261028T200000
DTEND;TZID=America/Toronto:20261028T200000
DTSTAMP:20260421T134231
CREATED:20250415T175201Z
LAST-MODIFIED:20250415T175208Z
UID:10016077-1793217600-1793217600@whattoday.ca
SUMMARY:Live Music at McThirsty's
DESCRIPTION:
URL:https://whattoday.ca/event/live-music-at-mcthirstys-2/2026-10-28/
LOCATION:McThirsty’s Pint\, 166 Charlotte St.\, Peterborough\, ON\, K9J 2T8\, Canada
CATEGORIES:Entertainment,Food & Beverage
ORGANIZER;CN="McThirsty's Pint":MAILTO:mcthirstys166@gmail.com
END:VEVENT
BEGIN:VEVENT
DTSTART;TZID=America/Toronto:20261029T200000
DTEND;TZID=America/Toronto:20261029T200000
DTSTAMP:20260421T134231
CREATED:20250415T175049Z
LAST-MODIFIED:20251202T175457Z
UID:10015816-1793304000-1793304000@whattoday.ca
SUMMARY:Live Music at McThirsty's
DESCRIPTION:
URL:https://whattoday.ca/event/live-music-at-mcthirstys-3/2026-10-29/
LOCATION:McThirsty’s Pint\, 166 Charlotte St.\, Peterborough\, ON\, K9J 2T8\, Canada
CATEGORIES:Entertainment,Food & Beverage
ORGANIZER;CN="McThirsty's Pint":MAILTO:mcthirstys166@gmail.com
END:VEVENT
BEGIN:VEVENT
DTSTART;TZID=America/Toronto:20261030T210000
DTEND;TZID=America/Toronto:20261030T210000
DTSTAMP:20260421T134231
CREATED:20250415T174934Z
LAST-MODIFIED:20250415T174941Z
UID:10015555-1793394000-1793394000@whattoday.ca
SUMMARY:Live Music at McThirsty's
DESCRIPTION:
URL:https://whattoday.ca/event/live-music-at-mcthirstys-4/2026-10-30/
LOCATION:McThirsty’s Pint\, 166 Charlotte St.\, Peterborough\, ON\, K9J 2T8\, Canada
CATEGORIES:Entertainment,Food & Beverage
ORGANIZER;CN="McThirsty's Pint":MAILTO:mcthirstys166@gmail.com
END:VEVENT
BEGIN:VEVENT
DTSTART;TZID=America/Toronto:20261031T210000
DTEND;TZID=America/Toronto:20261031T210000
DTSTAMP:20260421T134231
CREATED:20250415T174813Z
LAST-MODIFIED:20250415T174819Z
UID:10015294-1793480400-1793480400@whattoday.ca
SUMMARY:Live Music at McThirsty's
DESCRIPTION:
URL:https://whattoday.ca/event/live-music-at-mcthirstys-5/2026-10-31/
LOCATION:McThirsty’s Pint\, 166 Charlotte St.\, Peterborough\, ON\, K9J 2T8\, Canada
CATEGORIES:Entertainment,Food & Beverage
ORGANIZER;CN="McThirsty's Pint":MAILTO:mcthirstys166@gmail.com
END:VEVENT
BEGIN:VEVENT
DTSTART;TZID=America/Toronto:20261101T200000
DTEND;TZID=America/Toronto:20261101T200000
DTSTAMP:20260421T134231
CREATED:20250415T174619Z
LAST-MODIFIED:20250415T174631Z
UID:10015033-1793563200-1793563200@whattoday.ca
SUMMARY:Open Mic at McThirsty's
DESCRIPTION:
URL:https://whattoday.ca/event/open-mic-at-mcthirstys/2026-11-01/
LOCATION:McThirsty’s Pint\, 166 Charlotte St.\, Peterborough\, ON\, K9J 2T8\, Canada
CATEGORIES:Entertainment,Food & Beverage
ORGANIZER;CN="McThirsty's Pint":MAILTO:mcthirstys166@gmail.com
END:VEVENT
BEGIN:VEVENT
DTSTART;TZID=America/Toronto:20261102T210000
DTEND;TZID=America/Toronto:20261102T210000
DTSTAMP:20260421T134231
CREATED:20241125T204944Z
LAST-MODIFIED:20241125T204952Z
UID:10006136-1793653200-1793653200@whattoday.ca
SUMMARY:Cam Green's Trivia Night at McThirsty's Pint
DESCRIPTION:
URL:https://whattoday.ca/event/cam-greens-trivia-night-at-mcthirstys-pint/2026-11-02/
LOCATION:McThirsty’s Pint\, 166 Charlotte St.\, Peterborough\, ON\, K9J 2T8\, Canada
CATEGORIES:Entertainment,Food & Beverage,More
ORGANIZER;CN="McThirsty's Pint":MAILTO:mcthirstys166@gmail.com
END:VEVENT
BEGIN:VEVENT
DTSTART;TZID=America/Toronto:20261103T200000
DTEND;TZID=America/Toronto:20261103T200000
DTSTAMP:20260421T134231
CREATED:20250415T175304Z
LAST-MODIFIED:20250415T175311Z
UID:10016339-1793736000-1793736000@whattoday.ca
SUMMARY:Live Music at McThirsty's
DESCRIPTION:
URL:https://whattoday.ca/event/live-music-at-mcthirstys/2026-11-03/
LOCATION:McThirsty’s Pint\, 166 Charlotte St.\, Peterborough\, ON\, K9J 2T8\, Canada
CATEGORIES:Entertainment,Food & Beverage
ORGANIZER;CN="McThirsty's Pint":MAILTO:mcthirstys166@gmail.com
END:VEVENT
BEGIN:VEVENT
DTSTART;TZID=America/Toronto:20261104T200000
DTEND;TZID=America/Toronto:20261104T200000
DTSTAMP:20260421T134231
CREATED:20250415T175201Z
LAST-MODIFIED:20250415T175208Z
UID:10016078-1793822400-1793822400@whattoday.ca
SUMMARY:Live Music at McThirsty's
DESCRIPTION:
URL:https://whattoday.ca/event/live-music-at-mcthirstys-2/2026-11-04/
LOCATION:McThirsty’s Pint\, 166 Charlotte St.\, Peterborough\, ON\, K9J 2T8\, Canada
CATEGORIES:Entertainment,Food & Beverage
ORGANIZER;CN="McThirsty's Pint":MAILTO:mcthirstys166@gmail.com
END:VEVENT
BEGIN:VEVENT
DTSTART;TZID=America/Toronto:20261105T200000
DTEND;TZID=America/Toronto:20261105T200000
DTSTAMP:20260421T134231
CREATED:20250415T175049Z
LAST-MODIFIED:20251202T175457Z
UID:10015817-1793908800-1793908800@whattoday.ca
SUMMARY:Live Music at McThirsty's
DESCRIPTION:
URL:https://whattoday.ca/event/live-music-at-mcthirstys-3/2026-11-05/
LOCATION:McThirsty’s Pint\, 166 Charlotte St.\, Peterborough\, ON\, K9J 2T8\, Canada
CATEGORIES:Entertainment,Food & Beverage
ORGANIZER;CN="McThirsty's Pint":MAILTO:mcthirstys166@gmail.com
END:VEVENT
BEGIN:VEVENT
DTSTART;TZID=America/Toronto:20261106T210000
DTEND;TZID=America/Toronto:20261106T210000
DTSTAMP:20260421T134231
CREATED:20250415T174934Z
LAST-MODIFIED:20250415T174941Z
UID:10015556-1793998800-1793998800@whattoday.ca
SUMMARY:Live Music at McThirsty's
DESCRIPTION:
URL:https://whattoday.ca/event/live-music-at-mcthirstys-4/2026-11-06/
LOCATION:McThirsty’s Pint\, 166 Charlotte St.\, Peterborough\, ON\, K9J 2T8\, Canada
CATEGORIES:Entertainment,Food & Beverage
ORGANIZER;CN="McThirsty's Pint":MAILTO:mcthirstys166@gmail.com
END:VEVENT
BEGIN:VEVENT
DTSTART;TZID=America/Toronto:20261107T210000
DTEND;TZID=America/Toronto:20261107T210000
DTSTAMP:20260421T134231
CREATED:20250415T174813Z
LAST-MODIFIED:20250415T174819Z
UID:10015295-1794085200-1794085200@whattoday.ca
SUMMARY:Live Music at McThirsty's
DESCRIPTION:
URL:https://whattoday.ca/event/live-music-at-mcthirstys-5/2026-11-07/
LOCATION:McThirsty’s Pint\, 166 Charlotte St.\, Peterborough\, ON\, K9J 2T8\, Canada
CATEGORIES:Entertainment,Food & Beverage
ORGANIZER;CN="McThirsty's Pint":MAILTO:mcthirstys166@gmail.com
END:VEVENT
BEGIN:VEVENT
DTSTART;TZID=America/Toronto:20261108T200000
DTEND;TZID=America/Toronto:20261108T200000
DTSTAMP:20260421T134231
CREATED:20250415T174619Z
LAST-MODIFIED:20250415T174631Z
UID:10015034-1794168000-1794168000@whattoday.ca
SUMMARY:Open Mic at McThirsty's
DESCRIPTION:
URL:https://whattoday.ca/event/open-mic-at-mcthirstys/2026-11-08/
LOCATION:McThirsty’s Pint\, 166 Charlotte St.\, Peterborough\, ON\, K9J 2T8\, Canada
CATEGORIES:Entertainment,Food & Beverage
ORGANIZER;CN="McThirsty's Pint":MAILTO:mcthirstys166@gmail.com
END:VEVENT
BEGIN:VEVENT
DTSTART;TZID=America/Toronto:20261109T210000
DTEND;TZID=America/Toronto:20261109T210000
DTSTAMP:20260421T134231
CREATED:20241125T204944Z
LAST-MODIFIED:20241125T204952Z
UID:10006137-1794258000-1794258000@whattoday.ca
SUMMARY:Cam Green's Trivia Night at McThirsty's Pint
DESCRIPTION:
URL:https://whattoday.ca/event/cam-greens-trivia-night-at-mcthirstys-pint/2026-11-09/
LOCATION:McThirsty’s Pint\, 166 Charlotte St.\, Peterborough\, ON\, K9J 2T8\, Canada
CATEGORIES:Entertainment,Food & Beverage,More
ORGANIZER;CN="McThirsty's Pint":MAILTO:mcthirstys166@gmail.com
END:VEVENT
BEGIN:VEVENT
DTSTART;TZID=America/Toronto:20261110T200000
DTEND;TZID=America/Toronto:20261110T200000
DTSTAMP:20260421T134231
CREATED:20250415T175304Z
LAST-MODIFIED:20250415T175311Z
UID:10016340-1794340800-1794340800@whattoday.ca
SUMMARY:Live Music at McThirsty's
DESCRIPTION:
URL:https://whattoday.ca/event/live-music-at-mcthirstys/2026-11-10/
LOCATION:McThirsty’s Pint\, 166 Charlotte St.\, Peterborough\, ON\, K9J 2T8\, Canada
CATEGORIES:Entertainment,Food & Beverage
ORGANIZER;CN="McThirsty's Pint":MAILTO:mcthirstys166@gmail.com
END:VEVENT
BEGIN:VEVENT
DTSTART;TZID=America/Toronto:20261111T200000
DTEND;TZID=America/Toronto:20261111T200000
DTSTAMP:20260421T134231
CREATED:20250415T175201Z
LAST-MODIFIED:20250415T175208Z
UID:10016079-1794427200-1794427200@whattoday.ca
SUMMARY:Live Music at McThirsty's
DESCRIPTION:
URL:https://whattoday.ca/event/live-music-at-mcthirstys-2/2026-11-11/
LOCATION:McThirsty’s Pint\, 166 Charlotte St.\, Peterborough\, ON\, K9J 2T8\, Canada
CATEGORIES:Entertainment,Food & Beverage
ORGANIZER;CN="McThirsty's Pint":MAILTO:mcthirstys166@gmail.com
END:VEVENT
BEGIN:VEVENT
DTSTART;TZID=America/Toronto:20261112T200000
DTEND;TZID=America/Toronto:20261112T200000
DTSTAMP:20260421T134231
CREATED:20250415T175049Z
LAST-MODIFIED:20251202T175457Z
UID:10015818-1794513600-1794513600@whattoday.ca
SUMMARY:Live Music at McThirsty's
DESCRIPTION:
URL:https://whattoday.ca/event/live-music-at-mcthirstys-3/2026-11-12/
LOCATION:McThirsty’s Pint\, 166 Charlotte St.\, Peterborough\, ON\, K9J 2T8\, Canada
CATEGORIES:Entertainment,Food & Beverage
ORGANIZER;CN="McThirsty's Pint":MAILTO:mcthirstys166@gmail.com
END:VEVENT
BEGIN:VEVENT
DTSTART;TZID=America/Toronto:20261113T210000
DTEND;TZID=America/Toronto:20261113T210000
DTSTAMP:20260421T134231
CREATED:20250415T174934Z
LAST-MODIFIED:20250415T174941Z
UID:10015557-1794603600-1794603600@whattoday.ca
SUMMARY:Live Music at McThirsty's
DESCRIPTION:
URL:https://whattoday.ca/event/live-music-at-mcthirstys-4/2026-11-13/
LOCATION:McThirsty’s Pint\, 166 Charlotte St.\, Peterborough\, ON\, K9J 2T8\, Canada
CATEGORIES:Entertainment,Food & Beverage
ORGANIZER;CN="McThirsty's Pint":MAILTO:mcthirstys166@gmail.com
END:VEVENT
BEGIN:VEVENT
DTSTART;TZID=America/Toronto:20261114T210000
DTEND;TZID=America/Toronto:20261114T210000
DTSTAMP:20260421T134232
CREATED:20250415T174813Z
LAST-MODIFIED:20250415T174819Z
UID:10015296-1794690000-1794690000@whattoday.ca
SUMMARY:Live Music at McThirsty's
DESCRIPTION:
URL:https://whattoday.ca/event/live-music-at-mcthirstys-5/2026-11-14/
LOCATION:McThirsty’s Pint\, 166 Charlotte St.\, Peterborough\, ON\, K9J 2T8\, Canada
CATEGORIES:Entertainment,Food & Beverage
ORGANIZER;CN="McThirsty's Pint":MAILTO:mcthirstys166@gmail.com
END:VEVENT
BEGIN:VEVENT
DTSTART;TZID=America/Toronto:20261115T200000
DTEND;TZID=America/Toronto:20261115T200000
DTSTAMP:20260421T134232
CREATED:20250415T174619Z
LAST-MODIFIED:20250415T174631Z
UID:10015035-1794772800-1794772800@whattoday.ca
SUMMARY:Open Mic at McThirsty's
DESCRIPTION:
URL:https://whattoday.ca/event/open-mic-at-mcthirstys/2026-11-15/
LOCATION:McThirsty’s Pint\, 166 Charlotte St.\, Peterborough\, ON\, K9J 2T8\, Canada
CATEGORIES:Entertainment,Food & Beverage
ORGANIZER;CN="McThirsty's Pint":MAILTO:mcthirstys166@gmail.com
END:VEVENT
BEGIN:VEVENT
DTSTART;TZID=America/Toronto:20261116T210000
DTEND;TZID=America/Toronto:20261116T210000
DTSTAMP:20260421T134232
CREATED:20241125T204944Z
LAST-MODIFIED:20241125T204952Z
UID:10006138-1794862800-1794862800@whattoday.ca
SUMMARY:Cam Green's Trivia Night at McThirsty's Pint
DESCRIPTION:
URL:https://whattoday.ca/event/cam-greens-trivia-night-at-mcthirstys-pint/2026-11-16/
LOCATION:McThirsty’s Pint\, 166 Charlotte St.\, Peterborough\, ON\, K9J 2T8\, Canada
CATEGORIES:Entertainment,Food & Beverage,More
ORGANIZER;CN="McThirsty's Pint":MAILTO:mcthirstys166@gmail.com
END:VEVENT
END:VCALENDAR