BEGIN:VCALENDAR
VERSION:2.0
PRODID:-//WHATtoday.ca - ECPv6.15.20//NONSGML v1.0//EN
CALSCALE:GREGORIAN
METHOD:PUBLISH
X-WR-CALNAME:WHATtoday.ca
X-ORIGINAL-URL:https://whattoday.ca
X-WR-CALDESC:Events for WHATtoday.ca
REFRESH-INTERVAL;VALUE=DURATION:PT1H
X-Robots-Tag:noindex
X-PUBLISHED-TTL:PT1H
BEGIN:VTIMEZONE
TZID:America/Toronto
BEGIN:DAYLIGHT
TZOFFSETFROM:-0500
TZOFFSETTO:-0400
TZNAME:EDT
DTSTART:20250309T070000
END:DAYLIGHT
BEGIN:STANDARD
TZOFFSETFROM:-0400
TZOFFSETTO:-0500
TZNAME:EST
DTSTART:20251102T060000
END:STANDARD
BEGIN:DAYLIGHT
TZOFFSETFROM:-0500
TZOFFSETTO:-0400
TZNAME:EDT
DTSTART:20260308T070000
END:DAYLIGHT
BEGIN:STANDARD
TZOFFSETFROM:-0400
TZOFFSETTO:-0500
TZNAME:EST
DTSTART:20261101T060000
END:STANDARD
BEGIN:DAYLIGHT
TZOFFSETFROM:-0500
TZOFFSETTO:-0400
TZNAME:EDT
DTSTART:20270314T070000
END:DAYLIGHT
BEGIN:STANDARD
TZOFFSETFROM:-0400
TZOFFSETTO:-0500
TZNAME:EST
DTSTART:20271107T060000
END:STANDARD
END:VTIMEZONE
BEGIN:VEVENT
DTSTART;TZID=America/Toronto:20261123T210000
DTEND;TZID=America/Toronto:20261123T210000
DTSTAMP:20260421T190038
CREATED:20241125T204944Z
LAST-MODIFIED:20241125T204952Z
UID:10006139-1795467600-1795467600@whattoday.ca
SUMMARY:Cam Green's Trivia Night at McThirsty's Pint
DESCRIPTION:
URL:https://whattoday.ca/event/cam-greens-trivia-night-at-mcthirstys-pint/2026-11-23/
LOCATION:McThirsty’s Pint\, 166 Charlotte St.\, Peterborough\, ON\, K9J 2T8\, Canada
CATEGORIES:Entertainment,Food & Beverage,More
ORGANIZER;CN="McThirsty's Pint":MAILTO:mcthirstys166@gmail.com
END:VEVENT
BEGIN:VEVENT
DTSTART;TZID=America/Toronto:20261124T200000
DTEND;TZID=America/Toronto:20261124T200000
DTSTAMP:20260421T190038
CREATED:20250415T175304Z
LAST-MODIFIED:20250415T175311Z
UID:10016342-1795550400-1795550400@whattoday.ca
SUMMARY:Live Music at McThirsty's
DESCRIPTION:
URL:https://whattoday.ca/event/live-music-at-mcthirstys/2026-11-24/
LOCATION:McThirsty’s Pint\, 166 Charlotte St.\, Peterborough\, ON\, K9J 2T8\, Canada
CATEGORIES:Entertainment,Food & Beverage
ORGANIZER;CN="McThirsty's Pint":MAILTO:mcthirstys166@gmail.com
END:VEVENT
BEGIN:VEVENT
DTSTART;TZID=America/Toronto:20261125T200000
DTEND;TZID=America/Toronto:20261125T200000
DTSTAMP:20260421T190038
CREATED:20250415T175201Z
LAST-MODIFIED:20250415T175208Z
UID:10016081-1795636800-1795636800@whattoday.ca
SUMMARY:Live Music at McThirsty's
DESCRIPTION:
URL:https://whattoday.ca/event/live-music-at-mcthirstys-2/2026-11-25/
LOCATION:McThirsty’s Pint\, 166 Charlotte St.\, Peterborough\, ON\, K9J 2T8\, Canada
CATEGORIES:Entertainment,Food & Beverage
ORGANIZER;CN="McThirsty's Pint":MAILTO:mcthirstys166@gmail.com
END:VEVENT
BEGIN:VEVENT
DTSTART;TZID=America/Toronto:20261126T200000
DTEND;TZID=America/Toronto:20261126T200000
DTSTAMP:20260421T190038
CREATED:20250415T175049Z
LAST-MODIFIED:20251202T175457Z
UID:10015820-1795723200-1795723200@whattoday.ca
SUMMARY:Live Music at McThirsty's
DESCRIPTION:
URL:https://whattoday.ca/event/live-music-at-mcthirstys-3/2026-11-26/
LOCATION:McThirsty’s Pint\, 166 Charlotte St.\, Peterborough\, ON\, K9J 2T8\, Canada
CATEGORIES:Entertainment,Food & Beverage
ORGANIZER;CN="McThirsty's Pint":MAILTO:mcthirstys166@gmail.com
END:VEVENT
BEGIN:VEVENT
DTSTART;TZID=America/Toronto:20261127T210000
DTEND;TZID=America/Toronto:20261127T210000
DTSTAMP:20260421T190038
CREATED:20250415T174934Z
LAST-MODIFIED:20250415T174941Z
UID:10015559-1795813200-1795813200@whattoday.ca
SUMMARY:Live Music at McThirsty's
DESCRIPTION:
URL:https://whattoday.ca/event/live-music-at-mcthirstys-4/2026-11-27/
LOCATION:McThirsty’s Pint\, 166 Charlotte St.\, Peterborough\, ON\, K9J 2T8\, Canada
CATEGORIES:Entertainment,Food & Beverage
ORGANIZER;CN="McThirsty's Pint":MAILTO:mcthirstys166@gmail.com
END:VEVENT
BEGIN:VEVENT
DTSTART;TZID=America/Toronto:20261128T210000
DTEND;TZID=America/Toronto:20261128T210000
DTSTAMP:20260421T190038
CREATED:20250415T174813Z
LAST-MODIFIED:20250415T174819Z
UID:10015298-1795899600-1795899600@whattoday.ca
SUMMARY:Live Music at McThirsty's
DESCRIPTION:
URL:https://whattoday.ca/event/live-music-at-mcthirstys-5/2026-11-28/
LOCATION:McThirsty’s Pint\, 166 Charlotte St.\, Peterborough\, ON\, K9J 2T8\, Canada
CATEGORIES:Entertainment,Food & Beverage
ORGANIZER;CN="McThirsty's Pint":MAILTO:mcthirstys166@gmail.com
END:VEVENT
BEGIN:VEVENT
DTSTART;TZID=America/Toronto:20261129T200000
DTEND;TZID=America/Toronto:20261129T200000
DTSTAMP:20260421T190039
CREATED:20250415T174619Z
LAST-MODIFIED:20250415T174631Z
UID:10015037-1795982400-1795982400@whattoday.ca
SUMMARY:Open Mic at McThirsty's
DESCRIPTION:
URL:https://whattoday.ca/event/open-mic-at-mcthirstys/2026-11-29/
LOCATION:McThirsty’s Pint\, 166 Charlotte St.\, Peterborough\, ON\, K9J 2T8\, Canada
CATEGORIES:Entertainment,Food & Beverage
ORGANIZER;CN="McThirsty's Pint":MAILTO:mcthirstys166@gmail.com
END:VEVENT
BEGIN:VEVENT
DTSTART;TZID=America/Toronto:20261130T210000
DTEND;TZID=America/Toronto:20261130T210000
DTSTAMP:20260421T190039
CREATED:20241125T204944Z
LAST-MODIFIED:20241125T204952Z
UID:10006140-1796072400-1796072400@whattoday.ca
SUMMARY:Cam Green's Trivia Night at McThirsty's Pint
DESCRIPTION:
URL:https://whattoday.ca/event/cam-greens-trivia-night-at-mcthirstys-pint/2026-11-30/
LOCATION:McThirsty’s Pint\, 166 Charlotte St.\, Peterborough\, ON\, K9J 2T8\, Canada
CATEGORIES:Entertainment,Food & Beverage,More
ORGANIZER;CN="McThirsty's Pint":MAILTO:mcthirstys166@gmail.com
END:VEVENT
BEGIN:VEVENT
DTSTART;TZID=America/Toronto:20261201T200000
DTEND;TZID=America/Toronto:20261201T200000
DTSTAMP:20260421T190039
CREATED:20250415T175304Z
LAST-MODIFIED:20250415T175311Z
UID:10016343-1796155200-1796155200@whattoday.ca
SUMMARY:Live Music at McThirsty's
DESCRIPTION:
URL:https://whattoday.ca/event/live-music-at-mcthirstys/2026-12-01/
LOCATION:McThirsty’s Pint\, 166 Charlotte St.\, Peterborough\, ON\, K9J 2T8\, Canada
CATEGORIES:Entertainment,Food & Beverage
ORGANIZER;CN="McThirsty's Pint":MAILTO:mcthirstys166@gmail.com
END:VEVENT
BEGIN:VEVENT
DTSTART;TZID=America/Toronto:20261202T200000
DTEND;TZID=America/Toronto:20261202T200000
DTSTAMP:20260421T190039
CREATED:20250415T175201Z
LAST-MODIFIED:20250415T175208Z
UID:10016082-1796241600-1796241600@whattoday.ca
SUMMARY:Live Music at McThirsty's
DESCRIPTION:
URL:https://whattoday.ca/event/live-music-at-mcthirstys-2/2026-12-02/
LOCATION:McThirsty’s Pint\, 166 Charlotte St.\, Peterborough\, ON\, K9J 2T8\, Canada
CATEGORIES:Entertainment,Food & Beverage
ORGANIZER;CN="McThirsty's Pint":MAILTO:mcthirstys166@gmail.com
END:VEVENT
BEGIN:VEVENT
DTSTART;TZID=America/Toronto:20261203T200000
DTEND;TZID=America/Toronto:20261203T200000
DTSTAMP:20260421T190039
CREATED:20250415T175049Z
LAST-MODIFIED:20251202T175457Z
UID:10015821-1796328000-1796328000@whattoday.ca
SUMMARY:Live Music at McThirsty's
DESCRIPTION:
URL:https://whattoday.ca/event/live-music-at-mcthirstys-3/2026-12-03/
LOCATION:McThirsty’s Pint\, 166 Charlotte St.\, Peterborough\, ON\, K9J 2T8\, Canada
CATEGORIES:Entertainment,Food & Beverage
ORGANIZER;CN="McThirsty's Pint":MAILTO:mcthirstys166@gmail.com
END:VEVENT
BEGIN:VEVENT
DTSTART;TZID=America/Toronto:20261204T210000
DTEND;TZID=America/Toronto:20261204T210000
DTSTAMP:20260421T190039
CREATED:20250415T174934Z
LAST-MODIFIED:20250415T174941Z
UID:10015560-1796418000-1796418000@whattoday.ca
SUMMARY:Live Music at McThirsty's
DESCRIPTION:
URL:https://whattoday.ca/event/live-music-at-mcthirstys-4/2026-12-04/
LOCATION:McThirsty’s Pint\, 166 Charlotte St.\, Peterborough\, ON\, K9J 2T8\, Canada
CATEGORIES:Entertainment,Food & Beverage
ORGANIZER;CN="McThirsty's Pint":MAILTO:mcthirstys166@gmail.com
END:VEVENT
BEGIN:VEVENT
DTSTART;TZID=America/Toronto:20261205T210000
DTEND;TZID=America/Toronto:20261205T210000
DTSTAMP:20260421T190039
CREATED:20250415T174813Z
LAST-MODIFIED:20250415T174819Z
UID:10015299-1796504400-1796504400@whattoday.ca
SUMMARY:Live Music at McThirsty's
DESCRIPTION:
URL:https://whattoday.ca/event/live-music-at-mcthirstys-5/2026-12-05/
LOCATION:McThirsty’s Pint\, 166 Charlotte St.\, Peterborough\, ON\, K9J 2T8\, Canada
CATEGORIES:Entertainment,Food & Beverage
ORGANIZER;CN="McThirsty's Pint":MAILTO:mcthirstys166@gmail.com
END:VEVENT
BEGIN:VEVENT
DTSTART;TZID=America/Toronto:20261206T200000
DTEND;TZID=America/Toronto:20261206T200000
DTSTAMP:20260421T190039
CREATED:20250415T174619Z
LAST-MODIFIED:20250415T174631Z
UID:10015038-1796587200-1796587200@whattoday.ca
SUMMARY:Open Mic at McThirsty's
DESCRIPTION:
URL:https://whattoday.ca/event/open-mic-at-mcthirstys/2026-12-06/
LOCATION:McThirsty’s Pint\, 166 Charlotte St.\, Peterborough\, ON\, K9J 2T8\, Canada
CATEGORIES:Entertainment,Food & Beverage
ORGANIZER;CN="McThirsty's Pint":MAILTO:mcthirstys166@gmail.com
END:VEVENT
BEGIN:VEVENT
DTSTART;TZID=America/Toronto:20261207T210000
DTEND;TZID=America/Toronto:20261207T210000
DTSTAMP:20260421T190039
CREATED:20241125T204944Z
LAST-MODIFIED:20241125T204952Z
UID:10006141-1796677200-1796677200@whattoday.ca
SUMMARY:Cam Green's Trivia Night at McThirsty's Pint
DESCRIPTION:
URL:https://whattoday.ca/event/cam-greens-trivia-night-at-mcthirstys-pint/2026-12-07/
LOCATION:McThirsty’s Pint\, 166 Charlotte St.\, Peterborough\, ON\, K9J 2T8\, Canada
CATEGORIES:Entertainment,Food & Beverage,More
ORGANIZER;CN="McThirsty's Pint":MAILTO:mcthirstys166@gmail.com
END:VEVENT
BEGIN:VEVENT
DTSTART;TZID=America/Toronto:20261208T200000
DTEND;TZID=America/Toronto:20261208T200000
DTSTAMP:20260421T190039
CREATED:20250415T175304Z
LAST-MODIFIED:20250415T175311Z
UID:10016344-1796760000-1796760000@whattoday.ca
SUMMARY:Live Music at McThirsty's
DESCRIPTION:
URL:https://whattoday.ca/event/live-music-at-mcthirstys/2026-12-08/
LOCATION:McThirsty’s Pint\, 166 Charlotte St.\, Peterborough\, ON\, K9J 2T8\, Canada
CATEGORIES:Entertainment,Food & Beverage
ORGANIZER;CN="McThirsty's Pint":MAILTO:mcthirstys166@gmail.com
END:VEVENT
BEGIN:VEVENT
DTSTART;TZID=America/Toronto:20261209T200000
DTEND;TZID=America/Toronto:20261209T200000
DTSTAMP:20260421T190039
CREATED:20250415T175201Z
LAST-MODIFIED:20250415T175208Z
UID:10016083-1796846400-1796846400@whattoday.ca
SUMMARY:Live Music at McThirsty's
DESCRIPTION:
URL:https://whattoday.ca/event/live-music-at-mcthirstys-2/2026-12-09/
LOCATION:McThirsty’s Pint\, 166 Charlotte St.\, Peterborough\, ON\, K9J 2T8\, Canada
CATEGORIES:Entertainment,Food & Beverage
ORGANIZER;CN="McThirsty's Pint":MAILTO:mcthirstys166@gmail.com
END:VEVENT
BEGIN:VEVENT
DTSTART;TZID=America/Toronto:20261210T200000
DTEND;TZID=America/Toronto:20261210T200000
DTSTAMP:20260421T190039
CREATED:20250415T175049Z
LAST-MODIFIED:20251202T175457Z
UID:10015822-1796932800-1796932800@whattoday.ca
SUMMARY:Live Music at McThirsty's
DESCRIPTION:
URL:https://whattoday.ca/event/live-music-at-mcthirstys-3/2026-12-10/
LOCATION:McThirsty’s Pint\, 166 Charlotte St.\, Peterborough\, ON\, K9J 2T8\, Canada
CATEGORIES:Entertainment,Food & Beverage
ORGANIZER;CN="McThirsty's Pint":MAILTO:mcthirstys166@gmail.com
END:VEVENT
BEGIN:VEVENT
DTSTART;TZID=America/Toronto:20261211T210000
DTEND;TZID=America/Toronto:20261211T210000
DTSTAMP:20260421T190039
CREATED:20250415T174934Z
LAST-MODIFIED:20250415T174941Z
UID:10015561-1797022800-1797022800@whattoday.ca
SUMMARY:Live Music at McThirsty's
DESCRIPTION:
URL:https://whattoday.ca/event/live-music-at-mcthirstys-4/2026-12-11/
LOCATION:McThirsty’s Pint\, 166 Charlotte St.\, Peterborough\, ON\, K9J 2T8\, Canada
CATEGORIES:Entertainment,Food & Beverage
ORGANIZER;CN="McThirsty's Pint":MAILTO:mcthirstys166@gmail.com
END:VEVENT
BEGIN:VEVENT
DTSTART;TZID=America/Toronto:20261212T210000
DTEND;TZID=America/Toronto:20261212T210000
DTSTAMP:20260421T190039
CREATED:20250415T174813Z
LAST-MODIFIED:20250415T174819Z
UID:10015300-1797109200-1797109200@whattoday.ca
SUMMARY:Live Music at McThirsty's
DESCRIPTION:
URL:https://whattoday.ca/event/live-music-at-mcthirstys-5/2026-12-12/
LOCATION:McThirsty’s Pint\, 166 Charlotte St.\, Peterborough\, ON\, K9J 2T8\, Canada
CATEGORIES:Entertainment,Food & Beverage
ORGANIZER;CN="McThirsty's Pint":MAILTO:mcthirstys166@gmail.com
END:VEVENT
BEGIN:VEVENT
DTSTART;TZID=America/Toronto:20261213T200000
DTEND;TZID=America/Toronto:20261213T200000
DTSTAMP:20260421T190039
CREATED:20250415T174619Z
LAST-MODIFIED:20250415T174631Z
UID:10015039-1797192000-1797192000@whattoday.ca
SUMMARY:Open Mic at McThirsty's
DESCRIPTION:
URL:https://whattoday.ca/event/open-mic-at-mcthirstys/2026-12-13/
LOCATION:McThirsty’s Pint\, 166 Charlotte St.\, Peterborough\, ON\, K9J 2T8\, Canada
CATEGORIES:Entertainment,Food & Beverage
ORGANIZER;CN="McThirsty's Pint":MAILTO:mcthirstys166@gmail.com
END:VEVENT
BEGIN:VEVENT
DTSTART;TZID=America/Toronto:20261214T210000
DTEND;TZID=America/Toronto:20261214T210000
DTSTAMP:20260421T190039
CREATED:20241125T204944Z
LAST-MODIFIED:20241125T204952Z
UID:10006142-1797282000-1797282000@whattoday.ca
SUMMARY:Cam Green's Trivia Night at McThirsty's Pint
DESCRIPTION:
URL:https://whattoday.ca/event/cam-greens-trivia-night-at-mcthirstys-pint/2026-12-14/
LOCATION:McThirsty’s Pint\, 166 Charlotte St.\, Peterborough\, ON\, K9J 2T8\, Canada
CATEGORIES:Entertainment,Food & Beverage,More
ORGANIZER;CN="McThirsty's Pint":MAILTO:mcthirstys166@gmail.com
END:VEVENT
BEGIN:VEVENT
DTSTART;TZID=America/Toronto:20261215T200000
DTEND;TZID=America/Toronto:20261215T200000
DTSTAMP:20260421T190039
CREATED:20250415T175304Z
LAST-MODIFIED:20250415T175311Z
UID:10016345-1797364800-1797364800@whattoday.ca
SUMMARY:Live Music at McThirsty's
DESCRIPTION:
URL:https://whattoday.ca/event/live-music-at-mcthirstys/2026-12-15/
LOCATION:McThirsty’s Pint\, 166 Charlotte St.\, Peterborough\, ON\, K9J 2T8\, Canada
CATEGORIES:Entertainment,Food & Beverage
ORGANIZER;CN="McThirsty's Pint":MAILTO:mcthirstys166@gmail.com
END:VEVENT
BEGIN:VEVENT
DTSTART;TZID=America/Toronto:20261216T200000
DTEND;TZID=America/Toronto:20261216T200000
DTSTAMP:20260421T190039
CREATED:20250415T175201Z
LAST-MODIFIED:20250415T175208Z
UID:10016084-1797451200-1797451200@whattoday.ca
SUMMARY:Live Music at McThirsty's
DESCRIPTION:
URL:https://whattoday.ca/event/live-music-at-mcthirstys-2/2026-12-16/
LOCATION:McThirsty’s Pint\, 166 Charlotte St.\, Peterborough\, ON\, K9J 2T8\, Canada
CATEGORIES:Entertainment,Food & Beverage
ORGANIZER;CN="McThirsty's Pint":MAILTO:mcthirstys166@gmail.com
END:VEVENT
BEGIN:VEVENT
DTSTART;TZID=America/Toronto:20261217T200000
DTEND;TZID=America/Toronto:20261217T200000
DTSTAMP:20260421T190039
CREATED:20250415T175049Z
LAST-MODIFIED:20251202T175457Z
UID:10015823-1797537600-1797537600@whattoday.ca
SUMMARY:Live Music at McThirsty's
DESCRIPTION:
URL:https://whattoday.ca/event/live-music-at-mcthirstys-3/2026-12-17/
LOCATION:McThirsty’s Pint\, 166 Charlotte St.\, Peterborough\, ON\, K9J 2T8\, Canada
CATEGORIES:Entertainment,Food & Beverage
ORGANIZER;CN="McThirsty's Pint":MAILTO:mcthirstys166@gmail.com
END:VEVENT
BEGIN:VEVENT
DTSTART;TZID=America/Toronto:20261218T210000
DTEND;TZID=America/Toronto:20261218T210000
DTSTAMP:20260421T190039
CREATED:20250415T174934Z
LAST-MODIFIED:20250415T174941Z
UID:10015562-1797627600-1797627600@whattoday.ca
SUMMARY:Live Music at McThirsty's
DESCRIPTION:
URL:https://whattoday.ca/event/live-music-at-mcthirstys-4/2026-12-18/
LOCATION:McThirsty’s Pint\, 166 Charlotte St.\, Peterborough\, ON\, K9J 2T8\, Canada
CATEGORIES:Entertainment,Food & Beverage
ORGANIZER;CN="McThirsty's Pint":MAILTO:mcthirstys166@gmail.com
END:VEVENT
BEGIN:VEVENT
DTSTART;TZID=America/Toronto:20261219T210000
DTEND;TZID=America/Toronto:20261219T210000
DTSTAMP:20260421T190039
CREATED:20250415T174813Z
LAST-MODIFIED:20250415T174819Z
UID:10015301-1797714000-1797714000@whattoday.ca
SUMMARY:Live Music at McThirsty's
DESCRIPTION:
URL:https://whattoday.ca/event/live-music-at-mcthirstys-5/2026-12-19/
LOCATION:McThirsty’s Pint\, 166 Charlotte St.\, Peterborough\, ON\, K9J 2T8\, Canada
CATEGORIES:Entertainment,Food & Beverage
ORGANIZER;CN="McThirsty's Pint":MAILTO:mcthirstys166@gmail.com
END:VEVENT
BEGIN:VEVENT
DTSTART;TZID=America/Toronto:20261220T200000
DTEND;TZID=America/Toronto:20261220T200000
DTSTAMP:20260421T190039
CREATED:20250415T174619Z
LAST-MODIFIED:20250415T174631Z
UID:10015040-1797796800-1797796800@whattoday.ca
SUMMARY:Open Mic at McThirsty's
DESCRIPTION:
URL:https://whattoday.ca/event/open-mic-at-mcthirstys/2026-12-20/
LOCATION:McThirsty’s Pint\, 166 Charlotte St.\, Peterborough\, ON\, K9J 2T8\, Canada
CATEGORIES:Entertainment,Food & Beverage
ORGANIZER;CN="McThirsty's Pint":MAILTO:mcthirstys166@gmail.com
END:VEVENT
BEGIN:VEVENT
DTSTART;TZID=America/Toronto:20261221T210000
DTEND;TZID=America/Toronto:20261221T210000
DTSTAMP:20260421T190039
CREATED:20241125T204944Z
LAST-MODIFIED:20241125T204952Z
UID:10006143-1797886800-1797886800@whattoday.ca
SUMMARY:Cam Green's Trivia Night at McThirsty's Pint
DESCRIPTION:
URL:https://whattoday.ca/event/cam-greens-trivia-night-at-mcthirstys-pint/2026-12-21/
LOCATION:McThirsty’s Pint\, 166 Charlotte St.\, Peterborough\, ON\, K9J 2T8\, Canada
CATEGORIES:Entertainment,Food & Beverage,More
ORGANIZER;CN="McThirsty's Pint":MAILTO:mcthirstys166@gmail.com
END:VEVENT
BEGIN:VEVENT
DTSTART;TZID=America/Toronto:20261222T200000
DTEND;TZID=America/Toronto:20261222T200000
DTSTAMP:20260421T190039
CREATED:20250415T175304Z
LAST-MODIFIED:20250415T175311Z
UID:10016346-1797969600-1797969600@whattoday.ca
SUMMARY:Live Music at McThirsty's
DESCRIPTION:
URL:https://whattoday.ca/event/live-music-at-mcthirstys/2026-12-22/
LOCATION:McThirsty’s Pint\, 166 Charlotte St.\, Peterborough\, ON\, K9J 2T8\, Canada
CATEGORIES:Entertainment,Food & Beverage
ORGANIZER;CN="McThirsty's Pint":MAILTO:mcthirstys166@gmail.com
END:VEVENT
END:VCALENDAR