BEGIN:VCALENDAR
VERSION:2.0
PRODID:-//WHATtoday.ca - ECPv6.15.20//NONSGML v1.0//EN
CALSCALE:GREGORIAN
METHOD:PUBLISH
X-WR-CALNAME:WHATtoday.ca
X-ORIGINAL-URL:https://whattoday.ca
X-WR-CALDESC:Events for WHATtoday.ca
REFRESH-INTERVAL;VALUE=DURATION:PT1H
X-Robots-Tag:noindex
X-PUBLISHED-TTL:PT1H
BEGIN:VTIMEZONE
TZID:America/Toronto
BEGIN:DAYLIGHT
TZOFFSETFROM:-0500
TZOFFSETTO:-0400
TZNAME:EDT
DTSTART:20240310T070000
END:DAYLIGHT
BEGIN:STANDARD
TZOFFSETFROM:-0400
TZOFFSETTO:-0500
TZNAME:EST
DTSTART:20241103T060000
END:STANDARD
BEGIN:DAYLIGHT
TZOFFSETFROM:-0500
TZOFFSETTO:-0400
TZNAME:EDT
DTSTART:20250309T070000
END:DAYLIGHT
BEGIN:STANDARD
TZOFFSETFROM:-0400
TZOFFSETTO:-0500
TZNAME:EST
DTSTART:20251102T060000
END:STANDARD
BEGIN:DAYLIGHT
TZOFFSETFROM:-0500
TZOFFSETTO:-0400
TZNAME:EDT
DTSTART:20260308T070000
END:DAYLIGHT
BEGIN:STANDARD
TZOFFSETFROM:-0400
TZOFFSETTO:-0500
TZNAME:EST
DTSTART:20261101T060000
END:STANDARD
END:VTIMEZONE
BEGIN:VEVENT
DTSTART;TZID=America/Toronto:20250811T210000
DTEND;TZID=America/Toronto:20250811T210000
DTSTAMP:20260423T104708
CREATED:20241125T204944Z
LAST-MODIFIED:20241125T204952Z
UID:10006072-1754946000-1754946000@whattoday.ca
SUMMARY:Cam Green's Trivia Night at McThirsty's Pint
DESCRIPTION:
URL:https://whattoday.ca/event/cam-greens-trivia-night-at-mcthirstys-pint/2025-08-11/
LOCATION:McThirsty’s Pint\, 166 Charlotte St.\, Peterborough\, ON\, K9J 2T8\, Canada
CATEGORIES:Entertainment,Food & Beverage,More
ORGANIZER;CN="McThirsty's Pint":MAILTO:mcthirstys166@gmail.com
END:VEVENT
BEGIN:VEVENT
DTSTART;TZID=America/Toronto:20250810T200000
DTEND;TZID=America/Toronto:20250810T200000
DTSTAMP:20260423T104708
CREATED:20250415T174619Z
LAST-MODIFIED:20250415T174631Z
UID:10014969-1754856000-1754856000@whattoday.ca
SUMMARY:Open Mic at McThirsty's
DESCRIPTION:
URL:https://whattoday.ca/event/open-mic-at-mcthirstys/2025-08-10/
LOCATION:McThirsty’s Pint\, 166 Charlotte St.\, Peterborough\, ON\, K9J 2T8\, Canada
CATEGORIES:Entertainment,Food & Beverage
ORGANIZER;CN="McThirsty's Pint":MAILTO:mcthirstys166@gmail.com
END:VEVENT
BEGIN:VEVENT
DTSTART;TZID=America/Toronto:20250809T210000
DTEND;TZID=America/Toronto:20250809T210000
DTSTAMP:20260423T104708
CREATED:20250415T174813Z
LAST-MODIFIED:20250415T174819Z
UID:10015230-1754773200-1754773200@whattoday.ca
SUMMARY:Live Music at McThirsty's
DESCRIPTION:
URL:https://whattoday.ca/event/live-music-at-mcthirstys-5/2025-08-09/
LOCATION:McThirsty’s Pint\, 166 Charlotte St.\, Peterborough\, ON\, K9J 2T8\, Canada
CATEGORIES:Entertainment,Food & Beverage
ORGANIZER;CN="McThirsty's Pint":MAILTO:mcthirstys166@gmail.com
END:VEVENT
BEGIN:VEVENT
DTSTART;TZID=America/Toronto:20250808T210000
DTEND;TZID=America/Toronto:20250808T210000
DTSTAMP:20260423T104708
CREATED:20250415T174934Z
LAST-MODIFIED:20250415T174941Z
UID:10015491-1754686800-1754686800@whattoday.ca
SUMMARY:Live Music at McThirsty's
DESCRIPTION:
URL:https://whattoday.ca/event/live-music-at-mcthirstys-4/2025-08-08/
LOCATION:McThirsty’s Pint\, 166 Charlotte St.\, Peterborough\, ON\, K9J 2T8\, Canada
CATEGORIES:Entertainment,Food & Beverage
ORGANIZER;CN="McThirsty's Pint":MAILTO:mcthirstys166@gmail.com
END:VEVENT
BEGIN:VEVENT
DTSTART;TZID=America/Toronto:20250807T200000
DTEND;TZID=America/Toronto:20250807T200000
DTSTAMP:20260423T104708
CREATED:20250415T175049Z
LAST-MODIFIED:20251202T175457Z
UID:10015752-1754596800-1754596800@whattoday.ca
SUMMARY:Live Music at McThirsty's
DESCRIPTION:
URL:https://whattoday.ca/event/live-music-at-mcthirstys-3/2025-08-07/
LOCATION:McThirsty’s Pint\, 166 Charlotte St.\, Peterborough\, ON\, K9J 2T8\, Canada
CATEGORIES:Entertainment,Food & Beverage
ORGANIZER;CN="McThirsty's Pint":MAILTO:mcthirstys166@gmail.com
END:VEVENT
BEGIN:VEVENT
DTSTART;TZID=America/Toronto:20250806T200000
DTEND;TZID=America/Toronto:20250806T200000
DTSTAMP:20260423T104708
CREATED:20250415T175201Z
LAST-MODIFIED:20250415T175208Z
UID:10016013-1754510400-1754510400@whattoday.ca
SUMMARY:Live Music at McThirsty's
DESCRIPTION:
URL:https://whattoday.ca/event/live-music-at-mcthirstys-2/2025-08-06/
LOCATION:McThirsty’s Pint\, 166 Charlotte St.\, Peterborough\, ON\, K9J 2T8\, Canada
CATEGORIES:Entertainment,Food & Beverage
ORGANIZER;CN="McThirsty's Pint":MAILTO:mcthirstys166@gmail.com
END:VEVENT
BEGIN:VEVENT
DTSTART;TZID=America/Toronto:20250805T200000
DTEND;TZID=America/Toronto:20250805T200000
DTSTAMP:20260423T104708
CREATED:20250415T175304Z
LAST-MODIFIED:20250415T175311Z
UID:10016274-1754424000-1754424000@whattoday.ca
SUMMARY:Live Music at McThirsty's
DESCRIPTION:
URL:https://whattoday.ca/event/live-music-at-mcthirstys/2025-08-05/
LOCATION:McThirsty’s Pint\, 166 Charlotte St.\, Peterborough\, ON\, K9J 2T8\, Canada
CATEGORIES:Entertainment,Food & Beverage
ORGANIZER;CN="McThirsty's Pint":MAILTO:mcthirstys166@gmail.com
END:VEVENT
BEGIN:VEVENT
DTSTART;TZID=America/Toronto:20250804T210000
DTEND;TZID=America/Toronto:20250804T210000
DTSTAMP:20260423T104708
CREATED:20241125T204944Z
LAST-MODIFIED:20241125T204952Z
UID:10006071-1754341200-1754341200@whattoday.ca
SUMMARY:Cam Green's Trivia Night at McThirsty's Pint
DESCRIPTION:
URL:https://whattoday.ca/event/cam-greens-trivia-night-at-mcthirstys-pint/2025-08-04/
LOCATION:McThirsty’s Pint\, 166 Charlotte St.\, Peterborough\, ON\, K9J 2T8\, Canada
CATEGORIES:Entertainment,Food & Beverage,More
ORGANIZER;CN="McThirsty's Pint":MAILTO:mcthirstys166@gmail.com
END:VEVENT
BEGIN:VEVENT
DTSTART;TZID=America/Toronto:20250803T200000
DTEND;TZID=America/Toronto:20250803T200000
DTSTAMP:20260423T104708
CREATED:20250415T174619Z
LAST-MODIFIED:20250415T174631Z
UID:10014968-1754251200-1754251200@whattoday.ca
SUMMARY:Open Mic at McThirsty's
DESCRIPTION:
URL:https://whattoday.ca/event/open-mic-at-mcthirstys/2025-08-03/
LOCATION:McThirsty’s Pint\, 166 Charlotte St.\, Peterborough\, ON\, K9J 2T8\, Canada
CATEGORIES:Entertainment,Food & Beverage
ORGANIZER;CN="McThirsty's Pint":MAILTO:mcthirstys166@gmail.com
END:VEVENT
BEGIN:VEVENT
DTSTART;TZID=America/Toronto:20250802T210000
DTEND;TZID=America/Toronto:20250802T210000
DTSTAMP:20260423T104708
CREATED:20250415T174813Z
LAST-MODIFIED:20250415T174819Z
UID:10015229-1754168400-1754168400@whattoday.ca
SUMMARY:Live Music at McThirsty's
DESCRIPTION:
URL:https://whattoday.ca/event/live-music-at-mcthirstys-5/2025-08-02/
LOCATION:McThirsty’s Pint\, 166 Charlotte St.\, Peterborough\, ON\, K9J 2T8\, Canada
CATEGORIES:Entertainment,Food & Beverage
ORGANIZER;CN="McThirsty's Pint":MAILTO:mcthirstys166@gmail.com
END:VEVENT
BEGIN:VEVENT
DTSTART;TZID=America/Toronto:20250801T210000
DTEND;TZID=America/Toronto:20250801T210000
DTSTAMP:20260423T104708
CREATED:20250415T174934Z
LAST-MODIFIED:20250415T174941Z
UID:10015490-1754082000-1754082000@whattoday.ca
SUMMARY:Live Music at McThirsty's
DESCRIPTION:
URL:https://whattoday.ca/event/live-music-at-mcthirstys-4/2025-08-01/
LOCATION:McThirsty’s Pint\, 166 Charlotte St.\, Peterborough\, ON\, K9J 2T8\, Canada
CATEGORIES:Entertainment,Food & Beverage
ORGANIZER;CN="McThirsty's Pint":MAILTO:mcthirstys166@gmail.com
END:VEVENT
BEGIN:VEVENT
DTSTART;TZID=America/Toronto:20250731T200000
DTEND;TZID=America/Toronto:20250731T200000
DTSTAMP:20260423T104708
CREATED:20250415T175049Z
LAST-MODIFIED:20251202T175457Z
UID:10015751-1753992000-1753992000@whattoday.ca
SUMMARY:Live Music at McThirsty's
DESCRIPTION:
URL:https://whattoday.ca/event/live-music-at-mcthirstys-3/2025-07-31/
LOCATION:McThirsty’s Pint\, 166 Charlotte St.\, Peterborough\, ON\, K9J 2T8\, Canada
CATEGORIES:Entertainment,Food & Beverage
ORGANIZER;CN="McThirsty's Pint":MAILTO:mcthirstys166@gmail.com
END:VEVENT
BEGIN:VEVENT
DTSTART;TZID=America/Toronto:20250730T200000
DTEND;TZID=America/Toronto:20250730T200000
DTSTAMP:20260423T104708
CREATED:20250415T175201Z
LAST-MODIFIED:20250415T175208Z
UID:10016012-1753905600-1753905600@whattoday.ca
SUMMARY:Live Music at McThirsty's
DESCRIPTION:
URL:https://whattoday.ca/event/live-music-at-mcthirstys-2/2025-07-30/
LOCATION:McThirsty’s Pint\, 166 Charlotte St.\, Peterborough\, ON\, K9J 2T8\, Canada
CATEGORIES:Entertainment,Food & Beverage
ORGANIZER;CN="McThirsty's Pint":MAILTO:mcthirstys166@gmail.com
END:VEVENT
BEGIN:VEVENT
DTSTART;TZID=America/Toronto:20250729T200000
DTEND;TZID=America/Toronto:20250729T200000
DTSTAMP:20260423T104708
CREATED:20250415T175304Z
LAST-MODIFIED:20250415T175311Z
UID:10016273-1753819200-1753819200@whattoday.ca
SUMMARY:Live Music at McThirsty's
DESCRIPTION:
URL:https://whattoday.ca/event/live-music-at-mcthirstys/2025-07-29/
LOCATION:McThirsty’s Pint\, 166 Charlotte St.\, Peterborough\, ON\, K9J 2T8\, Canada
CATEGORIES:Entertainment,Food & Beverage
ORGANIZER;CN="McThirsty's Pint":MAILTO:mcthirstys166@gmail.com
END:VEVENT
BEGIN:VEVENT
DTSTART;TZID=America/Toronto:20250728T210000
DTEND;TZID=America/Toronto:20250728T210000
DTSTAMP:20260423T104708
CREATED:20241125T204944Z
LAST-MODIFIED:20241125T204952Z
UID:10006070-1753736400-1753736400@whattoday.ca
SUMMARY:Cam Green's Trivia Night at McThirsty's Pint
DESCRIPTION:
URL:https://whattoday.ca/event/cam-greens-trivia-night-at-mcthirstys-pint/2025-07-28/
LOCATION:McThirsty’s Pint\, 166 Charlotte St.\, Peterborough\, ON\, K9J 2T8\, Canada
CATEGORIES:Entertainment,Food & Beverage,More
ORGANIZER;CN="McThirsty's Pint":MAILTO:mcthirstys166@gmail.com
END:VEVENT
BEGIN:VEVENT
DTSTART;TZID=America/Toronto:20250727T200000
DTEND;TZID=America/Toronto:20250727T200000
DTSTAMP:20260423T104708
CREATED:20250415T174619Z
LAST-MODIFIED:20250415T174631Z
UID:10014967-1753646400-1753646400@whattoday.ca
SUMMARY:Open Mic at McThirsty's
DESCRIPTION:
URL:https://whattoday.ca/event/open-mic-at-mcthirstys/2025-07-27/
LOCATION:McThirsty’s Pint\, 166 Charlotte St.\, Peterborough\, ON\, K9J 2T8\, Canada
CATEGORIES:Entertainment,Food & Beverage
ORGANIZER;CN="McThirsty's Pint":MAILTO:mcthirstys166@gmail.com
END:VEVENT
BEGIN:VEVENT
DTSTART;TZID=America/Toronto:20250726T210000
DTEND;TZID=America/Toronto:20250726T210000
DTSTAMP:20260423T104708
CREATED:20250415T174813Z
LAST-MODIFIED:20250415T174819Z
UID:10015228-1753563600-1753563600@whattoday.ca
SUMMARY:Live Music at McThirsty's
DESCRIPTION:
URL:https://whattoday.ca/event/live-music-at-mcthirstys-5/2025-07-26/
LOCATION:McThirsty’s Pint\, 166 Charlotte St.\, Peterborough\, ON\, K9J 2T8\, Canada
CATEGORIES:Entertainment,Food & Beverage
ORGANIZER;CN="McThirsty's Pint":MAILTO:mcthirstys166@gmail.com
END:VEVENT
BEGIN:VEVENT
DTSTART;TZID=America/Toronto:20250725T210000
DTEND;TZID=America/Toronto:20250725T210000
DTSTAMP:20260423T104708
CREATED:20250415T174934Z
LAST-MODIFIED:20250415T174941Z
UID:10015489-1753477200-1753477200@whattoday.ca
SUMMARY:Live Music at McThirsty's
DESCRIPTION:
URL:https://whattoday.ca/event/live-music-at-mcthirstys-4/2025-07-25/
LOCATION:McThirsty’s Pint\, 166 Charlotte St.\, Peterborough\, ON\, K9J 2T8\, Canada
CATEGORIES:Entertainment,Food & Beverage
ORGANIZER;CN="McThirsty's Pint":MAILTO:mcthirstys166@gmail.com
END:VEVENT
BEGIN:VEVENT
DTSTART;TZID=America/Toronto:20250724T200000
DTEND;TZID=America/Toronto:20250724T200000
DTSTAMP:20260423T104708
CREATED:20250415T175049Z
LAST-MODIFIED:20251202T175457Z
UID:10015750-1753387200-1753387200@whattoday.ca
SUMMARY:Live Music at McThirsty's
DESCRIPTION:
URL:https://whattoday.ca/event/live-music-at-mcthirstys-3/2025-07-24/
LOCATION:McThirsty’s Pint\, 166 Charlotte St.\, Peterborough\, ON\, K9J 2T8\, Canada
CATEGORIES:Entertainment,Food & Beverage
ORGANIZER;CN="McThirsty's Pint":MAILTO:mcthirstys166@gmail.com
END:VEVENT
BEGIN:VEVENT
DTSTART;TZID=America/Toronto:20250723T200000
DTEND;TZID=America/Toronto:20250723T200000
DTSTAMP:20260423T104708
CREATED:20250415T175201Z
LAST-MODIFIED:20250415T175208Z
UID:10016011-1753300800-1753300800@whattoday.ca
SUMMARY:Live Music at McThirsty's
DESCRIPTION:
URL:https://whattoday.ca/event/live-music-at-mcthirstys-2/2025-07-23/
LOCATION:McThirsty’s Pint\, 166 Charlotte St.\, Peterborough\, ON\, K9J 2T8\, Canada
CATEGORIES:Entertainment,Food & Beverage
ORGANIZER;CN="McThirsty's Pint":MAILTO:mcthirstys166@gmail.com
END:VEVENT
BEGIN:VEVENT
DTSTART;TZID=America/Toronto:20250722T200000
DTEND;TZID=America/Toronto:20250722T200000
DTSTAMP:20260423T104708
CREATED:20250415T175304Z
LAST-MODIFIED:20250415T175311Z
UID:10016272-1753214400-1753214400@whattoday.ca
SUMMARY:Live Music at McThirsty's
DESCRIPTION:
URL:https://whattoday.ca/event/live-music-at-mcthirstys/2025-07-22/
LOCATION:McThirsty’s Pint\, 166 Charlotte St.\, Peterborough\, ON\, K9J 2T8\, Canada
CATEGORIES:Entertainment,Food & Beverage
ORGANIZER;CN="McThirsty's Pint":MAILTO:mcthirstys166@gmail.com
END:VEVENT
BEGIN:VEVENT
DTSTART;TZID=America/Toronto:20250721T210000
DTEND;TZID=America/Toronto:20250721T210000
DTSTAMP:20260423T104708
CREATED:20241125T204944Z
LAST-MODIFIED:20241125T204952Z
UID:10006069-1753131600-1753131600@whattoday.ca
SUMMARY:Cam Green's Trivia Night at McThirsty's Pint
DESCRIPTION:
URL:https://whattoday.ca/event/cam-greens-trivia-night-at-mcthirstys-pint/2025-07-21/
LOCATION:McThirsty’s Pint\, 166 Charlotte St.\, Peterborough\, ON\, K9J 2T8\, Canada
CATEGORIES:Entertainment,Food & Beverage,More
ORGANIZER;CN="McThirsty's Pint":MAILTO:mcthirstys166@gmail.com
END:VEVENT
BEGIN:VEVENT
DTSTART;TZID=America/Toronto:20250720T200000
DTEND;TZID=America/Toronto:20250720T200000
DTSTAMP:20260423T104708
CREATED:20250415T174619Z
LAST-MODIFIED:20250415T174631Z
UID:10014966-1753041600-1753041600@whattoday.ca
SUMMARY:Open Mic at McThirsty's
DESCRIPTION:
URL:https://whattoday.ca/event/open-mic-at-mcthirstys/2025-07-20/
LOCATION:McThirsty’s Pint\, 166 Charlotte St.\, Peterborough\, ON\, K9J 2T8\, Canada
CATEGORIES:Entertainment,Food & Beverage
ORGANIZER;CN="McThirsty's Pint":MAILTO:mcthirstys166@gmail.com
END:VEVENT
BEGIN:VEVENT
DTSTART;TZID=America/Toronto:20250719T210000
DTEND;TZID=America/Toronto:20250719T210000
DTSTAMP:20260423T104708
CREATED:20250415T174813Z
LAST-MODIFIED:20250415T174819Z
UID:10015227-1752958800-1752958800@whattoday.ca
SUMMARY:Live Music at McThirsty's
DESCRIPTION:
URL:https://whattoday.ca/event/live-music-at-mcthirstys-5/2025-07-19/
LOCATION:McThirsty’s Pint\, 166 Charlotte St.\, Peterborough\, ON\, K9J 2T8\, Canada
CATEGORIES:Entertainment,Food & Beverage
ORGANIZER;CN="McThirsty's Pint":MAILTO:mcthirstys166@gmail.com
END:VEVENT
BEGIN:VEVENT
DTSTART;TZID=America/Toronto:20250718T210000
DTEND;TZID=America/Toronto:20250718T210000
DTSTAMP:20260423T104708
CREATED:20250415T174934Z
LAST-MODIFIED:20250415T174941Z
UID:10015488-1752872400-1752872400@whattoday.ca
SUMMARY:Live Music at McThirsty's
DESCRIPTION:
URL:https://whattoday.ca/event/live-music-at-mcthirstys-4/2025-07-18/
LOCATION:McThirsty’s Pint\, 166 Charlotte St.\, Peterborough\, ON\, K9J 2T8\, Canada
CATEGORIES:Entertainment,Food & Beverage
ORGANIZER;CN="McThirsty's Pint":MAILTO:mcthirstys166@gmail.com
END:VEVENT
BEGIN:VEVENT
DTSTART;TZID=America/Toronto:20250717T200000
DTEND;TZID=America/Toronto:20250717T200000
DTSTAMP:20260423T104708
CREATED:20250415T175049Z
LAST-MODIFIED:20251202T175457Z
UID:10015749-1752782400-1752782400@whattoday.ca
SUMMARY:Live Music at McThirsty's
DESCRIPTION:
URL:https://whattoday.ca/event/live-music-at-mcthirstys-3/2025-07-17/
LOCATION:McThirsty’s Pint\, 166 Charlotte St.\, Peterborough\, ON\, K9J 2T8\, Canada
CATEGORIES:Entertainment,Food & Beverage
ORGANIZER;CN="McThirsty's Pint":MAILTO:mcthirstys166@gmail.com
END:VEVENT
BEGIN:VEVENT
DTSTART;TZID=America/Toronto:20250716T200000
DTEND;TZID=America/Toronto:20250716T200000
DTSTAMP:20260423T104708
CREATED:20250415T175201Z
LAST-MODIFIED:20250415T175208Z
UID:10016010-1752696000-1752696000@whattoday.ca
SUMMARY:Live Music at McThirsty's
DESCRIPTION:
URL:https://whattoday.ca/event/live-music-at-mcthirstys-2/2025-07-16/
LOCATION:McThirsty’s Pint\, 166 Charlotte St.\, Peterborough\, ON\, K9J 2T8\, Canada
CATEGORIES:Entertainment,Food & Beverage
ORGANIZER;CN="McThirsty's Pint":MAILTO:mcthirstys166@gmail.com
END:VEVENT
BEGIN:VEVENT
DTSTART;TZID=America/Toronto:20250715T200000
DTEND;TZID=America/Toronto:20250715T200000
DTSTAMP:20260423T104708
CREATED:20250415T175304Z
LAST-MODIFIED:20250415T175311Z
UID:10016271-1752609600-1752609600@whattoday.ca
SUMMARY:Live Music at McThirsty's
DESCRIPTION:
URL:https://whattoday.ca/event/live-music-at-mcthirstys/2025-07-15/
LOCATION:McThirsty’s Pint\, 166 Charlotte St.\, Peterborough\, ON\, K9J 2T8\, Canada
CATEGORIES:Entertainment,Food & Beverage
ORGANIZER;CN="McThirsty's Pint":MAILTO:mcthirstys166@gmail.com
END:VEVENT
BEGIN:VEVENT
DTSTART;TZID=America/Toronto:20250714T210000
DTEND;TZID=America/Toronto:20250714T210000
DTSTAMP:20260423T104709
CREATED:20241125T204944Z
LAST-MODIFIED:20241125T204952Z
UID:10006068-1752526800-1752526800@whattoday.ca
SUMMARY:Cam Green's Trivia Night at McThirsty's Pint
DESCRIPTION:
URL:https://whattoday.ca/event/cam-greens-trivia-night-at-mcthirstys-pint/2025-07-14/
LOCATION:McThirsty’s Pint\, 166 Charlotte St.\, Peterborough\, ON\, K9J 2T8\, Canada
CATEGORIES:Entertainment,Food & Beverage,More
ORGANIZER;CN="McThirsty's Pint":MAILTO:mcthirstys166@gmail.com
END:VEVENT
BEGIN:VEVENT
DTSTART;TZID=America/Toronto:20250713T200000
DTEND;TZID=America/Toronto:20250713T200000
DTSTAMP:20260423T104709
CREATED:20250415T174619Z
LAST-MODIFIED:20250415T174631Z
UID:10014965-1752436800-1752436800@whattoday.ca
SUMMARY:Open Mic at McThirsty's
DESCRIPTION:
URL:https://whattoday.ca/event/open-mic-at-mcthirstys/2025-07-13/
LOCATION:McThirsty’s Pint\, 166 Charlotte St.\, Peterborough\, ON\, K9J 2T8\, Canada
CATEGORIES:Entertainment,Food & Beverage
ORGANIZER;CN="McThirsty's Pint":MAILTO:mcthirstys166@gmail.com
END:VEVENT
END:VCALENDAR