BEGIN:VCALENDAR
VERSION:2.0
PRODID:-//WHATtoday.ca - ECPv6.15.20//NONSGML v1.0//EN
CALSCALE:GREGORIAN
METHOD:PUBLISH
X-ORIGINAL-URL:https://whattoday.ca
X-WR-CALDESC:Events for WHATtoday.ca
REFRESH-INTERVAL;VALUE=DURATION:PT1H
X-Robots-Tag:noindex
X-PUBLISHED-TTL:PT1H
BEGIN:VTIMEZONE
TZID:America/Toronto
BEGIN:DAYLIGHT
TZOFFSETFROM:-0500
TZOFFSETTO:-0400
TZNAME:EDT
DTSTART:20250309T070000
END:DAYLIGHT
BEGIN:STANDARD
TZOFFSETFROM:-0400
TZOFFSETTO:-0500
TZNAME:EST
DTSTART:20251102T060000
END:STANDARD
BEGIN:DAYLIGHT
TZOFFSETFROM:-0500
TZOFFSETTO:-0400
TZNAME:EDT
DTSTART:20260308T070000
END:DAYLIGHT
BEGIN:STANDARD
TZOFFSETFROM:-0400
TZOFFSETTO:-0500
TZNAME:EST
DTSTART:20261101T060000
END:STANDARD
BEGIN:DAYLIGHT
TZOFFSETFROM:-0500
TZOFFSETTO:-0400
TZNAME:EDT
DTSTART:20270314T070000
END:DAYLIGHT
BEGIN:STANDARD
TZOFFSETFROM:-0400
TZOFFSETTO:-0500
TZNAME:EST
DTSTART:20271107T060000
END:STANDARD
END:VTIMEZONE
BEGIN:VEVENT
DTSTART;TZID=America/Toronto:20260211T163000
DTEND;TZID=America/Toronto:20260211T173000
DTSTAMP:20260424T085203
CREATED:20251209T193527Z
LAST-MODIFIED:20251209T193527Z
UID:10028521-1770827400-1770831000@whattoday.ca
SUMMARY:Teen Library Ambassadors
DESCRIPTION:
URL:https://whattoday.ca/event/teen-library-ambassadors-2/2026-02-11/
LOCATION:Peterborough Public Library\, 345 Aylmer St N\, Peterborough\, Ontario\, K9H 3V7\, Canada
CATEGORIES:More
ORGANIZER;CN="Peterborough Public Library":MAILTO:Libraryprograms@peterborough.ca
END:VEVENT
BEGIN:VEVENT
DTSTART;TZID=America/Toronto:20260211T163000
DTEND;TZID=America/Toronto:20260211T173000
DTSTAMP:20260424T085203
CREATED:20251107T165136Z
LAST-MODIFIED:20251107T165136Z
UID:10027919-1770827400-1770831000@whattoday.ca
SUMMARY:Teen Library Ambassadors
DESCRIPTION:
URL:https://whattoday.ca/event/teen-library-ambassadors/2026-02-11/
LOCATION:Peterborough Public Library\, 345 Aylmer St N\, Peterborough\, Ontario\, K9H 3V7\, Canada
CATEGORIES:More
ORGANIZER;CN="Peterborough Public Library":MAILTO:Libraryprograms@peterborough.ca
END:VEVENT
BEGIN:VEVENT
DTSTART;TZID=America/Toronto:20260211T130000
DTEND;TZID=America/Toronto:20260211T150000
DTSTAMP:20260424T085203
CREATED:20250821T155322Z
LAST-MODIFIED:20251107T174226Z
UID:10027913-1770814800-1770822000@whattoday.ca
SUMMARY:Knit & Crochet Club
DESCRIPTION:
URL:https://whattoday.ca/event/knit-crochet-club-4/2026-02-11/
LOCATION:Peterborough Public Library\, 345 Aylmer St N\, Peterborough\, Ontario\, K9H 3V7\, Canada
CATEGORIES:More
ORGANIZER;CN="Peterborough Public Library":MAILTO:Libraryprograms@peterborough.ca
END:VEVENT
BEGIN:VEVENT
DTSTART;TZID=America/Toronto:20260211T101500
DTEND;TZID=America/Toronto:20260211T111500
DTSTAMP:20260424T085203
CREATED:20251209T180621Z
LAST-MODIFIED:20251209T180644Z
UID:10028468-1770804900-1770808500@whattoday.ca
SUMMARY:Parent-Child Mother Goose
DESCRIPTION:
URL:https://whattoday.ca/event/parent-child-mother-goose-4/2026-02-11/
LOCATION:Peterborough Public Library\, 345 Aylmer St N\, Peterborough\, Ontario\, K9H 3V7\, Canada
CATEGORIES:More
ORGANIZER;CN="Peterborough Public Library":MAILTO:Libraryprograms@peterborough.ca
END:VEVENT
BEGIN:VEVENT
DTSTART;TZID=America/Toronto:20260211T101500
DTEND;TZID=America/Toronto:20260211T104500
DTSTAMP:20260424T085203
CREATED:20251107T164748Z
LAST-MODIFIED:20251107T164748Z
UID:10027900-1770804900-1770806700@whattoday.ca
SUMMARY:Preschool Story Time at MLCC
DESCRIPTION:
URL:https://whattoday.ca/event/preschool-story-time-at-mlcc/2026-02-11/
LOCATION:Peterborough Public Library — MLCC Branch\, 271 Lansdowne St. W.\, Peterborough\, ON\, K9J 1Y8\, Canada
CATEGORIES:Family,Kids
ORGANIZER;CN="Peterborough Public Library":MAILTO:Libraryprograms@peterborough.ca
END:VEVENT
BEGIN:VEVENT
DTSTART;TZID=America/Toronto:20260210T180000
DTEND;TZID=America/Toronto:20260210T190000
DTSTAMP:20260424T085203
CREATED:20251209T194007Z
LAST-MODIFIED:20251209T194007Z
UID:10028525-1770746400-1770750000@whattoday.ca
SUMMARY:Trail Tales
DESCRIPTION:January 20: Rogers Cove – meet at the parking lot beside the playground off Maria Street \nFebruary 10: BEL Rotary Bridgenorth Trail – meet where Hilliard Street meets the Fifth Line
URL:https://whattoday.ca/event/trail-tales-8/2026-02-10/
CATEGORIES:More
ORGANIZER;CN="Peterborough Public Library":MAILTO:Libraryprograms@peterborough.ca
END:VEVENT
BEGIN:VEVENT
DTSTART;TZID=America/Toronto:20260210T173000
DTEND;TZID=America/Toronto:20260210T193000
DTSTAMP:20260424T085203
CREATED:20250821T155038Z
LAST-MODIFIED:20251107T171252Z
UID:10027974-1770744600-1770751800@whattoday.ca
SUMMARY:LEGO Club at MLCC Library
DESCRIPTION:
URL:https://whattoday.ca/event/lego-club-at-mlcc-library/2026-02-10/
LOCATION:Peterborough Public Library — MLCC Branch\, 271 Lansdowne St. W.\, Peterborough\, ON\, K9J 1Y8\, Canada
CATEGORIES:Kids
ORGANIZER;CN="Peterborough Public Library":MAILTO:Libraryprograms@peterborough.ca
END:VEVENT
BEGIN:VEVENT
DTSTART;TZID=America/Toronto:20260210T163000
DTEND;TZID=America/Toronto:20260210T173000
DTSTAMP:20260424T085203
CREATED:20250821T154056Z
LAST-MODIFIED:20251107T171328Z
UID:10027987-1770741000-1770744600@whattoday.ca
SUMMARY:LEGO Club
DESCRIPTION:
URL:https://whattoday.ca/event/lego-club-2/2026-02-10/
LOCATION:Peterborough Public Library\, 345 Aylmer St N\, Peterborough\, Ontario\, K9H 3V7\, Canada
CATEGORIES:Family,Kids
ORGANIZER;CN="Peterborough Public Library":MAILTO:Libraryprograms@peterborough.ca
END:VEVENT
BEGIN:VEVENT
DTSTART;TZID=America/Toronto:20260210T101500
DTEND;TZID=America/Toronto:20260210T111500
DTSTAMP:20260424T085203
CREATED:20251209T175700Z
LAST-MODIFIED:20251209T175700Z
UID:10028449-1770718500-1770722100@whattoday.ca
SUMMARY:Toddler Time
DESCRIPTION:
URL:https://whattoday.ca/event/toddler-time-3/2026-02-10/
LOCATION:Peterborough Public Library\, 345 Aylmer St N\, Peterborough\, Ontario\, K9H 3V7\, Canada
CATEGORIES:More
ORGANIZER;CN="Peterborough Public Library":MAILTO:Libraryprograms@peterborough.ca
END:VEVENT
BEGIN:VEVENT
DTSTART;TZID=America/Toronto:20260209T170000
DTEND;TZID=America/Toronto:20260209T200000
DTSTAMP:20260424T085203
CREATED:20251107T171207Z
LAST-MODIFIED:20260310T182219Z
UID:10027954-1770656400-1770667200@whattoday.ca
SUMMARY:Mellow Mondays
DESCRIPTION:
URL:https://whattoday.ca/event/mellow-mondays/2026-02-09/
LOCATION:Peterborough Public Library\, 345 Aylmer St N\, Peterborough\, Ontario\, K9H 3V7\, Canada
CATEGORIES:More
ORGANIZER;CN="Peterborough Public Library":MAILTO:Libraryprograms@peterborough.ca
END:VEVENT
BEGIN:VEVENT
DTSTART;TZID=America/Toronto:20260209T133000
DTEND;TZID=America/Toronto:20260209T150000
DTSTAMP:20260424T085203
CREATED:20251209T175425Z
LAST-MODIFIED:20251209T175425Z
UID:10028439-1770643800-1770649200@whattoday.ca
SUMMARY:Community Writing Workshop
DESCRIPTION:
URL:https://whattoday.ca/event/community-writing-workshop/2026-02-09/
LOCATION:Peterborough Public Library\, 345 Aylmer St N\, Peterborough\, Ontario\, K9H 3V7\, Canada
CATEGORIES:More
ORGANIZER;CN="Peterborough Public Library":MAILTO:Libraryprograms@peterborough.ca
END:VEVENT
BEGIN:VEVENT
DTSTART;TZID=America/Toronto:20260208T130000
DTEND;TZID=America/Toronto:20260208T150000
DTSTAMP:20260424T085203
CREATED:20251107T173214Z
LAST-MODIFIED:20251107T173214Z
UID:10028000-1770555600-1770562800@whattoday.ca
SUMMARY:Creative Collage
DESCRIPTION:
URL:https://whattoday.ca/event/creative-collage-3/2026-02-08/
LOCATION:Peterborough Public Library\, 345 Aylmer St N\, Peterborough\, Ontario\, K9H 3V7\, Canada
CATEGORIES:Family,Kids
ORGANIZER;CN="Peterborough Public Library":MAILTO:Libraryprograms@peterborough.ca
END:VEVENT
BEGIN:VEVENT
DTSTART;TZID=America/Toronto:20260207T103000
DTEND;TZID=America/Toronto:20260207T110000
DTSTAMP:20260424T085203
CREATED:20251107T170402Z
LAST-MODIFIED:20251107T170402Z
UID:10027937-1770460200-1770462000@whattoday.ca
SUMMARY:Indigenous Bilingual Story Time
DESCRIPTION:
URL:https://whattoday.ca/event/indigenous-bilingual-story-time-4/2026-02-07/
LOCATION:Peterborough Public Library\, 345 Aylmer St N\, Peterborough\, Ontario\, K9H 3V7\, Canada
CATEGORIES:More
ORGANIZER;CN="Peterborough Public Library":MAILTO:Libraryprograms@peterborough.ca
END:VEVENT
BEGIN:VEVENT
DTSTART;TZID=America/Toronto:20260206T101500
DTEND;TZID=America/Toronto:20260206T104500
DTSTAMP:20260424T085203
CREATED:20251107T170105Z
LAST-MODIFIED:20251107T175052Z
UID:10027930-1770372900-1770374700@whattoday.ca
SUMMARY:Preschool Story Time
DESCRIPTION:
URL:https://whattoday.ca/event/preschool-story-time-4/2026-02-06/
LOCATION:Peterborough Public Library\, 345 Aylmer St N\, Peterborough\, Ontario\, K9H 3V7\, Canada
CATEGORIES:Kids
ORGANIZER;CN="Peterborough Public Library":MAILTO:Libraryprograms@peterborough.ca
END:VEVENT
BEGIN:VEVENT
DTSTART;TZID=America/Toronto:20260205T180000
DTEND;TZID=America/Toronto:20260205T194500
DTSTAMP:20260424T085203
CREATED:20251209T181709Z
LAST-MODIFIED:20251209T181709Z
UID:10028497-1770314400-1770320700@whattoday.ca
SUMMARY:Dungeons & Dragons
DESCRIPTION:
URL:https://whattoday.ca/event/dungeons-dragons/2026-02-05/
LOCATION:Peterborough Public Library\, 345 Aylmer St N\, Peterborough\, Ontario\, K9H 3V7\, Canada
CATEGORIES:More
ORGANIZER;CN="Peterborough Public Library":MAILTO:Libraryprograms@peterborough.ca
END:VEVENT
BEGIN:VEVENT
DTSTART;TZID=America/Toronto:20260205T160000
DTEND;TZID=America/Toronto:20260205T173000
DTSTAMP:20260424T085203
CREATED:20251209T181603Z
LAST-MODIFIED:20251209T181603Z
UID:10028491-1770307200-1770312600@whattoday.ca
SUMMARY:Babysitting Course
DESCRIPTION:
URL:https://whattoday.ca/event/babysitting-course-2/2026-02-05/
LOCATION:Peterborough Public Library — MLCC Branch\, 271 Lansdowne St. W.\, Peterborough\, ON\, K9J 1Y8\, Canada
CATEGORIES:Workshops
ORGANIZER;CN="Peterborough Public Library":MAILTO:Libraryprograms@peterborough.ca
END:VEVENT
BEGIN:VEVENT
DTSTART;TZID=America/Toronto:20260204T183000
DTEND;TZID=America/Toronto:20260204T194500
DTSTAMP:20260424T085203
CREATED:20251209T181209Z
LAST-MODIFIED:20251209T181209Z
UID:10028476-1770229800-1770234300@whattoday.ca
SUMMARY:Writing Circle
DESCRIPTION:
URL:https://whattoday.ca/event/writing-circle-4/2026-02-04/
LOCATION:Peterborough Public Library\, 345 Aylmer St N\, Peterborough\, Ontario\, K9H 3V7\, Canada
CATEGORIES:More
ORGANIZER;CN="Peterborough Public Library":MAILTO:Libraryprograms@peterborough.ca
END:VEVENT
BEGIN:VEVENT
DTSTART;TZID=America/Toronto:20260204T130000
DTEND;TZID=America/Toronto:20260204T150000
DTSTAMP:20260424T085203
CREATED:20250821T155322Z
LAST-MODIFIED:20251107T174226Z
UID:10027912-1770210000-1770217200@whattoday.ca
SUMMARY:Knit & Crochet Club
DESCRIPTION:
URL:https://whattoday.ca/event/knit-crochet-club-4/2026-02-04/
LOCATION:Peterborough Public Library\, 345 Aylmer St N\, Peterborough\, Ontario\, K9H 3V7\, Canada
CATEGORIES:More
ORGANIZER;CN="Peterborough Public Library":MAILTO:Libraryprograms@peterborough.ca
END:VEVENT
BEGIN:VEVENT
DTSTART;TZID=America/Toronto:20260204T101500
DTEND;TZID=America/Toronto:20260204T111500
DTSTAMP:20260424T085203
CREATED:20251209T180621Z
LAST-MODIFIED:20251209T180644Z
UID:10028467-1770200100-1770203700@whattoday.ca
SUMMARY:Parent-Child Mother Goose
DESCRIPTION:
URL:https://whattoday.ca/event/parent-child-mother-goose-4/2026-02-04/
LOCATION:Peterborough Public Library\, 345 Aylmer St N\, Peterborough\, Ontario\, K9H 3V7\, Canada
CATEGORIES:More
ORGANIZER;CN="Peterborough Public Library":MAILTO:Libraryprograms@peterborough.ca
END:VEVENT
BEGIN:VEVENT
DTSTART;TZID=America/Toronto:20260204T101500
DTEND;TZID=America/Toronto:20260204T104500
DTSTAMP:20260424T085203
CREATED:20251107T164748Z
LAST-MODIFIED:20251107T164748Z
UID:10027899-1770200100-1770201900@whattoday.ca
SUMMARY:Preschool Story Time at MLCC
DESCRIPTION:
URL:https://whattoday.ca/event/preschool-story-time-at-mlcc/2026-02-04/
LOCATION:Peterborough Public Library — MLCC Branch\, 271 Lansdowne St. W.\, Peterborough\, ON\, K9J 1Y8\, Canada
CATEGORIES:Family,Kids
ORGANIZER;CN="Peterborough Public Library":MAILTO:Libraryprograms@peterborough.ca
END:VEVENT
BEGIN:VEVENT
DTSTART;TZID=America/Toronto:20260203T180000
DTEND;TZID=America/Toronto:20260203T184500
DTSTAMP:20260424T085203
CREATED:20251209T175950Z
LAST-MODIFIED:20251209T175950Z
UID:10028461-1770141600-1770144300@whattoday.ca
SUMMARY:Dance Party
DESCRIPTION:
URL:https://whattoday.ca/event/dance-party-2/2026-02-03/
LOCATION:Peterborough Public Library\, 345 Aylmer St N\, Peterborough\, Ontario\, K9H 3V7\, Canada
CATEGORIES:Kids
ORGANIZER;CN="Peterborough Public Library":MAILTO:Libraryprograms@peterborough.ca
END:VEVENT
BEGIN:VEVENT
DTSTART;TZID=America/Toronto:20260203T173000
DTEND;TZID=America/Toronto:20260203T193000
DTSTAMP:20260424T085203
CREATED:20250821T155038Z
LAST-MODIFIED:20251107T171252Z
UID:10027973-1770139800-1770147000@whattoday.ca
SUMMARY:LEGO Club at MLCC Library
DESCRIPTION:
URL:https://whattoday.ca/event/lego-club-at-mlcc-library/2026-02-03/
LOCATION:Peterborough Public Library — MLCC Branch\, 271 Lansdowne St. W.\, Peterborough\, ON\, K9J 1Y8\, Canada
CATEGORIES:Kids
ORGANIZER;CN="Peterborough Public Library":MAILTO:Libraryprograms@peterborough.ca
END:VEVENT
BEGIN:VEVENT
DTSTART;TZID=America/Toronto:20260203T163000
DTEND;TZID=America/Toronto:20260203T173000
DTSTAMP:20260424T085203
CREATED:20250821T154056Z
LAST-MODIFIED:20251107T171328Z
UID:10027986-1770136200-1770139800@whattoday.ca
SUMMARY:LEGO Club
DESCRIPTION:
URL:https://whattoday.ca/event/lego-club-2/2026-02-03/
LOCATION:Peterborough Public Library\, 345 Aylmer St N\, Peterborough\, Ontario\, K9H 3V7\, Canada
CATEGORIES:Family,Kids
ORGANIZER;CN="Peterborough Public Library":MAILTO:Libraryprograms@peterborough.ca
END:VEVENT
BEGIN:VEVENT
DTSTART;TZID=America/Toronto:20260203T101500
DTEND;TZID=America/Toronto:20260203T111500
DTSTAMP:20260424T085203
CREATED:20251209T175700Z
LAST-MODIFIED:20251209T175700Z
UID:10028448-1770113700-1770117300@whattoday.ca
SUMMARY:Toddler Time
DESCRIPTION:
URL:https://whattoday.ca/event/toddler-time-3/2026-02-03/
LOCATION:Peterborough Public Library\, 345 Aylmer St N\, Peterborough\, Ontario\, K9H 3V7\, Canada
CATEGORIES:More
ORGANIZER;CN="Peterborough Public Library":MAILTO:Libraryprograms@peterborough.ca
END:VEVENT
BEGIN:VEVENT
DTSTART;TZID=America/Toronto:20260202T170000
DTEND;TZID=America/Toronto:20260202T200000
DTSTAMP:20260424T085203
CREATED:20251107T171207Z
LAST-MODIFIED:20260310T182219Z
UID:10027953-1770051600-1770062400@whattoday.ca
SUMMARY:Mellow Mondays
DESCRIPTION:
URL:https://whattoday.ca/event/mellow-mondays/2026-02-02/
LOCATION:Peterborough Public Library\, 345 Aylmer St N\, Peterborough\, Ontario\, K9H 3V7\, Canada
CATEGORIES:More
ORGANIZER;CN="Peterborough Public Library":MAILTO:Libraryprograms@peterborough.ca
END:VEVENT
BEGIN:VEVENT
DTSTART;TZID=America/Toronto:20260202T160000
DTEND;TZID=America/Toronto:20260202T180000
DTSTAMP:20260424T085203
CREATED:20251209T175533Z
LAST-MODIFIED:20251209T175533Z
UID:10028443-1770048000-1770055200@whattoday.ca
SUMMARY:Rainbow Youth with PARN
DESCRIPTION:
URL:https://whattoday.ca/event/rainbow-youth-with-parn/2026-02-02/
LOCATION:Peterborough Public Library\, 345 Aylmer St N\, Peterborough\, Ontario\, K9H 3V7\, Canada
CATEGORIES:More
ORGANIZER;CN="Peterborough Public Library":MAILTO:Libraryprograms@peterborough.ca
END:VEVENT
BEGIN:VEVENT
DTSTART;TZID=America/Toronto:20260202T133000
DTEND;TZID=America/Toronto:20260202T150000
DTSTAMP:20260424T085203
CREATED:20251209T175425Z
LAST-MODIFIED:20251209T175425Z
UID:10028438-1770039000-1770044400@whattoday.ca
SUMMARY:Community Writing Workshop
DESCRIPTION:
URL:https://whattoday.ca/event/community-writing-workshop/2026-02-02/
LOCATION:Peterborough Public Library\, 345 Aylmer St N\, Peterborough\, Ontario\, K9H 3V7\, Canada
CATEGORIES:More
ORGANIZER;CN="Peterborough Public Library":MAILTO:Libraryprograms@peterborough.ca
END:VEVENT
BEGIN:VEVENT
DTSTART;TZID=America/Toronto:20260202T130000
DTEND;TZID=America/Toronto:20260202T150000
DTSTAMP:20260424T085203
CREATED:20251107T170953Z
LAST-MODIFIED:20251107T170953Z
UID:10027944-1770037200-1770044400@whattoday.ca
SUMMARY:Homeschool Hangout
DESCRIPTION:December:  Ecology Park \nJanuary: Story Corner Main Library \nFebruary:  MLCC Branch Library
URL:https://whattoday.ca/event/homeschool-hangout-2/2026-02-02/
CATEGORIES:Family,Kids
ORGANIZER;CN="Peterborough Public Library":MAILTO:Libraryprograms@peterborough.ca
END:VEVENT
BEGIN:VEVENT
DTSTART;TZID=America/Toronto:20260201T130000
DTEND;TZID=America/Toronto:20260201T150000
DTSTAMP:20260424T085203
CREATED:20251107T170720Z
LAST-MODIFIED:20251107T170720Z
UID:10027941-1769950800-1769958000@whattoday.ca
SUMMARY:Nintendo Switch It Up (Ages 6 - 12)
DESCRIPTION:December – Mario Kart \nJanuary  – Super Smash \nFebruary – Just Dance
URL:https://whattoday.ca/event/nintendo-switch-it-up-ages-6-12-2/2026-02-01/
LOCATION:Peterborough Public Library\, 345 Aylmer St N\, Peterborough\, Ontario\, K9H 3V7\, Canada
ORGANIZER;CN="Peterborough Public Library":MAILTO:Libraryprograms@peterborough.ca
END:VEVENT
BEGIN:VEVENT
DTSTART;TZID=America/Toronto:20260131T130000
DTEND;TZID=America/Toronto:20260131T150000
DTSTAMP:20260424T085203
CREATED:20251209T195308Z
LAST-MODIFIED:20251209T195308Z
UID:10028536-1769864400-1769871600@whattoday.ca
SUMMARY:Craft Swap
DESCRIPTION:How it works: \n\nDrop-off begins at 1:00 pm. Bring clean\, gently used items in good working condition. Please package supplies in closed\, sealed\, or clearly labelled containers. No mostly used paints\, loose beads\, or random paper please!\nTicket entry: Participants who bring items will receive tickets. Ticketholders may enter the swap first at 1:30 pm.\nGeneral entry: Everyone else is welcome to join from 2:00–3:00 pm.
URL:https://whattoday.ca/event/craft-swap/
LOCATION:Peterborough Public Library\, 345 Aylmer St N\, Peterborough\, Ontario\, K9H 3V7\, Canada
CATEGORIES:More
ORGANIZER;CN="Peterborough Public Library":MAILTO:Libraryprograms@peterborough.ca
END:VEVENT
END:VCALENDAR