BEGIN:VCALENDAR
VERSION:2.0
PRODID:-//WHATtoday.ca - ECPv6.15.20//NONSGML v1.0//EN
CALSCALE:GREGORIAN
METHOD:PUBLISH
X-WR-CALNAME:WHATtoday.ca
X-ORIGINAL-URL:https://whattoday.ca
X-WR-CALDESC:Events for WHATtoday.ca
REFRESH-INTERVAL;VALUE=DURATION:PT1H
X-Robots-Tag:noindex
X-PUBLISHED-TTL:PT1H
BEGIN:VTIMEZONE
TZID:America/Toronto
BEGIN:DAYLIGHT
TZOFFSETFROM:-0500
TZOFFSETTO:-0400
TZNAME:EDT
DTSTART:20240310T070000
END:DAYLIGHT
BEGIN:STANDARD
TZOFFSETFROM:-0400
TZOFFSETTO:-0500
TZNAME:EST
DTSTART:20241103T060000
END:STANDARD
BEGIN:DAYLIGHT
TZOFFSETFROM:-0500
TZOFFSETTO:-0400
TZNAME:EDT
DTSTART:20250309T070000
END:DAYLIGHT
BEGIN:STANDARD
TZOFFSETFROM:-0400
TZOFFSETTO:-0500
TZNAME:EST
DTSTART:20251102T060000
END:STANDARD
BEGIN:DAYLIGHT
TZOFFSETFROM:-0500
TZOFFSETTO:-0400
TZNAME:EDT
DTSTART:20260308T070000
END:DAYLIGHT
BEGIN:STANDARD
TZOFFSETFROM:-0400
TZOFFSETTO:-0500
TZNAME:EST
DTSTART:20261101T060000
END:STANDARD
BEGIN:DAYLIGHT
TZOFFSETFROM:-0500
TZOFFSETTO:-0400
TZNAME:EDT
DTSTART:20270314T070000
END:DAYLIGHT
BEGIN:STANDARD
TZOFFSETFROM:-0400
TZOFFSETTO:-0500
TZNAME:EST
DTSTART:20271107T060000
END:STANDARD
END:VTIMEZONE
BEGIN:VEVENT
DTSTART;TZID=America/Toronto:20260112T130000
DTEND;TZID=America/Toronto:20260112T150000
DTSTAMP:20260424T194651
CREATED:20251107T170953Z
LAST-MODIFIED:20251107T170953Z
UID:10027943-1768222800-1768230000@whattoday.ca
SUMMARY:Homeschool Hangout
DESCRIPTION:December:  Ecology Park \nJanuary: Story Corner Main Library \nFebruary:  MLCC Branch Library
URL:https://whattoday.ca/event/homeschool-hangout-2/2026-01-12/
CATEGORIES:Family,Kids
ORGANIZER;CN="Peterborough Public Library":MAILTO:Libraryprograms@peterborough.ca
END:VEVENT
BEGIN:VEVENT
DTSTART;TZID=America/Toronto:20260111T130000
DTEND;TZID=America/Toronto:20260111T150000
DTSTAMP:20260424T194651
CREATED:20251107T173214Z
LAST-MODIFIED:20251107T173214Z
UID:10027999-1768136400-1768143600@whattoday.ca
SUMMARY:Creative Collage
DESCRIPTION:
URL:https://whattoday.ca/event/creative-collage-3/2026-01-11/
LOCATION:Peterborough Public Library\, 345 Aylmer St N\, Peterborough\, Ontario\, K9H 3V7\, Canada
CATEGORIES:Family,Kids
ORGANIZER;CN="Peterborough Public Library":MAILTO:Libraryprograms@peterborough.ca
END:VEVENT
BEGIN:VEVENT
DTSTART;TZID=America/Toronto:20260110T103000
DTEND;TZID=America/Toronto:20260110T113000
DTSTAMP:20260424T194651
CREATED:20251209T192605Z
LAST-MODIFIED:20251209T192605Z
UID:10028504-1768041000-1768044600@whattoday.ca
SUMMARY:Vermicomposting
DESCRIPTION:
URL:https://whattoday.ca/event/vermicomposting/
LOCATION:Peterborough Public Library\, 345 Aylmer St N\, Peterborough\, Ontario\, K9H 3V7\, Canada
CATEGORIES:Family
ORGANIZER;CN="Peterborough Public Library":MAILTO:Libraryprograms@peterborough.ca
END:VEVENT
BEGIN:VEVENT
DTSTART;TZID=America/Toronto:20260109T101500
DTEND;TZID=America/Toronto:20260109T104500
DTSTAMP:20260424T194651
CREATED:20251107T170105Z
LAST-MODIFIED:20251107T175052Z
UID:10027926-1767953700-1767955500@whattoday.ca
SUMMARY:Preschool Story Time
DESCRIPTION:
URL:https://whattoday.ca/event/preschool-story-time-4/2026-01-09/
LOCATION:Peterborough Public Library\, 345 Aylmer St N\, Peterborough\, Ontario\, K9H 3V7\, Canada
CATEGORIES:Kids
ORGANIZER;CN="Peterborough Public Library":MAILTO:Libraryprograms@peterborough.ca
END:VEVENT
BEGIN:VEVENT
DTSTART;TZID=America/Toronto:20260108T183000
DTEND;TZID=America/Toronto:20260108T190000
DTSTAMP:20260424T194651
CREATED:20251209T181755Z
LAST-MODIFIED:20251209T181755Z
UID:10028503-1767897000-1767898800@whattoday.ca
SUMMARY:Going to the Dentist
DESCRIPTION:
URL:https://whattoday.ca/event/going-to-the-dentist/
LOCATION:Peterborough Public Library\, 345 Aylmer St N\, Peterborough\, Ontario\, K9H 3V7\, Canada
CATEGORIES:Family,Kids,More
ORGANIZER;CN="Peterborough Public Library":MAILTO:Libraryprograms@peterborough.ca
END:VEVENT
BEGIN:VEVENT
DTSTART;TZID=America/Toronto:20260108T180000
DTEND;TZID=America/Toronto:20260108T194500
DTSTAMP:20260424T194651
CREATED:20251209T181709Z
LAST-MODIFIED:20251209T181709Z
UID:10028493-1767895200-1767901500@whattoday.ca
SUMMARY:Dungeons & Dragons
DESCRIPTION:
URL:https://whattoday.ca/event/dungeons-dragons/2026-01-08/
LOCATION:Peterborough Public Library\, 345 Aylmer St N\, Peterborough\, Ontario\, K9H 3V7\, Canada
CATEGORIES:More
ORGANIZER;CN="Peterborough Public Library":MAILTO:Libraryprograms@peterborough.ca
END:VEVENT
BEGIN:VEVENT
DTSTART;TZID=America/Toronto:20260108T160000
DTEND;TZID=America/Toronto:20260108T173000
DTSTAMP:20260424T194651
CREATED:20251209T181603Z
LAST-MODIFIED:20251209T181603Z
UID:10028487-1767888000-1767893400@whattoday.ca
SUMMARY:Babysitting Course
DESCRIPTION:
URL:https://whattoday.ca/event/babysitting-course-2/2026-01-08/
LOCATION:Peterborough Public Library — MLCC Branch\, 271 Lansdowne St. W.\, Peterborough\, ON\, K9J 1Y8\, Canada
CATEGORIES:Workshops
ORGANIZER;CN="Peterborough Public Library":MAILTO:Libraryprograms@peterborough.ca
END:VEVENT
BEGIN:VEVENT
DTSTART;TZID=America/Toronto:20260107T183000
DTEND;TZID=America/Toronto:20260107T194500
DTSTAMP:20260424T194651
CREATED:20251209T181209Z
LAST-MODIFIED:20251209T181209Z
UID:10028474-1767810600-1767815100@whattoday.ca
SUMMARY:Writing Circle
DESCRIPTION:
URL:https://whattoday.ca/event/writing-circle-4/2026-01-07/
LOCATION:Peterborough Public Library\, 345 Aylmer St N\, Peterborough\, Ontario\, K9H 3V7\, Canada
CATEGORIES:More
ORGANIZER;CN="Peterborough Public Library":MAILTO:Libraryprograms@peterborough.ca
END:VEVENT
BEGIN:VEVENT
DTSTART;TZID=America/Toronto:20260107T180000
DTEND;TZID=America/Toronto:20260107T193000
DTSTAMP:20260424T194651
CREATED:20251209T180944Z
LAST-MODIFIED:20251209T180944Z
UID:10028471-1767808800-1767814200@whattoday.ca
SUMMARY:Career Workshop with Thrive Careers Counselling: Podcasting
DESCRIPTION:
URL:https://whattoday.ca/event/career-workshop-with-thrive-careers-counselling-podcasting/2026-01-07/
LOCATION:Peterborough Public Library\, 345 Aylmer St N\, Peterborough\, Ontario\, K9H 3V7\, Canada
CATEGORIES:More,Workshops
ORGANIZER;CN="Peterborough Public Library":MAILTO:Libraryprograms@peterborough.ca
END:VEVENT
BEGIN:VEVENT
DTSTART;TZID=America/Toronto:20260107T130000
DTEND;TZID=America/Toronto:20260107T150000
DTSTAMP:20260424T194651
CREATED:20250821T155322Z
LAST-MODIFIED:20251107T174226Z
UID:10027908-1767790800-1767798000@whattoday.ca
SUMMARY:Knit & Crochet Club
DESCRIPTION:
URL:https://whattoday.ca/event/knit-crochet-club-4/2026-01-07/
LOCATION:Peterborough Public Library\, 345 Aylmer St N\, Peterborough\, Ontario\, K9H 3V7\, Canada
CATEGORIES:More
ORGANIZER;CN="Peterborough Public Library":MAILTO:Libraryprograms@peterborough.ca
END:VEVENT
BEGIN:VEVENT
DTSTART;TZID=America/Toronto:20260107T101500
DTEND;TZID=America/Toronto:20260107T111500
DTSTAMP:20260424T194651
CREATED:20251209T180621Z
LAST-MODIFIED:20251209T180644Z
UID:10028463-1767780900-1767784500@whattoday.ca
SUMMARY:Parent-Child Mother Goose
DESCRIPTION:
URL:https://whattoday.ca/event/parent-child-mother-goose-4/2026-01-07/
LOCATION:Peterborough Public Library\, 345 Aylmer St N\, Peterborough\, Ontario\, K9H 3V7\, Canada
CATEGORIES:More
ORGANIZER;CN="Peterborough Public Library":MAILTO:Libraryprograms@peterborough.ca
END:VEVENT
BEGIN:VEVENT
DTSTART;TZID=America/Toronto:20260107T101500
DTEND;TZID=America/Toronto:20260107T104500
DTSTAMP:20260424T194651
CREATED:20251107T164748Z
LAST-MODIFIED:20251107T164748Z
UID:10027895-1767780900-1767782700@whattoday.ca
SUMMARY:Preschool Story Time at MLCC
DESCRIPTION:
URL:https://whattoday.ca/event/preschool-story-time-at-mlcc/2026-01-07/
LOCATION:Peterborough Public Library — MLCC Branch\, 271 Lansdowne St. W.\, Peterborough\, ON\, K9J 1Y8\, Canada
CATEGORIES:Family,Kids
ORGANIZER;CN="Peterborough Public Library":MAILTO:Libraryprograms@peterborough.ca
END:VEVENT
BEGIN:VEVENT
DTSTART;TZID=America/Toronto:20260106T183000
DTEND;TZID=America/Toronto:20260106T193000
DTSTAMP:20260424T194651
CREATED:20251209T180042Z
LAST-MODIFIED:20251209T180042Z
UID:10028462-1767724200-1767727800@whattoday.ca
SUMMARY:How to Run a Book Club
DESCRIPTION:
URL:https://whattoday.ca/event/how-to-run-a-book-club/
LOCATION:Peterborough Public Library\, 345 Aylmer St N\, Peterborough\, Ontario\, K9H 3V7\, Canada
CATEGORIES:More
ORGANIZER;CN="Peterborough Public Library":MAILTO:Libraryprograms@peterborough.ca
END:VEVENT
BEGIN:VEVENT
DTSTART;TZID=America/Toronto:20260106T180000
DTEND;TZID=America/Toronto:20260106T184500
DTSTAMP:20260424T194651
CREATED:20251209T175950Z
LAST-MODIFIED:20251209T175950Z
UID:10028460-1767722400-1767725100@whattoday.ca
SUMMARY:Dance Party
DESCRIPTION:
URL:https://whattoday.ca/event/dance-party-2/2026-01-06/
LOCATION:Peterborough Public Library\, 345 Aylmer St N\, Peterborough\, Ontario\, K9H 3V7\, Canada
CATEGORIES:Kids
ORGANIZER;CN="Peterborough Public Library":MAILTO:Libraryprograms@peterborough.ca
END:VEVENT
BEGIN:VEVENT
DTSTART;TZID=America/Toronto:20260106T173000
DTEND;TZID=America/Toronto:20260106T193000
DTSTAMP:20260424T194651
CREATED:20250821T155038Z
LAST-MODIFIED:20251107T171252Z
UID:10027969-1767720600-1767727800@whattoday.ca
SUMMARY:LEGO Club at MLCC Library
DESCRIPTION:
URL:https://whattoday.ca/event/lego-club-at-mlcc-library/2026-01-06/
LOCATION:Peterborough Public Library — MLCC Branch\, 271 Lansdowne St. W.\, Peterborough\, ON\, K9J 1Y8\, Canada
CATEGORIES:Kids
ORGANIZER;CN="Peterborough Public Library":MAILTO:Libraryprograms@peterborough.ca
END:VEVENT
BEGIN:VEVENT
DTSTART;TZID=America/Toronto:20260106T163000
DTEND;TZID=America/Toronto:20260106T173000
DTSTAMP:20260424T194651
CREATED:20250821T154056Z
LAST-MODIFIED:20251107T171328Z
UID:10027982-1767717000-1767720600@whattoday.ca
SUMMARY:LEGO Club
DESCRIPTION:
URL:https://whattoday.ca/event/lego-club-2/2026-01-06/
LOCATION:Peterborough Public Library\, 345 Aylmer St N\, Peterborough\, Ontario\, K9H 3V7\, Canada
CATEGORIES:Family,Kids
ORGANIZER;CN="Peterborough Public Library":MAILTO:Libraryprograms@peterborough.ca
END:VEVENT
BEGIN:VEVENT
DTSTART;TZID=America/Toronto:20260106T101500
DTEND;TZID=America/Toronto:20260106T111500
DTSTAMP:20260424T194651
CREATED:20251209T175700Z
LAST-MODIFIED:20251209T175700Z
UID:10028444-1767694500-1767698100@whattoday.ca
SUMMARY:Toddler Time
DESCRIPTION:
URL:https://whattoday.ca/event/toddler-time-3/2026-01-06/
LOCATION:Peterborough Public Library\, 345 Aylmer St N\, Peterborough\, Ontario\, K9H 3V7\, Canada
CATEGORIES:More
ORGANIZER;CN="Peterborough Public Library":MAILTO:Libraryprograms@peterborough.ca
END:VEVENT
BEGIN:VEVENT
DTSTART;TZID=America/Toronto:20260105T170000
DTEND;TZID=America/Toronto:20260105T200000
DTSTAMP:20260424T194651
CREATED:20251107T171207Z
LAST-MODIFIED:20260310T182219Z
UID:10027949-1767632400-1767643200@whattoday.ca
SUMMARY:Mellow Mondays
DESCRIPTION:
URL:https://whattoday.ca/event/mellow-mondays/2026-01-05/
LOCATION:Peterborough Public Library\, 345 Aylmer St N\, Peterborough\, Ontario\, K9H 3V7\, Canada
CATEGORIES:More
ORGANIZER;CN="Peterborough Public Library":MAILTO:Libraryprograms@peterborough.ca
END:VEVENT
BEGIN:VEVENT
DTSTART;TZID=America/Toronto:20260105T160000
DTEND;TZID=America/Toronto:20260105T180000
DTSTAMP:20260424T194651
CREATED:20251209T175533Z
LAST-MODIFIED:20251209T175533Z
UID:10028442-1767628800-1767636000@whattoday.ca
SUMMARY:Rainbow Youth with PARN
DESCRIPTION:
URL:https://whattoday.ca/event/rainbow-youth-with-parn/2026-01-05/
LOCATION:Peterborough Public Library\, 345 Aylmer St N\, Peterborough\, Ontario\, K9H 3V7\, Canada
CATEGORIES:More
ORGANIZER;CN="Peterborough Public Library":MAILTO:Libraryprograms@peterborough.ca
END:VEVENT
BEGIN:VEVENT
DTSTART;TZID=America/Toronto:20260105T133000
DTEND;TZID=America/Toronto:20260105T150000
DTSTAMP:20260424T194651
CREATED:20251209T175425Z
LAST-MODIFIED:20251209T175425Z
UID:10028434-1767619800-1767625200@whattoday.ca
SUMMARY:Community Writing Workshop
DESCRIPTION:
URL:https://whattoday.ca/event/community-writing-workshop/2026-01-05/
LOCATION:Peterborough Public Library\, 345 Aylmer St N\, Peterborough\, Ontario\, K9H 3V7\, Canada
CATEGORIES:More
ORGANIZER;CN="Peterborough Public Library":MAILTO:Libraryprograms@peterborough.ca
END:VEVENT
BEGIN:VEVENT
DTSTART;TZID=America/Toronto:20260104T130000
DTEND;TZID=America/Toronto:20260104T150000
DTSTAMP:20260424T194651
CREATED:20251107T170720Z
LAST-MODIFIED:20251107T170720Z
UID:10027940-1767531600-1767538800@whattoday.ca
SUMMARY:Nintendo Switch It Up (Ages 6 - 12)
DESCRIPTION:December – Mario Kart \nJanuary  – Super Smash \nFebruary – Just Dance
URL:https://whattoday.ca/event/nintendo-switch-it-up-ages-6-12-2/2026-01-04/
LOCATION:Peterborough Public Library\, 345 Aylmer St N\, Peterborough\, Ontario\, K9H 3V7\, Canada
ORGANIZER;CN="Peterborough Public Library":MAILTO:Libraryprograms@peterborough.ca
END:VEVENT
BEGIN:VEVENT
DTSTART;TZID=America/Toronto:20260103T130000
DTEND;TZID=America/Toronto:20260103T150000
DTSTAMP:20260424T194651
CREATED:20251209T175245Z
LAST-MODIFIED:20251209T175253Z
UID:10028433-1767445200-1767452400@whattoday.ca
SUMMARY:Crafternoon
DESCRIPTION:
URL:https://whattoday.ca/event/crafternoon-2/
LOCATION:Peterborough Public Library\, 345 Aylmer St N\, Peterborough\, Ontario\, K9H 3V7\, Canada
CATEGORIES:More
ORGANIZER;CN="Peterborough Public Library":MAILTO:Libraryprograms@peterborough.ca
END:VEVENT
BEGIN:VEVENT
DTSTART;TZID=America/Toronto:20260103T101500
DTEND;TZID=America/Toronto:20260103T104500
DTSTAMP:20260424T194651
CREATED:20251209T175214Z
LAST-MODIFIED:20251209T175214Z
UID:10028432-1767435300-1767437100@whattoday.ca
SUMMARY:Drag Queen Story Time with Betty Baker
DESCRIPTION:
URL:https://whattoday.ca/event/drag-queen-story-time-with-betty-baker-4/
LOCATION:Peterborough Public Library\, 345 Aylmer St N\, Peterborough\, Ontario\, K9H 3V7\, Canada
CATEGORIES:Family,More
ORGANIZER;CN="Peterborough Public Library":MAILTO:Libraryprograms@peterborough.ca
END:VEVENT
BEGIN:VEVENT
DTSTART;TZID=America/Toronto:20260102T180000
DTEND;TZID=America/Toronto:20260102T193000
DTSTAMP:20260424T194651
CREATED:20251209T175124Z
LAST-MODIFIED:20251209T175124Z
UID:10028431-1767376800-1767382200@whattoday.ca
SUMMARY:Boredom Busters - Board Games
DESCRIPTION:
URL:https://whattoday.ca/event/boredom-busters-board-games/
LOCATION:Peterborough Public Library\, 345 Aylmer St N\, Peterborough\, Ontario\, K9H 3V7\, Canada
CATEGORIES:Family,More
ORGANIZER;CN="Peterborough Public Library":MAILTO:Libraryprograms@peterborough.ca
END:VEVENT
BEGIN:VEVENT
DTSTART;TZID=America/Toronto:20251231T101500
DTEND;TZID=America/Toronto:20251231T104500
DTSTAMP:20260424T194651
CREATED:20251107T164748Z
LAST-MODIFIED:20251107T164748Z
UID:10027894-1767176100-1767177900@whattoday.ca
SUMMARY:Preschool Story Time at MLCC
DESCRIPTION:
URL:https://whattoday.ca/event/preschool-story-time-at-mlcc/2025-12-31/
LOCATION:Peterborough Public Library — MLCC Branch\, 271 Lansdowne St. W.\, Peterborough\, ON\, K9J 1Y8\, Canada
CATEGORIES:Family,Kids
ORGANIZER;CN="Peterborough Public Library":MAILTO:Libraryprograms@peterborough.ca
END:VEVENT
BEGIN:VEVENT
DTSTART;TZID=America/Toronto:20251230T173000
DTEND;TZID=America/Toronto:20251230T193000
DTSTAMP:20260424T194651
CREATED:20250821T155038Z
LAST-MODIFIED:20251107T171252Z
UID:10027968-1767115800-1767123000@whattoday.ca
SUMMARY:LEGO Club at MLCC Library
DESCRIPTION:
URL:https://whattoday.ca/event/lego-club-at-mlcc-library/2025-12-30/
LOCATION:Peterborough Public Library — MLCC Branch\, 271 Lansdowne St. W.\, Peterborough\, ON\, K9J 1Y8\, Canada
CATEGORIES:Kids
ORGANIZER;CN="Peterborough Public Library":MAILTO:Libraryprograms@peterborough.ca
END:VEVENT
BEGIN:VEVENT
DTSTART;TZID=America/Toronto:20251230T163000
DTEND;TZID=America/Toronto:20251230T173000
DTSTAMP:20260424T194651
CREATED:20250821T154056Z
LAST-MODIFIED:20251107T171328Z
UID:10027981-1767112200-1767115800@whattoday.ca
SUMMARY:LEGO Club
DESCRIPTION:
URL:https://whattoday.ca/event/lego-club-2/2025-12-30/
LOCATION:Peterborough Public Library\, 345 Aylmer St N\, Peterborough\, Ontario\, K9H 3V7\, Canada
CATEGORIES:Family,Kids
ORGANIZER;CN="Peterborough Public Library":MAILTO:Libraryprograms@peterborough.ca
END:VEVENT
BEGIN:VEVENT
DTSTART;TZID=America/Toronto:20251229T170000
DTEND;TZID=America/Toronto:20251229T200000
DTSTAMP:20260424T194651
CREATED:20251107T171207Z
LAST-MODIFIED:20260310T182219Z
UID:10027948-1767027600-1767038400@whattoday.ca
SUMMARY:Mellow Mondays
DESCRIPTION:
URL:https://whattoday.ca/event/mellow-mondays/2025-12-29/
LOCATION:Peterborough Public Library\, 345 Aylmer St N\, Peterborough\, Ontario\, K9H 3V7\, Canada
CATEGORIES:More
ORGANIZER;CN="Peterborough Public Library":MAILTO:Libraryprograms@peterborough.ca
END:VEVENT
BEGIN:VEVENT
DTSTART;TZID=America/Toronto:20251227T103000
DTEND;TZID=America/Toronto:20251227T113000
DTSTAMP:20260424T194651
CREATED:20251107T174049Z
LAST-MODIFIED:20251107T174049Z
UID:10028008-1766831400-1766835000@whattoday.ca
SUMMARY:Afrocentric Story Time (Ages 6-10)
DESCRIPTION:
URL:https://whattoday.ca/event/afrocentric-story-time-ages-6-10-2/2025-12-27/
LOCATION:Peterborough Public Library\, 345 Aylmer St N\, Peterborough\, Ontario\, K9H 3V7\, Canada
CATEGORIES:Kids
ORGANIZER;CN="Peterborough Public Library":MAILTO:Libraryprograms@peterborough.ca
END:VEVENT
BEGIN:VEVENT
DTSTART;TZID=America/Toronto:20251224T101500
DTEND;TZID=America/Toronto:20251224T104500
DTSTAMP:20260424T194651
CREATED:20251107T164748Z
LAST-MODIFIED:20251107T164748Z
UID:10027893-1766571300-1766573100@whattoday.ca
SUMMARY:Preschool Story Time at MLCC
DESCRIPTION:
URL:https://whattoday.ca/event/preschool-story-time-at-mlcc/2025-12-24/
LOCATION:Peterborough Public Library — MLCC Branch\, 271 Lansdowne St. W.\, Peterborough\, ON\, K9J 1Y8\, Canada
CATEGORIES:Family,Kids
ORGANIZER;CN="Peterborough Public Library":MAILTO:Libraryprograms@peterborough.ca
END:VEVENT
END:VCALENDAR