BEGIN:VCALENDAR
VERSION:2.0
PRODID:-//WHATtoday.ca - ECPv6.15.20//NONSGML v1.0//EN
CALSCALE:GREGORIAN
METHOD:PUBLISH
X-WR-CALNAME:WHATtoday.ca
X-ORIGINAL-URL:https://whattoday.ca
X-WR-CALDESC:Events for WHATtoday.ca
REFRESH-INTERVAL;VALUE=DURATION:PT1H
X-Robots-Tag:noindex
X-PUBLISHED-TTL:PT1H
BEGIN:VTIMEZONE
TZID:America/Toronto
BEGIN:DAYLIGHT
TZOFFSETFROM:-0500
TZOFFSETTO:-0400
TZNAME:EDT
DTSTART:20240310T070000
END:DAYLIGHT
BEGIN:STANDARD
TZOFFSETFROM:-0400
TZOFFSETTO:-0500
TZNAME:EST
DTSTART:20241103T060000
END:STANDARD
BEGIN:DAYLIGHT
TZOFFSETFROM:-0500
TZOFFSETTO:-0400
TZNAME:EDT
DTSTART:20250309T070000
END:DAYLIGHT
BEGIN:STANDARD
TZOFFSETFROM:-0400
TZOFFSETTO:-0500
TZNAME:EST
DTSTART:20251102T060000
END:STANDARD
BEGIN:DAYLIGHT
TZOFFSETFROM:-0500
TZOFFSETTO:-0400
TZNAME:EDT
DTSTART:20260308T070000
END:DAYLIGHT
BEGIN:STANDARD
TZOFFSETFROM:-0400
TZOFFSETTO:-0500
TZNAME:EST
DTSTART:20261101T060000
END:STANDARD
BEGIN:DAYLIGHT
TZOFFSETFROM:-0500
TZOFFSETTO:-0400
TZNAME:EDT
DTSTART:20270314T070000
END:DAYLIGHT
BEGIN:STANDARD
TZOFFSETFROM:-0400
TZOFFSETTO:-0500
TZNAME:EST
DTSTART:20271107T060000
END:STANDARD
END:VTIMEZONE
BEGIN:VEVENT
DTSTART;TZID=America/Toronto:20260128T080000
DTEND;TZID=America/Toronto:20260128T130000
DTSTAMP:20260419T075455
CREATED:20250924T153524Z
LAST-MODIFIED:20250924T153524Z
UID:10026750-1769587200-1769605200@whattoday.ca
SUMMARY:Peterborough Regional Farmers' Market
DESCRIPTION:
URL:https://whattoday.ca/event/peterborough-regional-farmers-market-6/2026-01-28/
LOCATION:Peterborough Square\, 340 George St. N.\, Peterborough\, ON\, K9H 7E8\, Canada
CATEGORIES:Family,Food & Beverage,More,Seniors
ORGANIZER;CN="Peterborough Regional Farmers' Market":MAILTO:info@ptboregionalfarmersmarket.com
END:VEVENT
BEGIN:VEVENT
DTSTART;TZID=America/Toronto:20260124T080000
DTEND;TZID=America/Toronto:20260124T130000
DTSTAMP:20260419T075455
CREATED:20250924T153524Z
LAST-MODIFIED:20250924T153524Z
UID:10026749-1769241600-1769259600@whattoday.ca
SUMMARY:Peterborough Regional Farmers' Market
DESCRIPTION:
URL:https://whattoday.ca/event/peterborough-regional-farmers-market-6/2026-01-24/
LOCATION:Peterborough Square\, 340 George St. N.\, Peterborough\, ON\, K9H 7E8\, Canada
CATEGORIES:Family,Food & Beverage,More,Seniors
ORGANIZER;CN="Peterborough Regional Farmers' Market":MAILTO:info@ptboregionalfarmersmarket.com
END:VEVENT
BEGIN:VEVENT
DTSTART;TZID=America/Toronto:20260121T080000
DTEND;TZID=America/Toronto:20260121T130000
DTSTAMP:20260419T075455
CREATED:20250924T153524Z
LAST-MODIFIED:20250924T153524Z
UID:10026748-1768982400-1769000400@whattoday.ca
SUMMARY:Peterborough Regional Farmers' Market
DESCRIPTION:
URL:https://whattoday.ca/event/peterborough-regional-farmers-market-6/2026-01-21/
LOCATION:Peterborough Square\, 340 George St. N.\, Peterborough\, ON\, K9H 7E8\, Canada
CATEGORIES:Family,Food & Beverage,More,Seniors
ORGANIZER;CN="Peterborough Regional Farmers' Market":MAILTO:info@ptboregionalfarmersmarket.com
END:VEVENT
BEGIN:VEVENT
DTSTART;TZID=America/Toronto:20260117T080000
DTEND;TZID=America/Toronto:20260117T130000
DTSTAMP:20260419T075455
CREATED:20250924T153524Z
LAST-MODIFIED:20250924T153524Z
UID:10026747-1768636800-1768654800@whattoday.ca
SUMMARY:Peterborough Regional Farmers' Market
DESCRIPTION:
URL:https://whattoday.ca/event/peterborough-regional-farmers-market-6/2026-01-17/
LOCATION:Peterborough Square\, 340 George St. N.\, Peterborough\, ON\, K9H 7E8\, Canada
CATEGORIES:Family,Food & Beverage,More,Seniors
ORGANIZER;CN="Peterborough Regional Farmers' Market":MAILTO:info@ptboregionalfarmersmarket.com
END:VEVENT
BEGIN:VEVENT
DTSTART;TZID=America/Toronto:20260114T080000
DTEND;TZID=America/Toronto:20260114T130000
DTSTAMP:20260419T075455
CREATED:20250924T153524Z
LAST-MODIFIED:20250924T153524Z
UID:10026746-1768377600-1768395600@whattoday.ca
SUMMARY:Peterborough Regional Farmers' Market
DESCRIPTION:
URL:https://whattoday.ca/event/peterborough-regional-farmers-market-6/2026-01-14/
LOCATION:Peterborough Square\, 340 George St. N.\, Peterborough\, ON\, K9H 7E8\, Canada
CATEGORIES:Family,Food & Beverage,More,Seniors
ORGANIZER;CN="Peterborough Regional Farmers' Market":MAILTO:info@ptboregionalfarmersmarket.com
END:VEVENT
BEGIN:VEVENT
DTSTART;TZID=America/Toronto:20260110T080000
DTEND;TZID=America/Toronto:20260110T130000
DTSTAMP:20260419T075455
CREATED:20250924T153524Z
LAST-MODIFIED:20250924T153524Z
UID:10026745-1768032000-1768050000@whattoday.ca
SUMMARY:Peterborough Regional Farmers' Market
DESCRIPTION:
URL:https://whattoday.ca/event/peterborough-regional-farmers-market-6/2026-01-10/
LOCATION:Peterborough Square\, 340 George St. N.\, Peterborough\, ON\, K9H 7E8\, Canada
CATEGORIES:Family,Food & Beverage,More,Seniors
ORGANIZER;CN="Peterborough Regional Farmers' Market":MAILTO:info@ptboregionalfarmersmarket.com
END:VEVENT
BEGIN:VEVENT
DTSTART;TZID=America/Toronto:20260107T080000
DTEND;TZID=America/Toronto:20260107T130000
DTSTAMP:20260419T075455
CREATED:20250924T153524Z
LAST-MODIFIED:20250924T153524Z
UID:10026744-1767772800-1767790800@whattoday.ca
SUMMARY:Peterborough Regional Farmers' Market
DESCRIPTION:
URL:https://whattoday.ca/event/peterborough-regional-farmers-market-6/2026-01-07/
LOCATION:Peterborough Square\, 340 George St. N.\, Peterborough\, ON\, K9H 7E8\, Canada
CATEGORIES:Family,Food & Beverage,More,Seniors
ORGANIZER;CN="Peterborough Regional Farmers' Market":MAILTO:info@ptboregionalfarmersmarket.com
END:VEVENT
BEGIN:VEVENT
DTSTART;TZID=America/Toronto:20260103T080000
DTEND;TZID=America/Toronto:20260103T130000
DTSTAMP:20260419T075455
CREATED:20250924T153524Z
LAST-MODIFIED:20250924T153524Z
UID:10026743-1767427200-1767445200@whattoday.ca
SUMMARY:Peterborough Regional Farmers' Market
DESCRIPTION:
URL:https://whattoday.ca/event/peterborough-regional-farmers-market-6/2026-01-03/
LOCATION:Peterborough Square\, 340 George St. N.\, Peterborough\, ON\, K9H 7E8\, Canada
CATEGORIES:Family,Food & Beverage,More,Seniors
ORGANIZER;CN="Peterborough Regional Farmers' Market":MAILTO:info@ptboregionalfarmersmarket.com
END:VEVENT
BEGIN:VEVENT
DTSTART;TZID=America/Toronto:20251231T080000
DTEND;TZID=America/Toronto:20251231T130000
DTSTAMP:20260419T075455
CREATED:20250924T153524Z
LAST-MODIFIED:20250924T153524Z
UID:10026742-1767168000-1767186000@whattoday.ca
SUMMARY:Peterborough Regional Farmers' Market
DESCRIPTION:
URL:https://whattoday.ca/event/peterborough-regional-farmers-market-6/2025-12-31/
LOCATION:Peterborough Square\, 340 George St. N.\, Peterborough\, ON\, K9H 7E8\, Canada
CATEGORIES:Family,Food & Beverage,More,Seniors
ORGANIZER;CN="Peterborough Regional Farmers' Market":MAILTO:info@ptboregionalfarmersmarket.com
END:VEVENT
BEGIN:VEVENT
DTSTART;TZID=America/Toronto:20251227T080000
DTEND;TZID=America/Toronto:20251227T130000
DTSTAMP:20260419T075455
CREATED:20250924T153524Z
LAST-MODIFIED:20250924T153524Z
UID:10026741-1766822400-1766840400@whattoday.ca
SUMMARY:Peterborough Regional Farmers' Market
DESCRIPTION:
URL:https://whattoday.ca/event/peterborough-regional-farmers-market-6/2025-12-27/
LOCATION:Peterborough Square\, 340 George St. N.\, Peterborough\, ON\, K9H 7E8\, Canada
CATEGORIES:Family,Food & Beverage,More,Seniors
ORGANIZER;CN="Peterborough Regional Farmers' Market":MAILTO:info@ptboregionalfarmersmarket.com
END:VEVENT
BEGIN:VEVENT
DTSTART;TZID=America/Toronto:20251224T080000
DTEND;TZID=America/Toronto:20251224T130000
DTSTAMP:20260419T075455
CREATED:20250924T153524Z
LAST-MODIFIED:20250924T153524Z
UID:10026740-1766563200-1766581200@whattoday.ca
SUMMARY:Peterborough Regional Farmers' Market
DESCRIPTION:
URL:https://whattoday.ca/event/peterborough-regional-farmers-market-6/2025-12-24/
LOCATION:Peterborough Square\, 340 George St. N.\, Peterborough\, ON\, K9H 7E8\, Canada
CATEGORIES:Family,Food & Beverage,More,Seniors
ORGANIZER;CN="Peterborough Regional Farmers' Market":MAILTO:info@ptboregionalfarmersmarket.com
END:VEVENT
BEGIN:VEVENT
DTSTART;TZID=America/Toronto:20251220T160000
DTEND;TZID=America/Toronto:20251220T210000
DTSTAMP:20260419T075455
CREATED:20251202T194241Z
LAST-MODIFIED:20251202T194241Z
UID:10028371-1766246400-1766264400@whattoday.ca
SUMMARY:PRFMS' Winter Solstice Night Market
DESCRIPTION:
URL:https://whattoday.ca/event/prfms-winter-solstice-night-market/
LOCATION:Peterborough Square\, 340 George St. N.\, Peterborough\, ON\, K9H 7E8\, Canada
CATEGORIES:More
ORGANIZER;CN="Peterborough Regional Farmers' Market":MAILTO:info@ptboregionalfarmersmarket.com
END:VEVENT
BEGIN:VEVENT
DTSTART;TZID=America/Toronto:20251220T080000
DTEND;TZID=America/Toronto:20251220T130000
DTSTAMP:20260419T075455
CREATED:20250924T153524Z
LAST-MODIFIED:20250924T153524Z
UID:10026739-1766217600-1766235600@whattoday.ca
SUMMARY:Peterborough Regional Farmers' Market
DESCRIPTION:
URL:https://whattoday.ca/event/peterborough-regional-farmers-market-6/2025-12-20/
LOCATION:Peterborough Square\, 340 George St. N.\, Peterborough\, ON\, K9H 7E8\, Canada
CATEGORIES:Family,Food & Beverage,More,Seniors
ORGANIZER;CN="Peterborough Regional Farmers' Market":MAILTO:info@ptboregionalfarmersmarket.com
END:VEVENT
BEGIN:VEVENT
DTSTART;TZID=America/Toronto:20251217T080000
DTEND;TZID=America/Toronto:20251217T130000
DTSTAMP:20260419T075455
CREATED:20250924T153524Z
LAST-MODIFIED:20250924T153524Z
UID:10026738-1765958400-1765976400@whattoday.ca
SUMMARY:Peterborough Regional Farmers' Market
DESCRIPTION:
URL:https://whattoday.ca/event/peterborough-regional-farmers-market-6/2025-12-17/
LOCATION:Peterborough Square\, 340 George St. N.\, Peterborough\, ON\, K9H 7E8\, Canada
CATEGORIES:Family,Food & Beverage,More,Seniors
ORGANIZER;CN="Peterborough Regional Farmers' Market":MAILTO:info@ptboregionalfarmersmarket.com
END:VEVENT
BEGIN:VEVENT
DTSTART;TZID=America/Toronto:20251213T100000
DTEND;TZID=America/Toronto:20251213T110000
DTSTAMP:20260419T075455
CREATED:20251212T160704Z
LAST-MODIFIED:20251212T160704Z
UID:10028537-1765620000-1765623600@whattoday.ca
SUMMARY:Lantern Making Workshop with Laurel Pluck
DESCRIPTION:
URL:https://whattoday.ca/event/lantern-making-workshop-with-laurel-pluck/
LOCATION:Peterborough Square\, 340 George St. N.\, Peterborough\, ON\, K9H 7E8\, Canada
CATEGORIES:Workshops
ORGANIZER;CN="Peterborough Regional Farmers' Market":MAILTO:info@ptboregionalfarmersmarket.com
END:VEVENT
BEGIN:VEVENT
DTSTART;TZID=America/Toronto:20251213T080000
DTEND;TZID=America/Toronto:20251213T130000
DTSTAMP:20260419T075455
CREATED:20250924T153524Z
LAST-MODIFIED:20250924T153524Z
UID:10026737-1765612800-1765630800@whattoday.ca
SUMMARY:Peterborough Regional Farmers' Market
DESCRIPTION:
URL:https://whattoday.ca/event/peterborough-regional-farmers-market-6/2025-12-13/
LOCATION:Peterborough Square\, 340 George St. N.\, Peterborough\, ON\, K9H 7E8\, Canada
CATEGORIES:Family,Food & Beverage,More,Seniors
ORGANIZER;CN="Peterborough Regional Farmers' Market":MAILTO:info@ptboregionalfarmersmarket.com
END:VEVENT
BEGIN:VEVENT
DTSTART;TZID=America/Toronto:20251210T080000
DTEND;TZID=America/Toronto:20251210T130000
DTSTAMP:20260419T075455
CREATED:20250924T153524Z
LAST-MODIFIED:20250924T153524Z
UID:10026736-1765353600-1765371600@whattoday.ca
SUMMARY:Peterborough Regional Farmers' Market
DESCRIPTION:
URL:https://whattoday.ca/event/peterborough-regional-farmers-market-6/2025-12-10/
LOCATION:Peterborough Square\, 340 George St. N.\, Peterborough\, ON\, K9H 7E8\, Canada
CATEGORIES:Family,Food & Beverage,More,Seniors
ORGANIZER;CN="Peterborough Regional Farmers' Market":MAILTO:info@ptboregionalfarmersmarket.com
END:VEVENT
BEGIN:VEVENT
DTSTART;TZID=America/Toronto:20251206T080000
DTEND;TZID=America/Toronto:20251206T130000
DTSTAMP:20260419T075455
CREATED:20250924T153524Z
LAST-MODIFIED:20250924T153524Z
UID:10026735-1765008000-1765026000@whattoday.ca
SUMMARY:Peterborough Regional Farmers' Market
DESCRIPTION:
URL:https://whattoday.ca/event/peterborough-regional-farmers-market-6/2025-12-06/
LOCATION:Peterborough Square\, 340 George St. N.\, Peterborough\, ON\, K9H 7E8\, Canada
CATEGORIES:Family,Food & Beverage,More,Seniors
ORGANIZER;CN="Peterborough Regional Farmers' Market":MAILTO:info@ptboregionalfarmersmarket.com
END:VEVENT
BEGIN:VEVENT
DTSTART;TZID=America/Toronto:20251203T080000
DTEND;TZID=America/Toronto:20251203T130000
DTSTAMP:20260419T075455
CREATED:20250924T153524Z
LAST-MODIFIED:20250924T153524Z
UID:10026734-1764748800-1764766800@whattoday.ca
SUMMARY:Peterborough Regional Farmers' Market
DESCRIPTION:
URL:https://whattoday.ca/event/peterborough-regional-farmers-market-6/2025-12-03/
LOCATION:Peterborough Square\, 340 George St. N.\, Peterborough\, ON\, K9H 7E8\, Canada
CATEGORIES:Family,Food & Beverage,More,Seniors
ORGANIZER;CN="Peterborough Regional Farmers' Market":MAILTO:info@ptboregionalfarmersmarket.com
END:VEVENT
BEGIN:VEVENT
DTSTART;TZID=America/Toronto:20251129T080000
DTEND;TZID=America/Toronto:20251129T130000
DTSTAMP:20260419T075455
CREATED:20250924T153524Z
LAST-MODIFIED:20250924T153524Z
UID:10026733-1764403200-1764421200@whattoday.ca
SUMMARY:Peterborough Regional Farmers' Market
DESCRIPTION:
URL:https://whattoday.ca/event/peterborough-regional-farmers-market-6/2025-11-29/
LOCATION:Peterborough Square\, 340 George St. N.\, Peterborough\, ON\, K9H 7E8\, Canada
CATEGORIES:Family,Food & Beverage,More,Seniors
ORGANIZER;CN="Peterborough Regional Farmers' Market":MAILTO:info@ptboregionalfarmersmarket.com
END:VEVENT
BEGIN:VEVENT
DTSTART;TZID=America/Toronto:20251126T080000
DTEND;TZID=America/Toronto:20251126T130000
DTSTAMP:20260419T075455
CREATED:20250924T153524Z
LAST-MODIFIED:20250924T153524Z
UID:10026732-1764144000-1764162000@whattoday.ca
SUMMARY:Peterborough Regional Farmers' Market
DESCRIPTION:
URL:https://whattoday.ca/event/peterborough-regional-farmers-market-6/2025-11-26/
LOCATION:Peterborough Square\, 340 George St. N.\, Peterborough\, ON\, K9H 7E8\, Canada
CATEGORIES:Family,Food & Beverage,More,Seniors
ORGANIZER;CN="Peterborough Regional Farmers' Market":MAILTO:info@ptboregionalfarmersmarket.com
END:VEVENT
BEGIN:VEVENT
DTSTART;TZID=America/Toronto:20251122T080000
DTEND;TZID=America/Toronto:20251122T130000
DTSTAMP:20260419T075455
CREATED:20250924T153524Z
LAST-MODIFIED:20250924T153524Z
UID:10026731-1763798400-1763816400@whattoday.ca
SUMMARY:Peterborough Regional Farmers' Market
DESCRIPTION:
URL:https://whattoday.ca/event/peterborough-regional-farmers-market-6/2025-11-22/
LOCATION:Peterborough Square\, 340 George St. N.\, Peterborough\, ON\, K9H 7E8\, Canada
CATEGORIES:Family,Food & Beverage,More,Seniors
ORGANIZER;CN="Peterborough Regional Farmers' Market":MAILTO:info@ptboregionalfarmersmarket.com
END:VEVENT
BEGIN:VEVENT
DTSTART;TZID=America/Toronto:20251119T080000
DTEND;TZID=America/Toronto:20251119T130000
DTSTAMP:20260419T075455
CREATED:20250924T153524Z
LAST-MODIFIED:20250924T153524Z
UID:10026730-1763539200-1763557200@whattoday.ca
SUMMARY:Peterborough Regional Farmers' Market
DESCRIPTION:
URL:https://whattoday.ca/event/peterborough-regional-farmers-market-6/2025-11-19/
LOCATION:Peterborough Square\, 340 George St. N.\, Peterborough\, ON\, K9H 7E8\, Canada
CATEGORIES:Family,Food & Beverage,More,Seniors
ORGANIZER;CN="Peterborough Regional Farmers' Market":MAILTO:info@ptboregionalfarmersmarket.com
END:VEVENT
BEGIN:VEVENT
DTSTART;TZID=America/Toronto:20251115T080000
DTEND;TZID=America/Toronto:20251115T130000
DTSTAMP:20260419T075455
CREATED:20250924T153524Z
LAST-MODIFIED:20250924T153524Z
UID:10026729-1763193600-1763211600@whattoday.ca
SUMMARY:Peterborough Regional Farmers' Market
DESCRIPTION:
URL:https://whattoday.ca/event/peterborough-regional-farmers-market-6/2025-11-15/
LOCATION:Peterborough Square\, 340 George St. N.\, Peterborough\, ON\, K9H 7E8\, Canada
CATEGORIES:Family,Food & Beverage,More,Seniors
ORGANIZER;CN="Peterborough Regional Farmers' Market":MAILTO:info@ptboregionalfarmersmarket.com
END:VEVENT
BEGIN:VEVENT
DTSTART;TZID=America/Toronto:20251112T080000
DTEND;TZID=America/Toronto:20251112T130000
DTSTAMP:20260419T075455
CREATED:20250924T153524Z
LAST-MODIFIED:20250924T153524Z
UID:10026728-1762934400-1762952400@whattoday.ca
SUMMARY:Peterborough Regional Farmers' Market
DESCRIPTION:
URL:https://whattoday.ca/event/peterborough-regional-farmers-market-6/2025-11-12/
LOCATION:Peterborough Square\, 340 George St. N.\, Peterborough\, ON\, K9H 7E8\, Canada
CATEGORIES:Family,Food & Beverage,More,Seniors
ORGANIZER;CN="Peterborough Regional Farmers' Market":MAILTO:info@ptboregionalfarmersmarket.com
END:VEVENT
BEGIN:VEVENT
DTSTART;TZID=America/Toronto:20251108T080000
DTEND;TZID=America/Toronto:20251108T130000
DTSTAMP:20260419T075455
CREATED:20250924T153524Z
LAST-MODIFIED:20250924T153524Z
UID:10026727-1762588800-1762606800@whattoday.ca
SUMMARY:Peterborough Regional Farmers' Market
DESCRIPTION:
URL:https://whattoday.ca/event/peterborough-regional-farmers-market-6/2025-11-08/
LOCATION:Peterborough Square\, 340 George St. N.\, Peterborough\, ON\, K9H 7E8\, Canada
CATEGORIES:Family,Food & Beverage,More,Seniors
ORGANIZER;CN="Peterborough Regional Farmers' Market":MAILTO:info@ptboregionalfarmersmarket.com
END:VEVENT
BEGIN:VEVENT
DTSTART;TZID=America/Toronto:20251105T080000
DTEND;TZID=America/Toronto:20251105T130000
DTSTAMP:20260419T075455
CREATED:20250924T153524Z
LAST-MODIFIED:20250924T153524Z
UID:10026726-1762329600-1762347600@whattoday.ca
SUMMARY:Peterborough Regional Farmers' Market
DESCRIPTION:
URL:https://whattoday.ca/event/peterborough-regional-farmers-market-6/2025-11-05/
LOCATION:Peterborough Square\, 340 George St. N.\, Peterborough\, ON\, K9H 7E8\, Canada
CATEGORIES:Family,Food & Beverage,More,Seniors
ORGANIZER;CN="Peterborough Regional Farmers' Market":MAILTO:info@ptboregionalfarmersmarket.com
END:VEVENT
BEGIN:VEVENT
DTSTART;TZID=America/Toronto:20251101T080000
DTEND;TZID=America/Toronto:20251101T130000
DTSTAMP:20260419T075455
CREATED:20250924T153524Z
LAST-MODIFIED:20250924T153524Z
UID:10026725-1761984000-1762002000@whattoday.ca
SUMMARY:Peterborough Regional Farmers' Market
DESCRIPTION:
URL:https://whattoday.ca/event/peterborough-regional-farmers-market-6/2025-11-01/
LOCATION:Peterborough Square\, 340 George St. N.\, Peterborough\, ON\, K9H 7E8\, Canada
CATEGORIES:Family,Food & Beverage,More,Seniors
ORGANIZER;CN="Peterborough Regional Farmers' Market":MAILTO:info@ptboregionalfarmersmarket.com
END:VEVENT
BEGIN:VEVENT
DTSTART;TZID=America/Toronto:20251029T093000
DTEND;TZID=America/Toronto:20251029T133000
DTSTAMP:20260419T075455
CREATED:20250924T153351Z
LAST-MODIFIED:20250924T153417Z
UID:10019003-1761730200-1761744600@whattoday.ca
SUMMARY:Peterborough Regional Farmers' Market
DESCRIPTION:
URL:https://whattoday.ca/event/peterborough-regional-farmers-market-4-2/2025-10-29/
LOCATION:Quaker Foods City Square\, 215 Charlotte St.\, Peterborough\, ON\, K9J 0A2\, Canada
CATEGORIES:Family,Food & Beverage,More,Outdoor
ORGANIZER;CN="Peterborough Regional Farmers' Market":MAILTO:info@ptboregionalfarmersmarket.com
END:VEVENT
BEGIN:VEVENT
DTSTART;TZID=America/Toronto:20251025T080000
DTEND;TZID=America/Toronto:20251025T130000
DTSTAMP:20260419T075455
CREATED:20250430T162903Z
LAST-MODIFIED:20250924T153315Z
UID:10026719-1761379200-1761397200@whattoday.ca
SUMMARY:Peterborough Regional Farmers' Market
DESCRIPTION:
URL:https://whattoday.ca/event/peterborough-regional-farmers-market-5/2025-10-25/
LOCATION:Quaker Foods City Square\, 215 Charlotte St.\, Peterborough\, ON\, K9J 0A2\, Canada
CATEGORIES:Family,Food & Beverage,More,Outdoor
ORGANIZER;CN="Peterborough Regional Farmers' Market":MAILTO:info@ptboregionalfarmersmarket.com
END:VEVENT
END:VCALENDAR