BEGIN:VCALENDAR
VERSION:2.0
PRODID:-//WHATtoday.ca - ECPv6.15.20//NONSGML v1.0//EN
CALSCALE:GREGORIAN
METHOD:PUBLISH
X-WR-CALNAME:WHATtoday.ca
X-ORIGINAL-URL:https://whattoday.ca
X-WR-CALDESC:Events for WHATtoday.ca
REFRESH-INTERVAL;VALUE=DURATION:PT1H
X-Robots-Tag:noindex
X-PUBLISHED-TTL:PT1H
BEGIN:VTIMEZONE
TZID:America/Toronto
BEGIN:DAYLIGHT
TZOFFSETFROM:-0500
TZOFFSETTO:-0400
TZNAME:EDT
DTSTART:20230312T070000
END:DAYLIGHT
BEGIN:STANDARD
TZOFFSETFROM:-0400
TZOFFSETTO:-0500
TZNAME:EST
DTSTART:20231105T060000
END:STANDARD
BEGIN:DAYLIGHT
TZOFFSETFROM:-0500
TZOFFSETTO:-0400
TZNAME:EDT
DTSTART:20240310T070000
END:DAYLIGHT
BEGIN:STANDARD
TZOFFSETFROM:-0400
TZOFFSETTO:-0500
TZNAME:EST
DTSTART:20241103T060000
END:STANDARD
BEGIN:DAYLIGHT
TZOFFSETFROM:-0500
TZOFFSETTO:-0400
TZNAME:EDT
DTSTART:20250309T070000
END:DAYLIGHT
BEGIN:STANDARD
TZOFFSETFROM:-0400
TZOFFSETTO:-0500
TZNAME:EST
DTSTART:20251102T060000
END:STANDARD
END:VTIMEZONE
BEGIN:VEVENT
DTSTART;TZID=America/Toronto:20240920T193000
DTEND;TZID=America/Toronto:20240920T193000
DTSTAMP:20260424T083249
CREATED:20240910T180711Z
LAST-MODIFIED:20240910T180717Z
UID:10004211-1726860600-1726860600@whattoday.ca
SUMMARY:Ghost Story/How to Survive a Zombie Apocalypse
DESCRIPTION:
URL:https://whattoday.ca/event/ghost-story-how-to-survive-a-zombie-apocalypse-2/
LOCATION:Peterborough Theatre Guild\, 364 Rogers St\, Peterborough\, ON\, K9H 1W7\, Canada
CATEGORIES:Art & Theatre
ORGANIZER;CN="Peterborough Theatre Guild":MAILTO:info@peterboroughtheatreguild.com
END:VEVENT
BEGIN:VEVENT
DTSTART;TZID=America/Toronto:20240914T143000
DTEND;TZID=America/Toronto:20240914T163000
DTSTAMP:20260424T083249
CREATED:20240826T195839Z
LAST-MODIFIED:20240826T195839Z
UID:10004091-1726324200-1726331400@whattoday.ca
SUMMARY:Peterborough Theatre Guild Volunteer Appreciation
DESCRIPTION:Please RSVP to mariongriffinptg@gmail.com
URL:https://whattoday.ca/event/peterborough-theatre-guild-volunteer-appreciation/
LOCATION:Peterborough Theatre Guild\, 364 Rogers St\, Peterborough\, ON\, K9H 1W7\, Canada
CATEGORIES:More
ORGANIZER;CN="Peterborough Theatre Guild":MAILTO:info@peterboroughtheatreguild.com
END:VEVENT
END:VCALENDAR