BEGIN:VCALENDAR
VERSION:2.0
PRODID:-//WHATtoday.ca - ECPv6.15.20//NONSGML v1.0//EN
CALSCALE:GREGORIAN
METHOD:PUBLISH
X-WR-CALNAME:WHATtoday.ca
X-ORIGINAL-URL:https://whattoday.ca
X-WR-CALDESC:Events for WHATtoday.ca
REFRESH-INTERVAL;VALUE=DURATION:PT1H
X-Robots-Tag:noindex
X-PUBLISHED-TTL:PT1H
BEGIN:VTIMEZONE
TZID:America/Toronto
BEGIN:DAYLIGHT
TZOFFSETFROM:-0500
TZOFFSETTO:-0400
TZNAME:EDT
DTSTART:20250309T070000
END:DAYLIGHT
BEGIN:STANDARD
TZOFFSETFROM:-0400
TZOFFSETTO:-0500
TZNAME:EST
DTSTART:20251102T060000
END:STANDARD
BEGIN:DAYLIGHT
TZOFFSETFROM:-0500
TZOFFSETTO:-0400
TZNAME:EDT
DTSTART:20260308T070000
END:DAYLIGHT
BEGIN:STANDARD
TZOFFSETFROM:-0400
TZOFFSETTO:-0500
TZNAME:EST
DTSTART:20261101T060000
END:STANDARD
BEGIN:DAYLIGHT
TZOFFSETFROM:-0500
TZOFFSETTO:-0400
TZNAME:EDT
DTSTART:20270314T070000
END:DAYLIGHT
BEGIN:STANDARD
TZOFFSETFROM:-0400
TZOFFSETTO:-0500
TZNAME:EST
DTSTART:20271107T060000
END:STANDARD
END:VTIMEZONE
BEGIN:VEVENT
DTSTART;TZID=America/Toronto:20260315T090000
DTEND;TZID=America/Toronto:20260315T090000
DTSTAMP:20260419T091034
CREATED:20260202T151211Z
LAST-MODIFIED:20260202T151220Z
UID:10028878-1773565200-1773565200@whattoday.ca
SUMMARY:RBC Training Ground Qualifier in Peterborough
DESCRIPTION:RBC Training Ground finds and funds athletes with Olympic potential. This free national talent identification and athlete funding program gives young athletes (ages 14-25) the chance to test their speed\, power\, strength and endurance in front of official sport partners to see if they are suited for an Olympic sport. Over the first 10 years of the program\, RBC Training Ground has tested over 20\,000 athletes from across Canada in search of Olympic potential.
URL:https://whattoday.ca/event/rbc-training-ground-qualifier-in-peterborough/
LOCATION:Peterborough Sport and Wellness Centre\, 775 Brealey Dr.\, Peterborough\, ON\, K9K 0B8\, Canada
CATEGORIES:Sports
ORGANIZER;CN="RBC Training Ground":MAILTO:rbctrainingground@olympic.ca
END:VEVENT
END:VCALENDAR