BEGIN:VCALENDAR
VERSION:2.0
PRODID:-//WHATtoday.ca - ECPv6.15.20//NONSGML v1.0//EN
CALSCALE:GREGORIAN
METHOD:PUBLISH
X-WR-CALNAME:WHATtoday.ca
X-ORIGINAL-URL:https://whattoday.ca
X-WR-CALDESC:Events for WHATtoday.ca
REFRESH-INTERVAL;VALUE=DURATION:PT1H
X-Robots-Tag:noindex
X-PUBLISHED-TTL:PT1H
BEGIN:VTIMEZONE
TZID:America/Toronto
BEGIN:DAYLIGHT
TZOFFSETFROM:-0500
TZOFFSETTO:-0400
TZNAME:EDT
DTSTART:20240310T070000
END:DAYLIGHT
BEGIN:STANDARD
TZOFFSETFROM:-0400
TZOFFSETTO:-0500
TZNAME:EST
DTSTART:20241103T060000
END:STANDARD
BEGIN:DAYLIGHT
TZOFFSETFROM:-0500
TZOFFSETTO:-0400
TZNAME:EDT
DTSTART:20250309T070000
END:DAYLIGHT
BEGIN:STANDARD
TZOFFSETFROM:-0400
TZOFFSETTO:-0500
TZNAME:EST
DTSTART:20251102T060000
END:STANDARD
BEGIN:DAYLIGHT
TZOFFSETFROM:-0500
TZOFFSETTO:-0400
TZNAME:EDT
DTSTART:20260308T070000
END:DAYLIGHT
BEGIN:STANDARD
TZOFFSETFROM:-0400
TZOFFSETTO:-0500
TZNAME:EST
DTSTART:20261101T060000
END:STANDARD
END:VTIMEZONE
BEGIN:VEVENT
DTSTART;TZID=America/Toronto:20250817T090000
DTEND;TZID=America/Toronto:20250817T170000
DTSTAMP:20260424T134717
CREATED:20250717T163724Z
LAST-MODIFIED:20250717T163733Z
UID:10023686-1755421200-1755450000@whattoday.ca
SUMMARY:2025 Women's Major Series Lacrosse Provincial Tournament
DESCRIPTION:Tickets are required for entry and grant access to all games. \nFriday August 15\, 2025 \n\n11:00 AM – TBD\, Peterborough Memorial Centre\n11:00 AM – TBD\, Kinsmen Civic Centre\n12:00 PM – TBD\, Peterborough Memorial Centre\n12:00 PM – TBD\, Kinsmen Civic Centre\n2:00 PM – TBD\, Peterborough Memorial Centre\n2:00 PM – TBD\, Kinsmen Civic Centre\n3:00 PM – TBD\, Peterborough Memorial Centre\n3:00 PM – TBD\, Kinsmen Civic Centre\n5:00 PM – TBD\, Peterborough Memorial Centre\n5:00 PM – TBD\, Kinsmen Civic Centre\n\nSaturday August 16\, 2025 \n\n10:00 AM – TBD\, Peterborough Memorial Centre\n10:00 AM – TBD\, Kinsmen Civic Centre\n11:00 PM – TBD\, Peterborough Memorial Centre\n11:00 PM – TBD\, Kinsmen Civic Centre\n1:00 PM – TBD\, Peterborough Memorial Centre\n1:00 PM – TBD\, Kinsmen Civic Centre\n2:00 PM – TBD\, Peterborough Memorial Centre\n2:00 PM – TBD\, Kinsmen Civic Centre\n4:00 PM – TBD\, Peterborough Memorial Centre\n4:00 PM – TBD\, Kinsmen Civic Centre\n\nSaturday August 17\, 2025 \n\n9:00 AM – TBD\, Peterborough Memorial Centre\n10:15 AM – TBD\, Peterborough Memorial Centre\n11:30 AM – TBD\, Peterborough Memorial Centre\n12:45 PM – TBD\, Peterborough Memorial Centre\n2:15 PM – TBD\, Peterborough Memorial Centre\n4:00 PM – TBD\, Peterborough Memorial Centre
URL:https://whattoday.ca/event/2025-womens-major-series-lacrosse-provincial-tournament/2025-08-17/
CATEGORIES:Free,Sports
END:VEVENT
BEGIN:VEVENT
DTSTART;TZID=America/Toronto:20250816T100000
DTEND;TZID=America/Toronto:20250816T170000
DTSTAMP:20260424T134717
CREATED:20250717T163724Z
LAST-MODIFIED:20250717T163733Z
UID:10023685-1755338400-1755363600@whattoday.ca
SUMMARY:2025 Women's Major Series Lacrosse Provincial Tournament
DESCRIPTION:Tickets are required for entry and grant access to all games. \nFriday August 15\, 2025 \n\n11:00 AM – TBD\, Peterborough Memorial Centre\n11:00 AM – TBD\, Kinsmen Civic Centre\n12:00 PM – TBD\, Peterborough Memorial Centre\n12:00 PM – TBD\, Kinsmen Civic Centre\n2:00 PM – TBD\, Peterborough Memorial Centre\n2:00 PM – TBD\, Kinsmen Civic Centre\n3:00 PM – TBD\, Peterborough Memorial Centre\n3:00 PM – TBD\, Kinsmen Civic Centre\n5:00 PM – TBD\, Peterborough Memorial Centre\n5:00 PM – TBD\, Kinsmen Civic Centre\n\nSaturday August 16\, 2025 \n\n10:00 AM – TBD\, Peterborough Memorial Centre\n10:00 AM – TBD\, Kinsmen Civic Centre\n11:00 PM – TBD\, Peterborough Memorial Centre\n11:00 PM – TBD\, Kinsmen Civic Centre\n1:00 PM – TBD\, Peterborough Memorial Centre\n1:00 PM – TBD\, Kinsmen Civic Centre\n2:00 PM – TBD\, Peterborough Memorial Centre\n2:00 PM – TBD\, Kinsmen Civic Centre\n4:00 PM – TBD\, Peterborough Memorial Centre\n4:00 PM – TBD\, Kinsmen Civic Centre\n\nSaturday August 17\, 2025 \n\n9:00 AM – TBD\, Peterborough Memorial Centre\n10:15 AM – TBD\, Peterborough Memorial Centre\n11:30 AM – TBD\, Peterborough Memorial Centre\n12:45 PM – TBD\, Peterborough Memorial Centre\n2:15 PM – TBD\, Peterborough Memorial Centre\n4:00 PM – TBD\, Peterborough Memorial Centre
URL:https://whattoday.ca/event/2025-womens-major-series-lacrosse-provincial-tournament/2025-08-16/
CATEGORIES:Free,Sports
END:VEVENT
BEGIN:VEVENT
DTSTART;TZID=America/Toronto:20250815T110000
DTEND;TZID=America/Toronto:20250815T110000
DTSTAMP:20260424T134717
CREATED:20250717T163724Z
LAST-MODIFIED:20250717T163733Z
UID:10023684-1755255600-1755255600@whattoday.ca
SUMMARY:2025 Women's Major Series Lacrosse Provincial Tournament
DESCRIPTION:Tickets are required for entry and grant access to all games. \nFriday August 15\, 2025 \n\n11:00 AM – TBD\, Peterborough Memorial Centre\n11:00 AM – TBD\, Kinsmen Civic Centre\n12:00 PM – TBD\, Peterborough Memorial Centre\n12:00 PM – TBD\, Kinsmen Civic Centre\n2:00 PM – TBD\, Peterborough Memorial Centre\n2:00 PM – TBD\, Kinsmen Civic Centre\n3:00 PM – TBD\, Peterborough Memorial Centre\n3:00 PM – TBD\, Kinsmen Civic Centre\n5:00 PM – TBD\, Peterborough Memorial Centre\n5:00 PM – TBD\, Kinsmen Civic Centre\n\nSaturday August 16\, 2025 \n\n10:00 AM – TBD\, Peterborough Memorial Centre\n10:00 AM – TBD\, Kinsmen Civic Centre\n11:00 PM – TBD\, Peterborough Memorial Centre\n11:00 PM – TBD\, Kinsmen Civic Centre\n1:00 PM – TBD\, Peterborough Memorial Centre\n1:00 PM – TBD\, Kinsmen Civic Centre\n2:00 PM – TBD\, Peterborough Memorial Centre\n2:00 PM – TBD\, Kinsmen Civic Centre\n4:00 PM – TBD\, Peterborough Memorial Centre\n4:00 PM – TBD\, Kinsmen Civic Centre\n\nSaturday August 17\, 2025 \n\n9:00 AM – TBD\, Peterborough Memorial Centre\n10:15 AM – TBD\, Peterborough Memorial Centre\n11:30 AM – TBD\, Peterborough Memorial Centre\n12:45 PM – TBD\, Peterborough Memorial Centre\n2:15 PM – TBD\, Peterborough Memorial Centre\n4:00 PM – TBD\, Peterborough Memorial Centre
URL:https://whattoday.ca/event/2025-womens-major-series-lacrosse-provincial-tournament/2025-08-15/
CATEGORIES:Free,Sports
END:VEVENT
END:VCALENDAR