BEGIN:VCALENDAR
VERSION:2.0
PRODID:-//WHATtoday.ca - ECPv6.15.20//NONSGML v1.0//EN
CALSCALE:GREGORIAN
METHOD:PUBLISH
X-WR-CALNAME:WHATtoday.ca
X-ORIGINAL-URL:https://whattoday.ca
X-WR-CALDESC:Events for WHATtoday.ca
REFRESH-INTERVAL;VALUE=DURATION:PT1H
X-Robots-Tag:noindex
X-PUBLISHED-TTL:PT1H
BEGIN:VTIMEZONE
TZID:America/Toronto
BEGIN:DAYLIGHT
TZOFFSETFROM:-0500
TZOFFSETTO:-0400
TZNAME:EDT
DTSTART:20230312T070000
END:DAYLIGHT
BEGIN:STANDARD
TZOFFSETFROM:-0400
TZOFFSETTO:-0500
TZNAME:EST
DTSTART:20231105T060000
END:STANDARD
BEGIN:DAYLIGHT
TZOFFSETFROM:-0500
TZOFFSETTO:-0400
TZNAME:EDT
DTSTART:20240310T070000
END:DAYLIGHT
BEGIN:STANDARD
TZOFFSETFROM:-0400
TZOFFSETTO:-0500
TZNAME:EST
DTSTART:20241103T060000
END:STANDARD
BEGIN:DAYLIGHT
TZOFFSETFROM:-0500
TZOFFSETTO:-0400
TZNAME:EDT
DTSTART:20250309T070000
END:DAYLIGHT
BEGIN:STANDARD
TZOFFSETFROM:-0400
TZOFFSETTO:-0500
TZNAME:EST
DTSTART:20251102T060000
END:STANDARD
END:VTIMEZONE
BEGIN:VEVENT
DTSTART;TZID=America/Toronto:20240604T170000
DTEND;TZID=America/Toronto:20240604T210000
DTSTAMP:20260421T062438
CREATED:20240517T173416Z
LAST-MODIFIED:20240703T170038Z
UID:10002539-1717520400-1717534800@whattoday.ca
SUMMARY:Karaoke at ERBEN
DESCRIPTION:
URL:https://whattoday.ca/event/karaoke-at-erben/2024-06-04/
LOCATION:ERBEN\, 379 George St N\, Peterborough\, ON\, K9H 3R2\, Canada
CATEGORIES:Food & Beverage,More
ORGANIZER;CN="ERBEN":MAILTO:info@erbenptbo.com
END:VEVENT
BEGIN:VEVENT
DTSTART;TZID=America/Toronto:20240528T170000
DTEND;TZID=America/Toronto:20240528T210000
DTSTAMP:20260421T062438
CREATED:20240517T173416Z
LAST-MODIFIED:20240703T170038Z
UID:10002538-1716915600-1716930000@whattoday.ca
SUMMARY:Karaoke at ERBEN
DESCRIPTION:
URL:https://whattoday.ca/event/karaoke-at-erben/2024-05-28/
LOCATION:ERBEN\, 379 George St N\, Peterborough\, ON\, K9H 3R2\, Canada
CATEGORIES:Food & Beverage,More
ORGANIZER;CN="ERBEN":MAILTO:info@erbenptbo.com
END:VEVENT
BEGIN:VEVENT
DTSTART;TZID=America/Toronto:20240521T170000
DTEND;TZID=America/Toronto:20240521T210000
DTSTAMP:20260421T062438
CREATED:20240517T173416Z
LAST-MODIFIED:20240703T170038Z
UID:10002537-1716310800-1716325200@whattoday.ca
SUMMARY:Karaoke at ERBEN
DESCRIPTION:
URL:https://whattoday.ca/event/karaoke-at-erben/2024-05-21/
LOCATION:ERBEN\, 379 George St N\, Peterborough\, ON\, K9H 3R2\, Canada
CATEGORIES:Food & Beverage,More
ORGANIZER;CN="ERBEN":MAILTO:info@erbenptbo.com
END:VEVENT
END:VCALENDAR