BEGIN:VCALENDAR
VERSION:2.0
PRODID:-//WHATtoday.ca - ECPv6.15.20//NONSGML v1.0//EN
CALSCALE:GREGORIAN
METHOD:PUBLISH
X-WR-CALNAME:WHATtoday.ca
X-ORIGINAL-URL:https://whattoday.ca
X-WR-CALDESC:Events for WHATtoday.ca
REFRESH-INTERVAL;VALUE=DURATION:PT1H
X-Robots-Tag:noindex
X-PUBLISHED-TTL:PT1H
BEGIN:VTIMEZONE
TZID:America/Toronto
BEGIN:DAYLIGHT
TZOFFSETFROM:-0500
TZOFFSETTO:-0400
TZNAME:EDT
DTSTART:20230312T070000
END:DAYLIGHT
BEGIN:STANDARD
TZOFFSETFROM:-0400
TZOFFSETTO:-0500
TZNAME:EST
DTSTART:20231105T060000
END:STANDARD
BEGIN:DAYLIGHT
TZOFFSETFROM:-0500
TZOFFSETTO:-0400
TZNAME:EDT
DTSTART:20240310T070000
END:DAYLIGHT
BEGIN:STANDARD
TZOFFSETFROM:-0400
TZOFFSETTO:-0500
TZNAME:EST
DTSTART:20241103T060000
END:STANDARD
BEGIN:DAYLIGHT
TZOFFSETFROM:-0500
TZOFFSETTO:-0400
TZNAME:EDT
DTSTART:20250309T070000
END:DAYLIGHT
BEGIN:STANDARD
TZOFFSETFROM:-0400
TZOFFSETTO:-0500
TZNAME:EST
DTSTART:20251102T060000
END:STANDARD
END:VTIMEZONE
BEGIN:VEVENT
DTSTART;TZID=America/Toronto:20240806T150000
DTEND;TZID=America/Toronto:20240806T150000
DTSTAMP:20260419T104353
CREATED:20240405T224733Z
LAST-MODIFIED:20240612T222907Z
UID:10003404-1722956400-1722956400@whattoday.ca
SUMMARY:Billy Talent with Special Guests Crown Lands & NOBRO
DESCRIPTION:
URL:https://whattoday.ca/event/billy-talent-with-special-guests-crown-lands-nobro/
LOCATION:Peterborough Memorial Centre\, 151 Lansdowne Street West\, Peterborough\, Ontario\, K9J 1Y4\, Canada
CATEGORIES:Entertainment
END:VEVENT
BEGIN:VEVENT
DTSTART;TZID=America/Toronto:20240711T160000
DTEND;TZID=America/Toronto:20240711T160000
DTSTAMP:20260419T104353
CREATED:20240501T001654Z
LAST-MODIFIED:20240501T001654Z
UID:10002384-1720713600-1720713600@whattoday.ca
SUMMARY:Century 21 Lakers VS Brampton
DESCRIPTION:
URL:https://whattoday.ca/event/century-21-lakers-vs-brampton/
LOCATION:Peterborough Memorial Centre\, 151 Lansdowne Street West\, Peterborough\, Ontario\, K9J 1Y4\, Canada
CATEGORIES:Family,Sports
END:VEVENT
BEGIN:VEVENT
DTSTART;TZID=America/Toronto:20240704T160000
DTEND;TZID=America/Toronto:20240704T160000
DTSTAMP:20260419T104353
CREATED:20240501T001551Z
LAST-MODIFIED:20240501T001551Z
UID:10002383-1720108800-1720108800@whattoday.ca
SUMMARY:Century 21 Lakers VS Cobourg
DESCRIPTION:
URL:https://whattoday.ca/event/century-21-lakers-vs-cobourg/
LOCATION:Peterborough Memorial Centre\, 151 Lansdowne Street West\, Peterborough\, Ontario\, K9J 1Y4\, Canada
CATEGORIES:Family,Sports
END:VEVENT
BEGIN:VEVENT
DTSTART;TZID=America/Toronto:20240629T040000
DTEND;TZID=America/Toronto:20240629T160000
DTSTAMP:20260419T104353
CREATED:20240613T181910Z
LAST-MODIFIED:20240613T181910Z
UID:10003409-1719633600-1719676800@whattoday.ca
SUMMARY:Lacrosse Day for our Champions
DESCRIPTION:All in support of Special Olympics Peterborough & Special Olympic Local High School Programs
URL:https://whattoday.ca/event/lacrosse-day-for-our-champions/
LOCATION:Peterborough Memorial Centre\, 151 Lansdowne Street West\, Peterborough\, Ontario\, K9J 1Y4\, Canada
CATEGORIES:Sports
ORGANIZER;CN="Ernie Ellement":MAILTO:mr_ellement@hotmail.com
END:VEVENT
BEGIN:VEVENT
DTSTART;TZID=America/Toronto:20240627T040000
DTEND;TZID=America/Toronto:20240627T130000
DTSTAMP:20260419T104353
CREATED:20240501T001450Z
LAST-MODIFIED:20240501T001450Z
UID:10002382-1719460800-1719493200@whattoday.ca
SUMMARY:Century 21 Lakers VS Six Nations
DESCRIPTION:
URL:https://whattoday.ca/event/century-21-lakers-vs-six-nations/
LOCATION:Peterborough Memorial Centre\, 151 Lansdowne Street West\, Peterborough\, Ontario\, K9J 1Y4\, Canada
CATEGORIES:Family,Sports
END:VEVENT
BEGIN:VEVENT
DTSTART;TZID=America/Toronto:20240625T160000
DTEND;TZID=America/Toronto:20240625T160000
DTSTAMP:20260419T104353
CREATED:20240501T001334Z
LAST-MODIFIED:20240501T001334Z
UID:10002381-1719331200-1719331200@whattoday.ca
SUMMARY:Century 21 Lakers VS Owen Sound
DESCRIPTION:
URL:https://whattoday.ca/event/century-21-lakers-vs-owen-sound/
LOCATION:Peterborough Memorial Centre\, 151 Lansdowne Street West\, Peterborough\, Ontario\, K9J 1Y4\, Canada
CATEGORIES:Family,Sports
END:VEVENT
BEGIN:VEVENT
DTSTART;TZID=America/Toronto:20240620T160000
DTEND;TZID=America/Toronto:20240620T160000
DTSTAMP:20260419T104353
CREATED:20240501T001235Z
LAST-MODIFIED:20240501T001235Z
UID:10002380-1718899200-1718899200@whattoday.ca
SUMMARY:Century 21 Lakers VS Oakville
DESCRIPTION:
URL:https://whattoday.ca/event/century-21-lakers-vs-oakville/
LOCATION:Peterborough Memorial Centre\, 151 Lansdowne Street West\, Peterborough\, Ontario\, K9J 1Y4\, Canada
CATEGORIES:Family,Sports
END:VEVENT
BEGIN:VEVENT
DTSTART;TZID=America/Toronto:20240613T160000
DTEND;TZID=America/Toronto:20240613T160000
DTSTAMP:20260419T104353
CREATED:20240501T001135Z
LAST-MODIFIED:20240501T001952Z
UID:10002385-1718294400-1718294400@whattoday.ca
SUMMARY:Century 21 Lakers VS Brooklin
DESCRIPTION:
URL:https://whattoday.ca/event/century-21-lakers-vs-brooklin/
LOCATION:Peterborough Memorial Centre\, 151 Lansdowne Street West\, Peterborough\, Ontario\, K9J 1Y4\, Canada
CATEGORIES:Family,Sports
END:VEVENT
END:VCALENDAR