BEGIN:VCALENDAR
VERSION:2.0
PRODID:-//WHATtoday.ca - ECPv6.15.20//NONSGML v1.0//EN
CALSCALE:GREGORIAN
METHOD:PUBLISH
X-WR-CALNAME:WHATtoday.ca
X-ORIGINAL-URL:https://whattoday.ca
X-WR-CALDESC:Events for WHATtoday.ca
REFRESH-INTERVAL;VALUE=DURATION:PT1H
X-Robots-Tag:noindex
X-PUBLISHED-TTL:PT1H
BEGIN:VTIMEZONE
TZID:America/Toronto
BEGIN:DAYLIGHT
TZOFFSETFROM:-0500
TZOFFSETTO:-0400
TZNAME:EDT
DTSTART:20240310T070000
END:DAYLIGHT
BEGIN:STANDARD
TZOFFSETFROM:-0400
TZOFFSETTO:-0500
TZNAME:EST
DTSTART:20241103T060000
END:STANDARD
BEGIN:DAYLIGHT
TZOFFSETFROM:-0500
TZOFFSETTO:-0400
TZNAME:EDT
DTSTART:20250309T070000
END:DAYLIGHT
BEGIN:STANDARD
TZOFFSETFROM:-0400
TZOFFSETTO:-0500
TZNAME:EST
DTSTART:20251102T060000
END:STANDARD
BEGIN:DAYLIGHT
TZOFFSETFROM:-0500
TZOFFSETTO:-0400
TZNAME:EDT
DTSTART:20260308T070000
END:DAYLIGHT
BEGIN:STANDARD
TZOFFSETFROM:-0400
TZOFFSETTO:-0500
TZNAME:EST
DTSTART:20261101T060000
END:STANDARD
END:VTIMEZONE
BEGIN:VEVENT
DTSTART;TZID=America/Toronto:20250925T090000
DTEND;TZID=America/Toronto:20250925T094500
DTSTAMP:20260419T081536
CREATED:20250902T124322Z
LAST-MODIFIED:20250902T190812Z
UID:10025580-1758790800-1758793500@whattoday.ca
SUMMARY:Baby & Me Aquafit
DESCRIPTION:Join us for Baby & Me Aquafit! It is a fun low-impact guided workout in the therapy pool designed for caregivers and their little ones. Enjoy muscle-conditioning exercises that use both the water and your baby for resistance\, helping to build strength and core-stability while being gentle on the joints. Babies love the soothing water\, and caregivers benefit from a supportive\, social environment.
URL:https://whattoday.ca/event/baby-me-aquafit/2025-09-25/
LOCATION:Peterborough Sport and Wellness Centre\, 775 Brealey Dr.\, Peterborough\, ON\, K9K 0B8\, Canada
CATEGORIES:Family,Sports
END:VEVENT
BEGIN:VEVENT
DTSTART;TZID=America/Toronto:20250919T060000
DTEND;TZID=America/Toronto:20250919T230000
DTSTAMP:20260419T081536
CREATED:20250910T172924Z
LAST-MODIFIED:20250910T173351Z
UID:10026601-1758261600-1758322800@whattoday.ca
SUMMARY:September Open House Week at Peterborough Sport & Wellness Centre
DESCRIPTION:Join Us for Our September Open House!\nFree Activities & Programs – All Week Long \nCome check out our September Open House\, with a full week of free drop-in activities and programs for everyone to stop in and try! It’s a great chance to explore what’s happening in your community — no registration needed. \n User Appreciation Day – Wednesday\, September 17\nEnjoy light refreshments all day\, including coffee\, water\, and fruit\, as our way of saying thank you! \nCome in\, get involved\, and see what we’re all about — we’d love to see you!
URL:https://whattoday.ca/event/september-open-house-week-at-peterborough-sport-wellness-centre/2025-09-19/
LOCATION:Peterborough Sport and Wellness Centre\, 775 Brealey Dr.\, Peterborough\, ON\, K9K 0B8\, Canada
CATEGORIES:Family,Free,Sports
END:VEVENT
BEGIN:VEVENT
DTSTART;TZID=America/Toronto:20250918T090000
DTEND;TZID=America/Toronto:20250918T094500
DTSTAMP:20260419T081536
CREATED:20250902T124322Z
LAST-MODIFIED:20250902T190812Z
UID:10025540-1758186000-1758188700@whattoday.ca
SUMMARY:Baby & Me Aquafit
DESCRIPTION:Join us for Baby & Me Aquafit! It is a fun low-impact guided workout in the therapy pool designed for caregivers and their little ones. Enjoy muscle-conditioning exercises that use both the water and your baby for resistance\, helping to build strength and core-stability while being gentle on the joints. Babies love the soothing water\, and caregivers benefit from a supportive\, social environment.
URL:https://whattoday.ca/event/baby-me-aquafit/2025-09-18/
LOCATION:Peterborough Sport and Wellness Centre\, 775 Brealey Dr.\, Peterborough\, ON\, K9K 0B8\, Canada
CATEGORIES:Family,Sports
END:VEVENT
BEGIN:VEVENT
DTSTART;TZID=America/Toronto:20250918T060000
DTEND;TZID=America/Toronto:20250918T230000
DTSTAMP:20260419T081536
CREATED:20250910T172924Z
LAST-MODIFIED:20250910T173351Z
UID:10026600-1758175200-1758236400@whattoday.ca
SUMMARY:September Open House Week at Peterborough Sport & Wellness Centre
DESCRIPTION:Join Us for Our September Open House!\nFree Activities & Programs – All Week Long \nCome check out our September Open House\, with a full week of free drop-in activities and programs for everyone to stop in and try! It’s a great chance to explore what’s happening in your community — no registration needed. \n User Appreciation Day – Wednesday\, September 17\nEnjoy light refreshments all day\, including coffee\, water\, and fruit\, as our way of saying thank you! \nCome in\, get involved\, and see what we’re all about — we’d love to see you!
URL:https://whattoday.ca/event/september-open-house-week-at-peterborough-sport-wellness-centre/2025-09-18/
LOCATION:Peterborough Sport and Wellness Centre\, 775 Brealey Dr.\, Peterborough\, ON\, K9K 0B8\, Canada
CATEGORIES:Family,Free,Sports
END:VEVENT
BEGIN:VEVENT
DTSTART;TZID=America/Toronto:20250917T060000
DTEND;TZID=America/Toronto:20250917T230000
DTSTAMP:20260419T081536
CREATED:20250910T172924Z
LAST-MODIFIED:20250910T173351Z
UID:10026599-1758088800-1758150000@whattoday.ca
SUMMARY:September Open House Week at Peterborough Sport & Wellness Centre
DESCRIPTION:Join Us for Our September Open House!\nFree Activities & Programs – All Week Long \nCome check out our September Open House\, with a full week of free drop-in activities and programs for everyone to stop in and try! It’s a great chance to explore what’s happening in your community — no registration needed. \n User Appreciation Day – Wednesday\, September 17\nEnjoy light refreshments all day\, including coffee\, water\, and fruit\, as our way of saying thank you! \nCome in\, get involved\, and see what we’re all about — we’d love to see you!
URL:https://whattoday.ca/event/september-open-house-week-at-peterborough-sport-wellness-centre/2025-09-17/
LOCATION:Peterborough Sport and Wellness Centre\, 775 Brealey Dr.\, Peterborough\, ON\, K9K 0B8\, Canada
CATEGORIES:Family,Free,Sports
END:VEVENT
BEGIN:VEVENT
DTSTART;TZID=America/Toronto:20250916T060000
DTEND;TZID=America/Toronto:20250916T230000
DTSTAMP:20260419T081536
CREATED:20250910T172924Z
LAST-MODIFIED:20250910T173351Z
UID:10026598-1758002400-1758063600@whattoday.ca
SUMMARY:September Open House Week at Peterborough Sport & Wellness Centre
DESCRIPTION:Join Us for Our September Open House!\nFree Activities & Programs – All Week Long \nCome check out our September Open House\, with a full week of free drop-in activities and programs for everyone to stop in and try! It’s a great chance to explore what’s happening in your community — no registration needed. \n User Appreciation Day – Wednesday\, September 17\nEnjoy light refreshments all day\, including coffee\, water\, and fruit\, as our way of saying thank you! \nCome in\, get involved\, and see what we’re all about — we’d love to see you!
URL:https://whattoday.ca/event/september-open-house-week-at-peterborough-sport-wellness-centre/2025-09-16/
LOCATION:Peterborough Sport and Wellness Centre\, 775 Brealey Dr.\, Peterborough\, ON\, K9K 0B8\, Canada
CATEGORIES:Family,Free,Sports
END:VEVENT
BEGIN:VEVENT
DTSTART;TZID=America/Toronto:20250915T060000
DTEND;TZID=America/Toronto:20250915T230000
DTSTAMP:20260419T081536
CREATED:20250910T172924Z
LAST-MODIFIED:20250910T173351Z
UID:10026597-1757916000-1757977200@whattoday.ca
SUMMARY:September Open House Week at Peterborough Sport & Wellness Centre
DESCRIPTION:Join Us for Our September Open House!\nFree Activities & Programs – All Week Long \nCome check out our September Open House\, with a full week of free drop-in activities and programs for everyone to stop in and try! It’s a great chance to explore what’s happening in your community — no registration needed. \n User Appreciation Day – Wednesday\, September 17\nEnjoy light refreshments all day\, including coffee\, water\, and fruit\, as our way of saying thank you! \nCome in\, get involved\, and see what we’re all about — we’d love to see you!
URL:https://whattoday.ca/event/september-open-house-week-at-peterborough-sport-wellness-centre/2025-09-15/
LOCATION:Peterborough Sport and Wellness Centre\, 775 Brealey Dr.\, Peterborough\, ON\, K9K 0B8\, Canada
CATEGORIES:Family,Free,Sports
END:VEVENT
BEGIN:VEVENT
DTSTART;TZID=America/Toronto:20250618T090000
DTEND;TZID=America/Toronto:20250618T160000
DTSTAMP:20260419T081536
CREATED:20250313T174404Z
LAST-MODIFIED:20250313T174404Z
UID:10009905-1750237200-1750262400@whattoday.ca
SUMMARY:Living Well Senior Showcase
DESCRIPTION:
URL:https://whattoday.ca/event/living-well-senior-showcase/
LOCATION:Peterborough Sport and Wellness Centre\, 775 Brealey Dr.\, Peterborough\, ON\, K9K 0B8\, Canada
CATEGORIES:Business,Seniors
ORGANIZER;CN="Peterborough Kawartha Chamber of Commerce":MAILTO:info@pkchamber.ca
END:VEVENT
BEGIN:VEVENT
DTSTART;TZID=America/Toronto:20250605T100000
DTEND;TZID=America/Toronto:20250605T100000
DTSTAMP:20260419T081536
CREATED:20250603T190605Z
LAST-MODIFIED:20250603T190612Z
UID:10020072-1749117600-1749117600@whattoday.ca
SUMMARY:Celebrating 20 years of the Peterborough Sport and Wellness Centre
DESCRIPTION:
URL:https://whattoday.ca/event/celebrating-20-years-of-the-peterborough-sport-and-wellness-centre/
LOCATION:Peterborough Sport and Wellness Centre\, 775 Brealey Dr.\, Peterborough\, ON\, K9K 0B8\, Canada
CATEGORIES:More
ORGANIZER;CN="City of Peterborough":MAILTO:rec@peterborough.ca
END:VEVENT
BEGIN:VEVENT
DTSTART;TZID=America/Toronto:20250307T184500
DTEND;TZID=America/Toronto:20250307T194500
DTSTAMP:20260419T081536
CREATED:20250305T165057Z
LAST-MODIFIED:20250305T165057Z
UID:10009837-1741373100-1741376700@whattoday.ca
SUMMARY:Michelle Ferreri 3rd Annual Free Family Fun Swim
DESCRIPTION:
URL:https://whattoday.ca/event/michelle-ferreri-3rd-annual-free-family-fun-swim/
LOCATION:Peterborough Sport and Wellness Centre\, 775 Brealey Dr.\, Peterborough\, ON\, K9K 0B8\, Canada
CATEGORIES:Family,Free,Kids
END:VEVENT
BEGIN:VEVENT
DTSTART;TZID=America/Toronto:20250217T114500
DTEND;TZID=America/Toronto:20250217T134500
DTSTAMP:20260419T081536
CREATED:20250213T204303Z
LAST-MODIFIED:20250213T204303Z
UID:10009750-1739792700-1739799900@whattoday.ca
SUMMARY:Snofest 2025 - Drop-in Sports: Basketball
DESCRIPTION:2025 Snofest Activity Guide
URL:https://whattoday.ca/event/snofest-2025-drop-in-sports-basketball/
LOCATION:Peterborough Sport and Wellness Centre\, 775 Brealey Dr.\, Peterborough\, ON\, K9K 0B8\, Canada
CATEGORIES:Family,Free,More,Sports
ORGANIZER;CN="City of Peterborough":MAILTO:rec@peterborough.ca
END:VEVENT
BEGIN:VEVENT
DTSTART;TZID=America/Toronto:20250217T093000
DTEND;TZID=America/Toronto:20250217T110000
DTSTAMP:20260419T081536
CREATED:20250213T204231Z
LAST-MODIFIED:20250213T204231Z
UID:10009749-1739784600-1739790000@whattoday.ca
SUMMARY:Snofest 2025 - Drop-in Sports: Badminton
DESCRIPTION:2025 Snofest Activity Guide
URL:https://whattoday.ca/event/snofest-2025-drop-in-sports-badminton/
LOCATION:Peterborough Sport and Wellness Centre\, 775 Brealey Dr.\, Peterborough\, ON\, K9K 0B8\, Canada
CATEGORIES:Family,Free,More,Sports
ORGANIZER;CN="City of Peterborough":MAILTO:rec@peterborough.ca
END:VEVENT
BEGIN:VEVENT
DTSTART;TZID=America/Toronto:20250217T061500
DTEND;TZID=America/Toronto:20250217T090000
DTSTAMP:20260419T081536
CREATED:20250213T204207Z
LAST-MODIFIED:20250213T204207Z
UID:10009748-1739772900-1739782800@whattoday.ca
SUMMARY:Snofest 2025 - Drop-in Sports: Pickleball
DESCRIPTION:2025 Snofest Activity Guide
URL:https://whattoday.ca/event/snofest-2025-drop-in-sports-pickleball/
LOCATION:Peterborough Sport and Wellness Centre\, 775 Brealey Dr.\, Peterborough\, ON\, K9K 0B8\, Canada
CATEGORIES:Family,Free,More,Sports
ORGANIZER;CN="City of Peterborough":MAILTO:rec@peterborough.ca
END:VEVENT
BEGIN:VEVENT
DTSTART;TZID=America/Toronto:20250216T070000
DTEND;TZID=America/Toronto:20250216T110000
DTSTAMP:20260419T081536
CREATED:20250213T203954Z
LAST-MODIFIED:20250213T203954Z
UID:10009746-1739689200-1739703600@whattoday.ca
SUMMARY:Snofest 2025 - Mayor's Pancake Breakfast
DESCRIPTION:2025 Snofest Activity Guide
URL:https://whattoday.ca/event/snofest-2025-mayors-pancake-breakfast/
LOCATION:Peterborough Sport and Wellness Centre\, 775 Brealey Dr.\, Peterborough\, ON\, K9K 0B8\, Canada
CATEGORIES:Family,Food & Beverage,Free,Kids,More
ORGANIZER;CN="City of Peterborough":MAILTO:rec@peterborough.ca
END:VEVENT
BEGIN:VEVENT
DTSTART;TZID=America/Toronto:20250214T184500
DTEND;TZID=America/Toronto:20250214T194500
DTSTAMP:20260419T081536
CREATED:20250213T203515Z
LAST-MODIFIED:20250213T203515Z
UID:10009741-1739558700-1739562300@whattoday.ca
SUMMARY:Snofest 2025 - Free Family Swim
DESCRIPTION:2025 Snofest Activity Guide
URL:https://whattoday.ca/event/snofest-2025-free-family-swim/
LOCATION:Peterborough Sport and Wellness Centre\, 775 Brealey Dr.\, Peterborough\, ON\, K9K 0B8\, Canada
CATEGORIES:Family,Free,More
ORGANIZER;CN="City of Peterborough":MAILTO:rec@peterborough.ca
END:VEVENT
BEGIN:VEVENT
DTSTART;TZID=America/Toronto:20250120T184500
DTEND;TZID=America/Toronto:20250120T193000
DTSTAMP:20260419T081536
CREATED:20250106T162120Z
LAST-MODIFIED:20250106T162120Z
UID:10007358-1737398700-1737401400@whattoday.ca
SUMMARY:Drop in: Aquafitness - Combo Age 12+
DESCRIPTION:
URL:https://whattoday.ca/event/drop-in-aquafitness-combo-age-12-29/
LOCATION:Peterborough Sport and Wellness Centre\, 775 Brealey Dr.\, Peterborough\, ON\, K9K 0B8\, Canada
CATEGORIES:More,Sports
ORGANIZER;CN="City of Peterborough":MAILTO:rec@peterborough.ca
END:VEVENT
BEGIN:VEVENT
DTSTART;TZID=America/Toronto:20250120T094500
DTEND;TZID=America/Toronto:20250120T103000
DTSTAMP:20260419T081536
CREATED:20250106T163235Z
LAST-MODIFIED:20250106T163235Z
UID:10007375-1737366300-1737369000@whattoday.ca
SUMMARY:Drop in: Gentle Aqua - Age 12+
DESCRIPTION:
URL:https://whattoday.ca/event/drop-in-gentle-aqua-age-12-17/
LOCATION:Peterborough Sport and Wellness Centre\, 775 Brealey Dr.\, Peterborough\, ON\, K9K 0B8\, Canada
CATEGORIES:More
ORGANIZER;CN="City of Peterborough":MAILTO:rec@peterborough.ca
END:VEVENT
BEGIN:VEVENT
DTSTART;TZID=America/Toronto:20250120T090000
DTEND;TZID=America/Toronto:20250120T094500
DTSTAMP:20260419T081536
CREATED:20250106T163250Z
LAST-MODIFIED:20250106T163250Z
UID:10007376-1737363600-1737366300@whattoday.ca
SUMMARY:Drop in: Gentle Aqua - Age 12+
DESCRIPTION:
URL:https://whattoday.ca/event/drop-in-gentle-aqua-age-12-18/
LOCATION:Peterborough Sport and Wellness Centre\, 775 Brealey Dr.\, Peterborough\, ON\, K9K 0B8\, Canada
CATEGORIES:More
ORGANIZER;CN="City of Peterborough":MAILTO:rec@peterborough.ca
END:VEVENT
BEGIN:VEVENT
DTSTART;TZID=America/Toronto:20250120T090000
DTEND;TZID=America/Toronto:20250120T094500
DTSTAMP:20260419T081536
CREATED:20250106T161733Z
LAST-MODIFIED:20250106T161733Z
UID:10007350-1737363600-1737366300@whattoday.ca
SUMMARY:Drop in: Aquafitness - Combo Age 12+
DESCRIPTION:
URL:https://whattoday.ca/event/drop-in-aquafitness-combo-age-12-21/
LOCATION:Peterborough Sport and Wellness Centre\, 775 Brealey Dr.\, Peterborough\, ON\, K9K 0B8\, Canada
CATEGORIES:More,Sports
ORGANIZER;CN="City of Peterborough":MAILTO:rec@peterborough.ca
END:VEVENT
BEGIN:VEVENT
DTSTART;TZID=America/Toronto:20250120T081500
DTEND;TZID=America/Toronto:20250120T090000
DTSTAMP:20260419T081536
CREATED:20250106T161456Z
LAST-MODIFIED:20250106T161456Z
UID:10007342-1737360900-1737363600@whattoday.ca
SUMMARY:Drop in: Aquafitness - Combo Age 12+
DESCRIPTION:
URL:https://whattoday.ca/event/drop-in-aquafitness-combo-age-12-13/
LOCATION:Peterborough Sport and Wellness Centre\, 775 Brealey Dr.\, Peterborough\, ON\, K9K 0B8\, Canada
CATEGORIES:More,Sports
ORGANIZER;CN="City of Peterborough":MAILTO:rec@peterborough.ca
END:VEVENT
BEGIN:VEVENT
DTSTART;TZID=America/Toronto:20250119T080000
DTEND;TZID=America/Toronto:20250119T084500
DTSTAMP:20260419T081536
CREATED:20250106T161917Z
LAST-MODIFIED:20250106T161917Z
UID:10007354-1737273600-1737276300@whattoday.ca
SUMMARY:Drop in: Aquafitness - Combo Age 12+
DESCRIPTION:
URL:https://whattoday.ca/event/drop-in-aquafitness-combo-age-12-25/
LOCATION:Peterborough Sport and Wellness Centre\, 775 Brealey Dr.\, Peterborough\, ON\, K9K 0B8\, Canada
CATEGORIES:More,Sports
ORGANIZER;CN="City of Peterborough":MAILTO:rec@peterborough.ca
END:VEVENT
BEGIN:VEVENT
DTSTART;TZID=America/Toronto:20250118T080000
DTEND;TZID=America/Toronto:20250118T084500
DTSTAMP:20260419T081536
CREATED:20250106T161850Z
LAST-MODIFIED:20250106T161850Z
UID:10007353-1737187200-1737189900@whattoday.ca
SUMMARY:Drop in: Aquafitness - Combo Age 12+
DESCRIPTION:
URL:https://whattoday.ca/event/drop-in-aquafitness-combo-age-12-24/
LOCATION:Peterborough Sport and Wellness Centre\, 775 Brealey Dr.\, Peterborough\, ON\, K9K 0B8\, Canada
CATEGORIES:More,Sports
ORGANIZER;CN="City of Peterborough":MAILTO:rec@peterborough.ca
END:VEVENT
BEGIN:VEVENT
DTSTART;TZID=America/Toronto:20250117T094500
DTEND;TZID=America/Toronto:20250117T103000
DTSTAMP:20260419T081536
CREATED:20250106T163218Z
LAST-MODIFIED:20250106T163218Z
UID:10007374-1737107100-1737109800@whattoday.ca
SUMMARY:Drop in: Gentle Aqua - Age 12+
DESCRIPTION:
URL:https://whattoday.ca/event/drop-in-gentle-aqua-age-12-16/
LOCATION:Peterborough Sport and Wellness Centre\, 775 Brealey Dr.\, Peterborough\, ON\, K9K 0B8\, Canada
CATEGORIES:More
ORGANIZER;CN="City of Peterborough":MAILTO:rec@peterborough.ca
END:VEVENT
BEGIN:VEVENT
DTSTART;TZID=America/Toronto:20250117T090000
DTEND;TZID=America/Toronto:20250117T094500
DTSTAMP:20260419T081536
CREATED:20250106T163156Z
LAST-MODIFIED:20250106T163156Z
UID:10007373-1737104400-1737107100@whattoday.ca
SUMMARY:Drop in: Gentle Aqua - Age 12+
DESCRIPTION:
URL:https://whattoday.ca/event/drop-in-gentle-aqua-age-12-15/
LOCATION:Peterborough Sport and Wellness Centre\, 775 Brealey Dr.\, Peterborough\, ON\, K9K 0B8\, Canada
CATEGORIES:More
ORGANIZER;CN="City of Peterborough":MAILTO:rec@peterborough.ca
END:VEVENT
BEGIN:VEVENT
DTSTART;TZID=America/Toronto:20250117T090000
DTEND;TZID=America/Toronto:20250117T094500
DTSTAMP:20260419T081536
CREATED:20250106T161717Z
LAST-MODIFIED:20250106T161717Z
UID:10007349-1737104400-1737107100@whattoday.ca
SUMMARY:Drop in: Aquafitness - Combo Age 12+
DESCRIPTION:
URL:https://whattoday.ca/event/drop-in-aquafitness-combo-age-12-20/
LOCATION:Peterborough Sport and Wellness Centre\, 775 Brealey Dr.\, Peterborough\, ON\, K9K 0B8\, Canada
CATEGORIES:More,Sports
ORGANIZER;CN="City of Peterborough":MAILTO:rec@peterborough.ca
END:VEVENT
BEGIN:VEVENT
DTSTART;TZID=America/Toronto:20250117T081500
DTEND;TZID=America/Toronto:20250117T090000
DTSTAMP:20260419T081536
CREATED:20250106T161440Z
LAST-MODIFIED:20250106T161440Z
UID:10007341-1737101700-1737104400@whattoday.ca
SUMMARY:Drop in: Aquafitness - Combo Age 12+
DESCRIPTION:
URL:https://whattoday.ca/event/drop-in-aquafitness-combo-age-12-12/
LOCATION:Peterborough Sport and Wellness Centre\, 775 Brealey Dr.\, Peterborough\, ON\, K9K 0B8\, Canada
CATEGORIES:More,Sports
ORGANIZER;CN="City of Peterborough":MAILTO:rec@peterborough.ca
END:VEVENT
BEGIN:VEVENT
DTSTART;TZID=America/Toronto:20250116T190000
DTEND;TZID=America/Toronto:20250116T194500
DTSTAMP:20260419T081536
CREATED:20250106T162100Z
LAST-MODIFIED:20250106T162100Z
UID:10007357-1737054000-1737056700@whattoday.ca
SUMMARY:Drop in: Aquafitness - Combo Age 12+
DESCRIPTION:
URL:https://whattoday.ca/event/drop-in-aquafitness-combo-age-12-28/
LOCATION:Peterborough Sport and Wellness Centre\, 775 Brealey Dr.\, Peterborough\, ON\, K9K 0B8\, Canada
CATEGORIES:More,Sports
ORGANIZER;CN="City of Peterborough":MAILTO:rec@peterborough.ca
END:VEVENT
BEGIN:VEVENT
DTSTART;TZID=America/Toronto:20250116T090000
DTEND;TZID=America/Toronto:20250116T094500
DTSTAMP:20260419T081536
CREATED:20250106T163141Z
LAST-MODIFIED:20250106T163141Z
UID:10007372-1737018000-1737020700@whattoday.ca
SUMMARY:Drop in: Gentle Aqua - Age 12+
DESCRIPTION:
URL:https://whattoday.ca/event/drop-in-gentle-aqua-age-12-14/
LOCATION:Peterborough Sport and Wellness Centre\, 775 Brealey Dr.\, Peterborough\, ON\, K9K 0B8\, Canada
CATEGORIES:More
ORGANIZER;CN="City of Peterborough":MAILTO:rec@peterborough.ca
END:VEVENT
BEGIN:VEVENT
DTSTART;TZID=America/Toronto:20250116T090000
DTEND;TZID=America/Toronto:20250116T094500
DTSTAMP:20260419T081536
CREATED:20250106T161704Z
LAST-MODIFIED:20250106T161704Z
UID:10007348-1737018000-1737020700@whattoday.ca
SUMMARY:Drop in: Aquafitness - Combo Age 12+
DESCRIPTION:
URL:https://whattoday.ca/event/drop-in-aquafitness-combo-age-12-19/
LOCATION:Peterborough Sport and Wellness Centre\, 775 Brealey Dr.\, Peterborough\, ON\, K9K 0B8\, Canada
CATEGORIES:More,Sports
ORGANIZER;CN="City of Peterborough":MAILTO:rec@peterborough.ca
END:VEVENT
BEGIN:VEVENT
DTSTART;TZID=America/Toronto:20250116T081500
DTEND;TZID=America/Toronto:20250116T090000
DTSTAMP:20260419T081536
CREATED:20250106T161426Z
LAST-MODIFIED:20250106T161426Z
UID:10007340-1737015300-1737018000@whattoday.ca
SUMMARY:Drop in: Aquafitness - Combo Age 12+
DESCRIPTION:
URL:https://whattoday.ca/event/drop-in-aquafitness-combo-age-12-11/
LOCATION:Peterborough Sport and Wellness Centre\, 775 Brealey Dr.\, Peterborough\, ON\, K9K 0B8\, Canada
CATEGORIES:More,Sports
ORGANIZER;CN="City of Peterborough":MAILTO:rec@peterborough.ca
END:VEVENT
END:VCALENDAR