BEGIN:VCALENDAR
VERSION:2.0
PRODID:-//WHATtoday.ca - ECPv6.15.20//NONSGML v1.0//EN
CALSCALE:GREGORIAN
METHOD:PUBLISH
X-WR-CALNAME:WHATtoday.ca
X-ORIGINAL-URL:https://whattoday.ca
X-WR-CALDESC:Events for WHATtoday.ca
REFRESH-INTERVAL;VALUE=DURATION:PT1H
X-Robots-Tag:noindex
X-PUBLISHED-TTL:PT1H
BEGIN:VTIMEZONE
TZID:America/Toronto
BEGIN:DAYLIGHT
TZOFFSETFROM:-0500
TZOFFSETTO:-0400
TZNAME:EDT
DTSTART:20240310T070000
END:DAYLIGHT
BEGIN:STANDARD
TZOFFSETFROM:-0400
TZOFFSETTO:-0500
TZNAME:EST
DTSTART:20241103T060000
END:STANDARD
BEGIN:DAYLIGHT
TZOFFSETFROM:-0500
TZOFFSETTO:-0400
TZNAME:EDT
DTSTART:20250309T070000
END:DAYLIGHT
BEGIN:STANDARD
TZOFFSETFROM:-0400
TZOFFSETTO:-0500
TZNAME:EST
DTSTART:20251102T060000
END:STANDARD
BEGIN:DAYLIGHT
TZOFFSETFROM:-0500
TZOFFSETTO:-0400
TZNAME:EDT
DTSTART:20260308T070000
END:DAYLIGHT
BEGIN:STANDARD
TZOFFSETFROM:-0400
TZOFFSETTO:-0500
TZNAME:EST
DTSTART:20261101T060000
END:STANDARD
END:VTIMEZONE
BEGIN:VEVENT
DTSTART;TZID=America/Toronto:20250114T134500
DTEND;TZID=America/Toronto:20250114T143000
DTSTAMP:20260419T124541
CREATED:20250106T164737Z
LAST-MODIFIED:20250106T164749Z
UID:10007378-1736862300-1736865000@whattoday.ca
SUMMARY:Drop in: Shallow Aquafitness - Age 12+
DESCRIPTION:
URL:https://whattoday.ca/event/drop-in-shallow-aquafitness-age-12-2/
LOCATION:Peterborough Sport and Wellness Centre\, 775 Brealey Dr.\, Peterborough\, ON\, K9K 0B8\, Canada
CATEGORIES:More
ORGANIZER;CN="City of Peterborough":MAILTO:rec@peterborough.ca
END:VEVENT
BEGIN:VEVENT
DTSTART;TZID=America/Toronto:20250114T090000
DTEND;TZID=America/Toronto:20250114T094500
DTSTAMP:20260419T124541
CREATED:20250106T163013Z
LAST-MODIFIED:20250106T163013Z
UID:10007368-1736845200-1736847900@whattoday.ca
SUMMARY:Drop in: Gentle Aqua - Age 12+
DESCRIPTION:
URL:https://whattoday.ca/event/drop-in-gentle-aqua-age-12-10/
LOCATION:Peterborough Sport and Wellness Centre\, 775 Brealey Dr.\, Peterborough\, ON\, K9K 0B8\, Canada
CATEGORIES:More
ORGANIZER;CN="City of Peterborough":MAILTO:rec@peterborough.ca
END:VEVENT
BEGIN:VEVENT
DTSTART;TZID=America/Toronto:20250114T090000
DTEND;TZID=America/Toronto:20250114T094500
DTSTAMP:20260419T124541
CREATED:20250106T161633Z
LAST-MODIFIED:20250106T161633Z
UID:10007346-1736845200-1736847900@whattoday.ca
SUMMARY:Drop in: Aquafitness - Combo Age 12+
DESCRIPTION:
URL:https://whattoday.ca/event/drop-in-aquafitness-combo-age-12-17/
LOCATION:Peterborough Sport and Wellness Centre\, 775 Brealey Dr.\, Peterborough\, ON\, K9K 0B8\, Canada
CATEGORIES:More,Sports
ORGANIZER;CN="City of Peterborough":MAILTO:rec@peterborough.ca
END:VEVENT
BEGIN:VEVENT
DTSTART;TZID=America/Toronto:20250114T081500
DTEND;TZID=America/Toronto:20250114T090000
DTSTAMP:20260419T124541
CREATED:20250106T161357Z
LAST-MODIFIED:20250106T161357Z
UID:10007338-1736842500-1736845200@whattoday.ca
SUMMARY:Drop in: Aquafitness - Combo Age 12+
DESCRIPTION:
URL:https://whattoday.ca/event/drop-in-aquafitness-combo-age-12-9/
LOCATION:Peterborough Sport and Wellness Centre\, 775 Brealey Dr.\, Peterborough\, ON\, K9K 0B8\, Canada
CATEGORIES:More,Sports
ORGANIZER;CN="City of Peterborough":MAILTO:rec@peterborough.ca
END:VEVENT
BEGIN:VEVENT
DTSTART;TZID=America/Toronto:20250113T184500
DTEND;TZID=America/Toronto:20250113T193000
DTSTAMP:20260419T124541
CREATED:20250106T162027Z
LAST-MODIFIED:20250106T162027Z
UID:10007356-1736793900-1736796600@whattoday.ca
SUMMARY:Drop in: Aquafitness - Combo Age 12+
DESCRIPTION:
URL:https://whattoday.ca/event/drop-in-aquafitness-combo-age-12-27/
LOCATION:Peterborough Sport and Wellness Centre\, 775 Brealey Dr.\, Peterborough\, ON\, K9K 0B8\, Canada
CATEGORIES:More,Sports
ORGANIZER;CN="City of Peterborough":MAILTO:rec@peterborough.ca
END:VEVENT
BEGIN:VEVENT
DTSTART;TZID=America/Toronto:20250113T094500
DTEND;TZID=America/Toronto:20250113T103000
DTSTAMP:20260419T124541
CREATED:20250106T162933Z
LAST-MODIFIED:20250106T162933Z
UID:10007366-1736761500-1736764200@whattoday.ca
SUMMARY:Drop in: Gentle Aqua - Age 12+
DESCRIPTION:
URL:https://whattoday.ca/event/drop-in-gentle-aqua-age-12-8/
LOCATION:Peterborough Sport and Wellness Centre\, 775 Brealey Dr.\, Peterborough\, ON\, K9K 0B8\, Canada
CATEGORIES:More
ORGANIZER;CN="City of Peterborough":MAILTO:rec@peterborough.ca
END:VEVENT
BEGIN:VEVENT
DTSTART;TZID=America/Toronto:20250113T090000
DTEND;TZID=America/Toronto:20250113T094500
DTSTAMP:20260419T124541
CREATED:20250106T162954Z
LAST-MODIFIED:20250106T162954Z
UID:10007367-1736758800-1736761500@whattoday.ca
SUMMARY:Drop in: Gentle Aqua - Age 12+
DESCRIPTION:
URL:https://whattoday.ca/event/drop-in-gentle-aqua-age-12-9/
LOCATION:Peterborough Sport and Wellness Centre\, 775 Brealey Dr.\, Peterborough\, ON\, K9K 0B8\, Canada
CATEGORIES:More
ORGANIZER;CN="City of Peterborough":MAILTO:rec@peterborough.ca
END:VEVENT
BEGIN:VEVENT
DTSTART;TZID=America/Toronto:20250113T090000
DTEND;TZID=America/Toronto:20250113T094500
DTSTAMP:20260419T124541
CREATED:20250106T161619Z
LAST-MODIFIED:20250106T161619Z
UID:10007345-1736758800-1736761500@whattoday.ca
SUMMARY:Drop in: Aquafitness - Combo Age 12+
DESCRIPTION:
URL:https://whattoday.ca/event/drop-in-aquafitness-combo-age-12-16/
LOCATION:Peterborough Sport and Wellness Centre\, 775 Brealey Dr.\, Peterborough\, ON\, K9K 0B8\, Canada
CATEGORIES:More,Sports
ORGANIZER;CN="City of Peterborough":MAILTO:rec@peterborough.ca
END:VEVENT
BEGIN:VEVENT
DTSTART;TZID=America/Toronto:20250113T081500
DTEND;TZID=America/Toronto:20250113T090000
DTSTAMP:20260419T124541
CREATED:20250106T161344Z
LAST-MODIFIED:20250106T161344Z
UID:10007337-1736756100-1736758800@whattoday.ca
SUMMARY:Drop in: Aquafitness - Combo Age 12+
DESCRIPTION:
URL:https://whattoday.ca/event/drop-in-aquafitness-combo-age-12-8/
LOCATION:Peterborough Sport and Wellness Centre\, 775 Brealey Dr.\, Peterborough\, ON\, K9K 0B8\, Canada
CATEGORIES:More,Sports
ORGANIZER;CN="City of Peterborough":MAILTO:rec@peterborough.ca
END:VEVENT
BEGIN:VEVENT
DTSTART;TZID=America/Toronto:20250112T080000
DTEND;TZID=America/Toronto:20250112T084500
DTSTAMP:20260419T124541
CREATED:20250106T161817Z
LAST-MODIFIED:20250106T161817Z
UID:10007352-1736668800-1736671500@whattoday.ca
SUMMARY:Drop in: Aquafitness - Combo Age 12+
DESCRIPTION:
URL:https://whattoday.ca/event/drop-in-aquafitness-combo-age-12-23/
LOCATION:Peterborough Sport and Wellness Centre\, 775 Brealey Dr.\, Peterborough\, ON\, K9K 0B8\, Canada
CATEGORIES:More,Sports
ORGANIZER;CN="City of Peterborough":MAILTO:rec@peterborough.ca
END:VEVENT
BEGIN:VEVENT
DTSTART;TZID=America/Toronto:20250111T080000
DTEND;TZID=America/Toronto:20250111T084500
DTSTAMP:20260419T124541
CREATED:20250106T161805Z
LAST-MODIFIED:20250106T161805Z
UID:10007351-1736582400-1736585100@whattoday.ca
SUMMARY:Drop in: Aquafitness - Combo Age 12+
DESCRIPTION:
URL:https://whattoday.ca/event/drop-in-aquafitness-combo-age-12-22/
LOCATION:Peterborough Sport and Wellness Centre\, 775 Brealey Dr.\, Peterborough\, ON\, K9K 0B8\, Canada
CATEGORIES:More,Sports
ORGANIZER;CN="City of Peterborough":MAILTO:rec@peterborough.ca
END:VEVENT
BEGIN:VEVENT
DTSTART;TZID=America/Toronto:20250110T094500
DTEND;TZID=America/Toronto:20250110T103000
DTSTAMP:20260419T124541
CREATED:20250106T162902Z
LAST-MODIFIED:20250106T162902Z
UID:10007365-1736502300-1736505000@whattoday.ca
SUMMARY:Drop in: Gentle Aqua - Age 12+
DESCRIPTION:
URL:https://whattoday.ca/event/drop-in-gentle-aqua-age-12-7/
LOCATION:Peterborough Sport and Wellness Centre\, 775 Brealey Dr.\, Peterborough\, ON\, K9K 0B8\, Canada
CATEGORIES:More
ORGANIZER;CN="City of Peterborough":MAILTO:rec@peterborough.ca
END:VEVENT
BEGIN:VEVENT
DTSTART;TZID=America/Toronto:20250110T090000
DTEND;TZID=America/Toronto:20250110T094500
DTSTAMP:20260419T124541
CREATED:20250106T162848Z
LAST-MODIFIED:20250106T162848Z
UID:10007364-1736499600-1736502300@whattoday.ca
SUMMARY:Drop in: Gentle Aqua - Age 12+
DESCRIPTION:
URL:https://whattoday.ca/event/drop-in-gentle-aqua-age-12-6/
LOCATION:Peterborough Sport and Wellness Centre\, 775 Brealey Dr.\, Peterborough\, ON\, K9K 0B8\, Canada
CATEGORIES:More
ORGANIZER;CN="City of Peterborough":MAILTO:rec@peterborough.ca
END:VEVENT
BEGIN:VEVENT
DTSTART;TZID=America/Toronto:20250110T090000
DTEND;TZID=America/Toronto:20250110T094500
DTSTAMP:20260419T124541
CREATED:20250106T161601Z
LAST-MODIFIED:20250106T161601Z
UID:10007344-1736499600-1736502300@whattoday.ca
SUMMARY:Drop in: Aquafitness - Combo Age 12+
DESCRIPTION:
URL:https://whattoday.ca/event/drop-in-aquafitness-combo-age-12-15/
LOCATION:Peterborough Sport and Wellness Centre\, 775 Brealey Dr.\, Peterborough\, ON\, K9K 0B8\, Canada
CATEGORIES:More,Sports
ORGANIZER;CN="City of Peterborough":MAILTO:rec@peterborough.ca
END:VEVENT
BEGIN:VEVENT
DTSTART;TZID=America/Toronto:20250110T081500
DTEND;TZID=America/Toronto:20250110T090000
DTSTAMP:20260419T124541
CREATED:20250106T161322Z
LAST-MODIFIED:20250106T161322Z
UID:10007336-1736496900-1736499600@whattoday.ca
SUMMARY:Drop in: Aquafitness - Combo Age 12+
DESCRIPTION:
URL:https://whattoday.ca/event/drop-in-aquafitness-combo-age-12-7/
LOCATION:Peterborough Sport and Wellness Centre\, 775 Brealey Dr.\, Peterborough\, ON\, K9K 0B8\, Canada
CATEGORIES:More,Sports
ORGANIZER;CN="City of Peterborough":MAILTO:rec@peterborough.ca
END:VEVENT
BEGIN:VEVENT
DTSTART;TZID=America/Toronto:20250109T190000
DTEND;TZID=America/Toronto:20250109T194500
DTSTAMP:20260419T124541
CREATED:20250106T161959Z
LAST-MODIFIED:20250106T161959Z
UID:10007355-1736449200-1736451900@whattoday.ca
SUMMARY:Drop in: Aquafitness - Combo Age 12+
DESCRIPTION:
URL:https://whattoday.ca/event/drop-in-aquafitness-combo-age-12-26/
LOCATION:Peterborough Sport and Wellness Centre\, 775 Brealey Dr.\, Peterborough\, ON\, K9K 0B8\, Canada
CATEGORIES:More,Sports
ORGANIZER;CN="City of Peterborough":MAILTO:rec@peterborough.ca
END:VEVENT
BEGIN:VEVENT
DTSTART;TZID=America/Toronto:20250109T090000
DTEND;TZID=America/Toronto:20250109T094500
DTSTAMP:20260419T124541
CREATED:20250106T162833Z
LAST-MODIFIED:20250106T162833Z
UID:10007363-1736413200-1736415900@whattoday.ca
SUMMARY:Drop in: Gentle Aqua - Age 12+
DESCRIPTION:
URL:https://whattoday.ca/event/drop-in-gentle-aqua-age-12-5/
LOCATION:Peterborough Sport and Wellness Centre\, 775 Brealey Dr.\, Peterborough\, ON\, K9K 0B8\, Canada
CATEGORIES:More
ORGANIZER;CN="City of Peterborough":MAILTO:rec@peterborough.ca
END:VEVENT
BEGIN:VEVENT
DTSTART;TZID=America/Toronto:20250109T090000
DTEND;TZID=America/Toronto:20250109T094500
DTSTAMP:20260419T124541
CREATED:20250106T161547Z
LAST-MODIFIED:20250106T161547Z
UID:10007343-1736413200-1736415900@whattoday.ca
SUMMARY:Drop in: Aquafitness - Combo Age 12+
DESCRIPTION:
URL:https://whattoday.ca/event/drop-in-aquafitness-combo-age-12-14/
LOCATION:Peterborough Sport and Wellness Centre\, 775 Brealey Dr.\, Peterborough\, ON\, K9K 0B8\, Canada
CATEGORIES:More,Sports
ORGANIZER;CN="City of Peterborough":MAILTO:rec@peterborough.ca
END:VEVENT
BEGIN:VEVENT
DTSTART;TZID=America/Toronto:20250109T081500
DTEND;TZID=America/Toronto:20250109T090000
DTSTAMP:20260419T124541
CREATED:20250106T161304Z
LAST-MODIFIED:20250106T161304Z
UID:10007335-1736410500-1736413200@whattoday.ca
SUMMARY:Drop in: Aquafitness - Combo Age 12+
DESCRIPTION:
URL:https://whattoday.ca/event/drop-in-aquafitness-combo-age-12-6/
LOCATION:Peterborough Sport and Wellness Centre\, 775 Brealey Dr.\, Peterborough\, ON\, K9K 0B8\, Canada
CATEGORIES:More,Sports
ORGANIZER;CN="City of Peterborough":MAILTO:rec@peterborough.ca
END:VEVENT
BEGIN:VEVENT
DTSTART;TZID=America/Toronto:20250108T184500
DTEND;TZID=America/Toronto:20250108T193000
DTSTAMP:20260419T124541
CREATED:20250106T165014Z
LAST-MODIFIED:20250106T165014Z
UID:10007381-1736361900-1736364600@whattoday.ca
SUMMARY:Drop in: Aqua HIIT - Age 12+
DESCRIPTION:
URL:https://whattoday.ca/event/drop-in-aqua-hiit-age-12/
LOCATION:Peterborough Sport and Wellness Centre\, 775 Brealey Dr.\, Peterborough\, ON\, K9K 0B8\, Canada
CATEGORIES:More
ORGANIZER;CN="City of Peterborough":MAILTO:rec@peterborough.ca
END:VEVENT
BEGIN:VEVENT
DTSTART;TZID=America/Toronto:20250108T090000
DTEND;TZID=America/Toronto:20250108T094500
DTSTAMP:20260419T124541
CREATED:20250106T162706Z
LAST-MODIFIED:20250106T162706Z
UID:10007361-1736326800-1736329500@whattoday.ca
SUMMARY:Drop in: Gentle Aqua - Age 12+
DESCRIPTION:
URL:https://whattoday.ca/event/drop-in-gentle-aqua-age-12-3/
LOCATION:Peterborough Sport and Wellness Centre\, 775 Brealey Dr.\, Peterborough\, ON\, K9K 0B8\, Canada
CATEGORIES:More
ORGANIZER;CN="City of Peterborough":MAILTO:rec@peterborough.ca
END:VEVENT
BEGIN:VEVENT
DTSTART;TZID=America/Toronto:20250108T090000
DTEND;TZID=America/Toronto:20250108T094500
DTSTAMP:20260419T124541
CREATED:20250106T161146Z
LAST-MODIFIED:20250106T161146Z
UID:10007334-1736326800-1736329500@whattoday.ca
SUMMARY:Drop in: Aquafitness - Combo Age 12+
DESCRIPTION:
URL:https://whattoday.ca/event/drop-in-aquafitness-combo-age-12-5/
LOCATION:Peterborough Sport and Wellness Centre\, 775 Brealey Dr.\, Peterborough\, ON\, K9K 0B8\, Canada
CATEGORIES:More,Sports
ORGANIZER;CN="City of Peterborough":MAILTO:rec@peterborough.ca
END:VEVENT
BEGIN:VEVENT
DTSTART;TZID=America/Toronto:20250108T081500
DTEND;TZID=America/Toronto:20250108T090000
DTSTAMP:20260419T124541
CREATED:20250106T161134Z
LAST-MODIFIED:20250106T161134Z
UID:10007333-1736324100-1736326800@whattoday.ca
SUMMARY:Drop in: Aquafitness - Combo Age 12+
DESCRIPTION:
URL:https://whattoday.ca/event/drop-in-aquafitness-combo-age-12-4/
LOCATION:Peterborough Sport and Wellness Centre\, 775 Brealey Dr.\, Peterborough\, ON\, K9K 0B8\, Canada
CATEGORIES:More,Sports
ORGANIZER;CN="City of Peterborough":MAILTO:rec@peterborough.ca
END:VEVENT
BEGIN:VEVENT
DTSTART;TZID=America/Toronto:20250107T190000
DTEND;TZID=America/Toronto:20250107T194500
DTSTAMP:20260419T124541
CREATED:20250106T164854Z
LAST-MODIFIED:20250106T164854Z
UID:10007379-1736276400-1736279100@whattoday.ca
SUMMARY:Drop in: Relax & Flow Gentle Aqua - Age 12+
DESCRIPTION:
URL:https://whattoday.ca/event/drop-in-relax-flow-gentle-aqua-age-12/
LOCATION:Peterborough Sport and Wellness Centre\, 775 Brealey Dr.\, Peterborough\, ON\, K9K 0B8\, Canada
CATEGORIES:More
ORGANIZER;CN="City of Peterborough":MAILTO:rec@peterborough.ca
END:VEVENT
BEGIN:VEVENT
DTSTART;TZID=America/Toronto:20250107T143000
DTEND;TZID=America/Toronto:20250107T151500
DTSTAMP:20260419T124541
CREATED:20250106T162644Z
LAST-MODIFIED:20250106T162644Z
UID:10007360-1736260200-1736262900@whattoday.ca
SUMMARY:Drop in: Gentle Aqua - Age 12+
DESCRIPTION:
URL:https://whattoday.ca/event/drop-in-gentle-aqua-age-12-2/
LOCATION:Peterborough Sport and Wellness Centre\, 775 Brealey Dr.\, Peterborough\, ON\, K9K 0B8\, Canada
CATEGORIES:More
ORGANIZER;CN="City of Peterborough":MAILTO:rec@peterborough.ca
END:VEVENT
BEGIN:VEVENT
DTSTART;TZID=America/Toronto:20250107T134500
DTEND;TZID=America/Toronto:20250107T143000
DTSTAMP:20260419T124541
CREATED:20250106T164702Z
LAST-MODIFIED:20250106T164702Z
UID:10007377-1736257500-1736260200@whattoday.ca
SUMMARY:Drop in: Shallow Aquafitness - Age 12+
DESCRIPTION:
URL:https://whattoday.ca/event/drop-in-shallow-aquafitness-age-12/
LOCATION:Peterborough Sport and Wellness Centre\, 775 Brealey Dr.\, Peterborough\, ON\, K9K 0B8\, Canada
CATEGORIES:More
ORGANIZER;CN="City of Peterborough":MAILTO:rec@peterborough.ca
END:VEVENT
BEGIN:VEVENT
DTSTART;TZID=America/Toronto:20250107T094500
DTEND;TZID=America/Toronto:20250107T103000
DTSTAMP:20260419T124541
CREATED:20250106T162811Z
LAST-MODIFIED:20250106T162811Z
UID:10007362-1736243100-1736245800@whattoday.ca
SUMMARY:Drop in: Gentle Aqua - Age 12+
DESCRIPTION:
URL:https://whattoday.ca/event/drop-in-gentle-aqua-age-12-4/
LOCATION:Peterborough Sport and Wellness Centre\, 775 Brealey Dr.\, Peterborough\, ON\, K9K 0B8\, Canada
CATEGORIES:More
ORGANIZER;CN="City of Peterborough":MAILTO:rec@peterborough.ca
END:VEVENT
BEGIN:VEVENT
DTSTART;TZID=America/Toronto:20250107T090000
DTEND;TZID=America/Toronto:20250107T094500
DTSTAMP:20260419T124541
CREATED:20250106T162547Z
LAST-MODIFIED:20250106T162547Z
UID:10007359-1736240400-1736243100@whattoday.ca
SUMMARY:Drop in: Gentle Aqua - Age 12+
DESCRIPTION:
URL:https://whattoday.ca/event/drop-in-gentle-aqua-age-12/
LOCATION:Peterborough Sport and Wellness Centre\, 775 Brealey Dr.\, Peterborough\, ON\, K9K 0B8\, Canada
CATEGORIES:More
ORGANIZER;CN="City of Peterborough":MAILTO:rec@peterborough.ca
END:VEVENT
BEGIN:VEVENT
DTSTART;TZID=America/Toronto:20250107T090000
DTEND;TZID=America/Toronto:20250107T094500
DTSTAMP:20260419T124541
CREATED:20250106T161109Z
LAST-MODIFIED:20250106T161109Z
UID:10007332-1736240400-1736243100@whattoday.ca
SUMMARY:Drop in: Aquafitness - Combo Age 12+
DESCRIPTION:
URL:https://whattoday.ca/event/drop-in-aquafitness-combo-age-12-3/
LOCATION:Peterborough Sport and Wellness Centre\, 775 Brealey Dr.\, Peterborough\, ON\, K9K 0B8\, Canada
CATEGORIES:More,Sports
ORGANIZER;CN="City of Peterborough":MAILTO:rec@peterborough.ca
END:VEVENT
BEGIN:VEVENT
DTSTART;TZID=America/Toronto:20250107T081500
DTEND;TZID=America/Toronto:20250107T090000
DTSTAMP:20260419T124541
CREATED:20250106T161051Z
LAST-MODIFIED:20250106T161051Z
UID:10007331-1736237700-1736240400@whattoday.ca
SUMMARY:Drop in: Aquafitness - Combo Age 12+
DESCRIPTION:
URL:https://whattoday.ca/event/drop-in-aquafitness-combo-age-12-2/
LOCATION:Peterborough Sport and Wellness Centre\, 775 Brealey Dr.\, Peterborough\, ON\, K9K 0B8\, Canada
CATEGORIES:More,Sports
ORGANIZER;CN="City of Peterborough":MAILTO:rec@peterborough.ca
END:VEVENT
END:VCALENDAR