BEGIN:VCALENDAR
VERSION:2.0
PRODID:-//WHATtoday.ca - ECPv6.15.20//NONSGML v1.0//EN
CALSCALE:GREGORIAN
METHOD:PUBLISH
X-ORIGINAL-URL:https://whattoday.ca
X-WR-CALDESC:Events for WHATtoday.ca
REFRESH-INTERVAL;VALUE=DURATION:PT1H
X-Robots-Tag:noindex
X-PUBLISHED-TTL:PT1H
BEGIN:VTIMEZONE
TZID:America/Toronto
BEGIN:DAYLIGHT
TZOFFSETFROM:-0500
TZOFFSETTO:-0400
TZNAME:EDT
DTSTART:20230312T070000
END:DAYLIGHT
BEGIN:STANDARD
TZOFFSETFROM:-0400
TZOFFSETTO:-0500
TZNAME:EST
DTSTART:20231105T060000
END:STANDARD
BEGIN:DAYLIGHT
TZOFFSETFROM:-0500
TZOFFSETTO:-0400
TZNAME:EDT
DTSTART:20240310T070000
END:DAYLIGHT
BEGIN:STANDARD
TZOFFSETFROM:-0400
TZOFFSETTO:-0500
TZNAME:EST
DTSTART:20241103T060000
END:STANDARD
BEGIN:DAYLIGHT
TZOFFSETFROM:-0500
TZOFFSETTO:-0400
TZNAME:EDT
DTSTART:20250309T070000
END:DAYLIGHT
BEGIN:STANDARD
TZOFFSETFROM:-0400
TZOFFSETTO:-0500
TZNAME:EST
DTSTART:20251102T060000
END:STANDARD
BEGIN:DAYLIGHT
TZOFFSETFROM:-0500
TZOFFSETTO:-0400
TZNAME:EDT
DTSTART:20260308T070000
END:DAYLIGHT
BEGIN:STANDARD
TZOFFSETFROM:-0400
TZOFFSETTO:-0500
TZNAME:EST
DTSTART:20261101T060000
END:STANDARD
END:VTIMEZONE
BEGIN:VEVENT
DTSTART;TZID=America/Toronto:20250518T180000
DTEND;TZID=America/Toronto:20250518T210000
DTSTAMP:20260423T064042
CREATED:20250428T195435Z
LAST-MODIFIED:20250428T195435Z
UID:10017151-1747591200-1747602000@whattoday.ca
SUMMARY:Karaoke Night
DESCRIPTION:
URL:https://whattoday.ca/event/karaoke-night-2/2025-05-18/
LOCATION:Publican House Brewery & Pub\, 294 Charlotte St\, Peterborough\, ON\, K9J 2V5\, Canada
CATEGORIES:Entertainment,Food & Beverage
ORGANIZER;CN="The Publican House Brewery":MAILTO:info@publicanhouse.com
END:VEVENT
BEGIN:VEVENT
DTSTART;TZID=America/Toronto:20250511T180000
DTEND;TZID=America/Toronto:20250511T210000
DTSTAMP:20260423T064042
CREATED:20250428T195435Z
LAST-MODIFIED:20250428T195435Z
UID:10017150-1746986400-1746997200@whattoday.ca
SUMMARY:Karaoke Night
DESCRIPTION:
URL:https://whattoday.ca/event/karaoke-night-2/2025-05-11/
LOCATION:Publican House Brewery & Pub\, 294 Charlotte St\, Peterborough\, ON\, K9J 2V5\, Canada
CATEGORIES:Entertainment,Food & Beverage
ORGANIZER;CN="The Publican House Brewery":MAILTO:info@publicanhouse.com
END:VEVENT
BEGIN:VEVENT
DTSTART;TZID=America/Toronto:20250504T180000
DTEND;TZID=America/Toronto:20250504T210000
DTSTAMP:20260423T064042
CREATED:20250428T195435Z
LAST-MODIFIED:20250428T195435Z
UID:10017149-1746381600-1746392400@whattoday.ca
SUMMARY:Karaoke Night
DESCRIPTION:
URL:https://whattoday.ca/event/karaoke-night-2/2025-05-04/
LOCATION:Publican House Brewery & Pub\, 294 Charlotte St\, Peterborough\, ON\, K9J 2V5\, Canada
CATEGORIES:Entertainment,Food & Beverage
ORGANIZER;CN="The Publican House Brewery":MAILTO:info@publicanhouse.com
END:VEVENT
BEGIN:VEVENT
DTSTART;TZID=America/Toronto:20250425T190000
DTEND;TZID=America/Toronto:20250425T210000
DTSTAMP:20260423T064042
CREATED:20250424T161005Z
LAST-MODIFIED:20250424T161005Z
UID:10016830-1745607600-1745614800@whattoday.ca
SUMMARY:Live Music: Doug Horner
DESCRIPTION:
URL:https://whattoday.ca/event/live-music-doug-horner/
LOCATION:Publican House Brewery & Pub\, 294 Charlotte St\, Peterborough\, ON\, K9J 2V5\, Canada
CATEGORIES:Entertainment,Food & Beverage
ORGANIZER;CN="The Publican House Brewery":MAILTO:info@publicanhouse.com
END:VEVENT
BEGIN:VEVENT
DTSTART;TZID=America/Toronto:20250418T190000
DTEND;TZID=America/Toronto:20250418T210000
DTSTAMP:20260423T064042
CREATED:20250415T154419Z
LAST-MODIFIED:20250415T154419Z
UID:10010331-1745002800-1745010000@whattoday.ca
SUMMARY:Live Music: Chris Collins
DESCRIPTION:
URL:https://whattoday.ca/event/live-music-chris-collins-2/
LOCATION:Publican House Brewery & Pub\, 294 Charlotte St\, Peterborough\, ON\, K9J 2V5\, Canada
CATEGORIES:Entertainment
ORGANIZER;CN="The Publican House Brewery":MAILTO:info@publicanhouse.com
END:VEVENT
BEGIN:VEVENT
DTSTART;TZID=America/Toronto:20250330T130000
DTEND;TZID=America/Toronto:20250330T140000
DTSTAMP:20260423T064042
CREATED:20250306T142906Z
LAST-MODIFIED:20250306T142906Z
UID:10009862-1743339600-1743343200@whattoday.ca
SUMMARY:Pilates & Pints at the Publican House
DESCRIPTION:
URL:https://whattoday.ca/event/pilates-pints-at-the-publican-house/2025-03-30/
LOCATION:Publican House Brewery & Pub\, 294 Charlotte St\, Peterborough\, ON\, K9J 2V5\, Canada
CATEGORIES:Food & Beverage,More,Workshops
ORGANIZER;CN="Summer Soul%3A Yoga%2C Pilates%2C Reformer Pilates & SUP Wellness Studio":MAILTO:wellness@summersoul.ca
END:VEVENT
BEGIN:VEVENT
DTSTART;TZID=America/Toronto:20250328T190000
DTEND;TZID=America/Toronto:20250328T210000
DTSTAMP:20260423T064042
CREATED:20250327T172636Z
LAST-MODIFIED:20250327T172737Z
UID:10010218-1743188400-1743195600@whattoday.ca
SUMMARY:Live Music: Daelin Henschel
DESCRIPTION:
URL:https://whattoday.ca/event/live-music-daelin-henschel/
LOCATION:Publican House Brewery & Pub\, 294 Charlotte St\, Peterborough\, ON\, K9J 2V5\, Canada
CATEGORIES:Entertainment,Food & Beverage
ORGANIZER;CN="The Publican House Brewery":MAILTO:info@publicanhouse.com
END:VEVENT
BEGIN:VEVENT
DTSTART;TZID=America/Toronto:20250323T130000
DTEND;TZID=America/Toronto:20250323T140000
DTSTAMP:20260423T064042
CREATED:20250306T142906Z
LAST-MODIFIED:20250306T142906Z
UID:10009861-1742734800-1742738400@whattoday.ca
SUMMARY:Pilates & Pints at the Publican House
DESCRIPTION:
URL:https://whattoday.ca/event/pilates-pints-at-the-publican-house/2025-03-23/
LOCATION:Publican House Brewery & Pub\, 294 Charlotte St\, Peterborough\, ON\, K9J 2V5\, Canada
CATEGORIES:Food & Beverage,More,Workshops
ORGANIZER;CN="Summer Soul%3A Yoga%2C Pilates%2C Reformer Pilates & SUP Wellness Studio":MAILTO:wellness@summersoul.ca
END:VEVENT
BEGIN:VEVENT
DTSTART;TZID=America/Toronto:20250316T130000
DTEND;TZID=America/Toronto:20250316T140000
DTSTAMP:20260423T064042
CREATED:20250306T142906Z
LAST-MODIFIED:20250306T142906Z
UID:10009860-1742130000-1742133600@whattoday.ca
SUMMARY:Pilates & Pints at the Publican House
DESCRIPTION:
URL:https://whattoday.ca/event/pilates-pints-at-the-publican-house/2025-03-16/
LOCATION:Publican House Brewery & Pub\, 294 Charlotte St\, Peterborough\, ON\, K9J 2V5\, Canada
CATEGORIES:Food & Beverage,More,Workshops
ORGANIZER;CN="Summer Soul%3A Yoga%2C Pilates%2C Reformer Pilates & SUP Wellness Studio":MAILTO:wellness@summersoul.ca
END:VEVENT
BEGIN:VEVENT
DTSTART;TZID=America/Toronto:20250309T130000
DTEND;TZID=America/Toronto:20250309T140000
DTSTAMP:20260423T064042
CREATED:20250306T142906Z
LAST-MODIFIED:20250306T142906Z
UID:10009859-1741525200-1741528800@whattoday.ca
SUMMARY:Pilates & Pints at the Publican House
DESCRIPTION:
URL:https://whattoday.ca/event/pilates-pints-at-the-publican-house/2025-03-09/
LOCATION:Publican House Brewery & Pub\, 294 Charlotte St\, Peterborough\, ON\, K9J 2V5\, Canada
CATEGORIES:Food & Beverage,More,Workshops
ORGANIZER;CN="Summer Soul%3A Yoga%2C Pilates%2C Reformer Pilates & SUP Wellness Studio":MAILTO:wellness@summersoul.ca
END:VEVENT
BEGIN:VEVENT
DTSTART;TZID=America/Toronto:20241115T190000
DTEND;TZID=America/Toronto:20241115T210000
DTSTAMP:20260423T064042
CREATED:20241031T185549Z
LAST-MODIFIED:20241031T185549Z
UID:10005845-1731697200-1731704400@whattoday.ca
SUMMARY:Live Music at Publican House Brewery
DESCRIPTION:
URL:https://whattoday.ca/event/live-music-at-publican-house-brewery/2024-11-15/
LOCATION:Publican House Brewery & Pub\, 294 Charlotte St\, Peterborough\, ON\, K9J 2V5\, Canada
CATEGORIES:Entertainment,Food & Beverage
ORGANIZER;CN="The Publican House Brewery":MAILTO:info@publicanhouse.com
END:VEVENT
BEGIN:VEVENT
DTSTART;TZID=America/Toronto:20241114T190000
DTEND;TZID=America/Toronto:20241114T210000
DTSTAMP:20260423T064042
CREATED:20241031T185549Z
LAST-MODIFIED:20241031T185549Z
UID:10005844-1731610800-1731618000@whattoday.ca
SUMMARY:Live Music at Publican House Brewery
DESCRIPTION:
URL:https://whattoday.ca/event/live-music-at-publican-house-brewery/2024-11-14/
LOCATION:Publican House Brewery & Pub\, 294 Charlotte St\, Peterborough\, ON\, K9J 2V5\, Canada
CATEGORIES:Entertainment,Food & Beverage
ORGANIZER;CN="The Publican House Brewery":MAILTO:info@publicanhouse.com
END:VEVENT
BEGIN:VEVENT
DTSTART;TZID=America/Toronto:20241107T190000
DTEND;TZID=America/Toronto:20241107T210000
DTSTAMP:20260423T064042
CREATED:20241031T185549Z
LAST-MODIFIED:20241031T185549Z
UID:10005843-1731006000-1731013200@whattoday.ca
SUMMARY:Live Music at Publican House Brewery
DESCRIPTION:
URL:https://whattoday.ca/event/live-music-at-publican-house-brewery/2024-11-07/
LOCATION:Publican House Brewery & Pub\, 294 Charlotte St\, Peterborough\, ON\, K9J 2V5\, Canada
CATEGORIES:Entertainment,Food & Beverage
ORGANIZER;CN="The Publican House Brewery":MAILTO:info@publicanhouse.com
END:VEVENT
BEGIN:VEVENT
DTSTART;TZID=America/Toronto:20241101T190000
DTEND;TZID=America/Toronto:20241101T210000
DTSTAMP:20260423T064042
CREATED:20241031T185549Z
LAST-MODIFIED:20241031T185549Z
UID:10005842-1730487600-1730494800@whattoday.ca
SUMMARY:Live Music at Publican House Brewery
DESCRIPTION:
URL:https://whattoday.ca/event/live-music-at-publican-house-brewery/2024-11-01/
LOCATION:Publican House Brewery & Pub\, 294 Charlotte St\, Peterborough\, ON\, K9J 2V5\, Canada
CATEGORIES:Entertainment,Food & Beverage
ORGANIZER;CN="The Publican House Brewery":MAILTO:info@publicanhouse.com
END:VEVENT
BEGIN:VEVENT
DTSTART;TZID=America/Toronto:20241015T180000
DTEND;TZID=America/Toronto:20241015T203000
DTSTAMP:20260423T064042
CREATED:20240926T180638Z
LAST-MODIFIED:20240926T180638Z
UID:10004279-1729015200-1729024200@whattoday.ca
SUMMARY:Peterborough Chapter Meeting - ESA Inspectors Night
DESCRIPTION:
URL:https://whattoday.ca/event/peterborough-chapter-meeting-esa-inspectors-night/
LOCATION:Publican House Brewery & Pub\, 294 Charlotte St\, Peterborough\, ON\, K9J 2V5\, Canada
CATEGORIES:More
END:VEVENT
END:VCALENDAR