BEGIN:VCALENDAR
VERSION:2.0
PRODID:-//WHATtoday.ca - ECPv6.15.20//NONSGML v1.0//EN
CALSCALE:GREGORIAN
METHOD:PUBLISH
X-ORIGINAL-URL:https://whattoday.ca
X-WR-CALDESC:Events for WHATtoday.ca
REFRESH-INTERVAL;VALUE=DURATION:PT1H
X-Robots-Tag:noindex
X-PUBLISHED-TTL:PT1H
BEGIN:VTIMEZONE
TZID:America/Toronto
BEGIN:DAYLIGHT
TZOFFSETFROM:-0500
TZOFFSETTO:-0400
TZNAME:EDT
DTSTART:20240310T070000
END:DAYLIGHT
BEGIN:STANDARD
TZOFFSETFROM:-0400
TZOFFSETTO:-0500
TZNAME:EST
DTSTART:20241103T060000
END:STANDARD
BEGIN:DAYLIGHT
TZOFFSETFROM:-0500
TZOFFSETTO:-0400
TZNAME:EDT
DTSTART:20250309T070000
END:DAYLIGHT
BEGIN:STANDARD
TZOFFSETFROM:-0400
TZOFFSETTO:-0500
TZNAME:EST
DTSTART:20251102T060000
END:STANDARD
BEGIN:DAYLIGHT
TZOFFSETFROM:-0500
TZOFFSETTO:-0400
TZNAME:EDT
DTSTART:20260308T070000
END:DAYLIGHT
BEGIN:STANDARD
TZOFFSETFROM:-0400
TZOFFSETTO:-0500
TZNAME:EST
DTSTART:20261101T060000
END:STANDARD
END:VTIMEZONE
BEGIN:VEVENT
DTSTART;TZID=America/Toronto:20251015T100000
DTEND;TZID=America/Toronto:20251015T100000
DTSTAMP:20260422T074107
CREATED:20251006T175704Z
LAST-MODIFIED:20251006T175729Z
UID:10027015-1760522400-1760522400@whattoday.ca
SUMMARY:Celebrate Shelby’s Peterborough Anniversary & National Shawarma Day!
DESCRIPTION:
URL:https://whattoday.ca/event/celebrate-shelbys-peterborough-anniversary-national-shawarma-day/
LOCATION:Shelby’s Legendary Shawarma\, 1154 Chemong Rd.\, Peterborough\, ON\, K9H 7S2\, Canada
END:VEVENT
END:VCALENDAR