BEGIN:VCALENDAR
VERSION:2.0
PRODID:-//WHATtoday.ca - ECPv6.15.20//NONSGML v1.0//EN
CALSCALE:GREGORIAN
METHOD:PUBLISH
X-ORIGINAL-URL:https://whattoday.ca
X-WR-CALDESC:Events for WHATtoday.ca
REFRESH-INTERVAL;VALUE=DURATION:PT1H
X-Robots-Tag:noindex
X-PUBLISHED-TTL:PT1H
BEGIN:VTIMEZONE
TZID:America/Toronto
BEGIN:DAYLIGHT
TZOFFSETFROM:-0500
TZOFFSETTO:-0400
TZNAME:EDT
DTSTART:20240310T070000
END:DAYLIGHT
BEGIN:STANDARD
TZOFFSETFROM:-0400
TZOFFSETTO:-0500
TZNAME:EST
DTSTART:20241103T060000
END:STANDARD
BEGIN:DAYLIGHT
TZOFFSETFROM:-0500
TZOFFSETTO:-0400
TZNAME:EDT
DTSTART:20250309T070000
END:DAYLIGHT
BEGIN:STANDARD
TZOFFSETFROM:-0400
TZOFFSETTO:-0500
TZNAME:EST
DTSTART:20251102T060000
END:STANDARD
BEGIN:DAYLIGHT
TZOFFSETFROM:-0500
TZOFFSETTO:-0400
TZNAME:EDT
DTSTART:20260308T070000
END:DAYLIGHT
BEGIN:STANDARD
TZOFFSETFROM:-0400
TZOFFSETTO:-0500
TZNAME:EST
DTSTART:20261101T060000
END:STANDARD
END:VTIMEZONE
BEGIN:VEVENT
DTSTART;TZID=America/Toronto:20251108T090000
DTEND;TZID=America/Toronto:20251108T130000
DTSTAMP:20260424T162441
CREATED:20251021T131816Z
LAST-MODIFIED:20251021T131816Z
UID:10027676-1762592400-1762606800@whattoday.ca
SUMMARY:St. Alphonsus CWL Bazaar
DESCRIPTION:St. Alphonsus Church Bazaar\, 810 Frank Street\, Peterborough\, Sat. Nov. 8 from 9am – 1pm. Shop for all your Christmas baking\, gifts and decorations. Bake table\, Tea Room\, Books\, Christmas Urns\, Raffles\, Sewing and Crafts\, Hostess Gifts\, Religious gifts\, New to You Table. Free Admission.
URL:https://whattoday.ca/event/st-alphonsus-cwl-bazaar/
LOCATION:St. Alphonsus Church\, 810 Frank Street\, Peterborough\, ON\, K9J 5W6\, Canada
CATEGORIES:Family,Food & Beverage,Free,More
END:VEVENT
END:VCALENDAR