BEGIN:VCALENDAR
VERSION:2.0
PRODID:-//WHATtoday.ca - ECPv6.15.20//NONSGML v1.0//EN
CALSCALE:GREGORIAN
METHOD:PUBLISH
X-ORIGINAL-URL:https://whattoday.ca
X-WR-CALDESC:Events for WHATtoday.ca
REFRESH-INTERVAL;VALUE=DURATION:PT1H
X-Robots-Tag:noindex
X-PUBLISHED-TTL:PT1H
BEGIN:VTIMEZONE
TZID:America/Toronto
BEGIN:DAYLIGHT
TZOFFSETFROM:-0500
TZOFFSETTO:-0400
TZNAME:EDT
DTSTART:20250309T070000
END:DAYLIGHT
BEGIN:STANDARD
TZOFFSETFROM:-0400
TZOFFSETTO:-0500
TZNAME:EST
DTSTART:20251102T060000
END:STANDARD
BEGIN:DAYLIGHT
TZOFFSETFROM:-0500
TZOFFSETTO:-0400
TZNAME:EDT
DTSTART:20260308T070000
END:DAYLIGHT
BEGIN:STANDARD
TZOFFSETFROM:-0400
TZOFFSETTO:-0500
TZNAME:EST
DTSTART:20261101T060000
END:STANDARD
BEGIN:DAYLIGHT
TZOFFSETFROM:-0500
TZOFFSETTO:-0400
TZNAME:EDT
DTSTART:20270314T070000
END:DAYLIGHT
BEGIN:STANDARD
TZOFFSETFROM:-0400
TZOFFSETTO:-0500
TZNAME:EST
DTSTART:20271107T060000
END:STANDARD
END:VTIMEZONE
BEGIN:VEVENT
DTSTART;TZID=America/Toronto:20260424T190000
DTEND;TZID=America/Toronto:20260424T190000
DTSTAMP:20260424T001352
CREATED:20260421T125047Z
LAST-MODIFIED:20260421T125057Z
UID:10030886-1777057200-1777057200@whattoday.ca
SUMMARY:Bhakti Heartsong Community Kirtan
DESCRIPTION:Beloveds… the circle opens once more.  \nAs we arrive at the final Friday of the month\, the call returns – to gather\, to sing\, to rest together in the quiet medicine of mantra and shared breath. \nBut this time\, the space is opening a little differently.  \nIn celebration of my birthday\, this month’s Bhakti HeartSong Kirtan is being offered as something more intimate… a weaving of cacao\, chant\, and sound held in a softer\, more intentional way. \nWe’ll begin with gentle cacao to open the heart  \nmove into Kirtan – voice\, mantra\, and connection  \nand then settle into a closing sound journey to integrate and receive.  \nNo performance. No perfection. \nJust a space to:\n arrive as you are\n sing if you feel called\n rest if that’s what’s needed\n or simply be held in the field we create together \nThis night is something I’m offering from the heart – and receiving alongside you.  \nIf you’ve been feeling the pull toward community… \nIf your nervous system has been asking for gentleness… \nIf your heart longs to sing\, or simply to be held in sound… \nThis is a beautiful night to step in. \n The Blue Lotus Home Studio\n512 Bonaccord Street\, Peterborough\n Friday\, April 24\n 7:00 PM \n By donation – suggested $20 – $30\n(please give as you are able) \nAll voices welcome. Truly.  \n Full details + event registration at:\nwww.lisahamilton.love \nI look forward to gathering with you.\nHari Om
URL:https://whattoday.ca/event/bhakti-heartsong-community-kirtan/
LOCATION:The Blue Lotus Home Studio\, 512 Bonaccord St.\, Peterborough\, ON\, K9H 7L6\, Canada
CATEGORIES:Art & Theatre,Entertainment,Family,Free,More,Seniors,Workshops
ORGANIZER;CN="Lisa Hamilton":MAILTO:hello@lisahamilton.love
END:VEVENT
END:VCALENDAR