BEGIN:VCALENDAR
VERSION:2.0
PRODID:-//WHATtoday.ca - ECPv6.15.20//NONSGML v1.0//EN
CALSCALE:GREGORIAN
METHOD:PUBLISH
X-ORIGINAL-URL:https://whattoday.ca
X-WR-CALDESC:Events for WHATtoday.ca
REFRESH-INTERVAL;VALUE=DURATION:PT1H
X-Robots-Tag:noindex
X-PUBLISHED-TTL:PT1H
BEGIN:VTIMEZONE
TZID:America/Toronto
BEGIN:DAYLIGHT
TZOFFSETFROM:-0500
TZOFFSETTO:-0400
TZNAME:EDT
DTSTART:20240310T070000
END:DAYLIGHT
BEGIN:STANDARD
TZOFFSETFROM:-0400
TZOFFSETTO:-0500
TZNAME:EST
DTSTART:20241103T060000
END:STANDARD
BEGIN:DAYLIGHT
TZOFFSETFROM:-0500
TZOFFSETTO:-0400
TZNAME:EDT
DTSTART:20250309T070000
END:DAYLIGHT
BEGIN:STANDARD
TZOFFSETFROM:-0400
TZOFFSETTO:-0500
TZNAME:EST
DTSTART:20251102T060000
END:STANDARD
BEGIN:DAYLIGHT
TZOFFSETFROM:-0500
TZOFFSETTO:-0400
TZNAME:EDT
DTSTART:20260308T070000
END:DAYLIGHT
BEGIN:STANDARD
TZOFFSETFROM:-0400
TZOFFSETTO:-0500
TZNAME:EST
DTSTART:20261101T060000
END:STANDARD
END:VTIMEZONE
BEGIN:VEVENT
DTSTART;TZID=America/Toronto:20251120T183000
DTEND;TZID=America/Toronto:20251120T183000
DTSTAMP:20260421T115507
CREATED:20251106T174148Z
LAST-MODIFIED:20251106T174157Z
UID:10027865-1763663400-1763663400@whattoday.ca
SUMMARY:YETI Presents: A Community Film Night with Wild Rock
DESCRIPTION:Join Wild Rock and YETI for an evening of YETI Presents films celebrating adventure\, storytelling\, and community.\nFeaturing: The Trapline\, The Polar Passage & Japan to Jamaica \nOn Thursday\, November 20th\, we’re hosting YETI Presents: A Community Film Night with Wild Rock. Only 40 exclusive tickets are available: just enough to make it feel like you’re among friends\, not strangers. \nThe films are short\, sharp\, and beautifully made. The food and drink are included. And the door prize odds? Excellent. \nBring in a piece of used outdoor gear or clothing for Wild Again (our trade-in and resale program) and donate the credit to the ComPassion Project and we’ll thank you with a raffle ticket for some incredible YETI giveaways. \nTickets are $10\, and every dollar supports the ComPassion Project. \nWe’re calling it a community film night\, but really it’s just a good excuse to get together. You in?\nDETAILS:\nDate: Thursday\, November 20th\nTime: Doors open at 6:30 PM\nLocation: Wild Rock Outfitters\, 169 Charlotte St\, Peterborough\, ON\nTickets: $10 – all proceeds go to the ComPassion Project
URL:https://whattoday.ca/event/yeti-presents-a-community-film-night-with-wild-rock/
LOCATION:Wild Rock Outfitters\, 169 Charlotte St.\, Peterborough\, ON\, K9J 2T7\, Canada
CATEGORIES:Entertainment
ORGANIZER;CN="Wild Rock Outfitters":MAILTO:info@wildrock.net
END:VEVENT
BEGIN:VEVENT
DTSTART;TZID=America/Toronto:20251014T080000
DTEND;TZID=America/Toronto:20251014T090000
DTSTAMP:20260421T115507
CREATED:20250923T181354Z
LAST-MODIFIED:20250923T181354Z
UID:10026705-1760428800-1760432400@whattoday.ca
SUMMARY:ChamberAM
DESCRIPTION:
URL:https://whattoday.ca/event/chamberam-2/
LOCATION:Wild Rock Outfitters\, 169 Charlotte St.\, Peterborough\, ON\, K9J 2T7\, Canada
CATEGORIES:Business
ORGANIZER;CN="Peterborough Kawartha Chamber of Commerce":MAILTO:info@pkchamber.ca
END:VEVENT
BEGIN:VEVENT
DTSTART;TZID=America/Toronto:20250330T080000
DTEND;TZID=America/Toronto:20250330T110000
DTSTAMP:20260421T115507
CREATED:20250219T184718Z
LAST-MODIFIED:20250219T184718Z
UID:10009759-1743321600-1743332400@whattoday.ca
SUMMARY:Mountain Bike Suspension Workshop
DESCRIPTION:
URL:https://whattoday.ca/event/mountain-bike-suspension-workshop-2/
LOCATION:Wild Rock Outfitters\, 169 Charlotte St.\, Peterborough\, ON\, K9J 2T7\, Canada
CATEGORIES:Workshops
ORGANIZER;CN="Wild Rock Outfitters":MAILTO:info@wildrock.net
END:VEVENT
BEGIN:VEVENT
DTSTART;TZID=America/Toronto:20250223T080000
DTEND;TZID=America/Toronto:20250223T110000
DTSTAMP:20260421T115507
CREATED:20250219T184651Z
LAST-MODIFIED:20250219T184651Z
UID:10009758-1740297600-1740308400@whattoday.ca
SUMMARY:Mountain Bike Suspension Workshop
DESCRIPTION:
URL:https://whattoday.ca/event/mountain-bike-suspension-workshop/
LOCATION:Wild Rock Outfitters\, 169 Charlotte St.\, Peterborough\, ON\, K9J 2T7\, Canada
CATEGORIES:Workshops
ORGANIZER;CN="Wild Rock Outfitters":MAILTO:info@wildrock.net
END:VEVENT
END:VCALENDAR